BEGIN:VCALENDAR
VERSION:2.0
PRODID:-//Octubre Centre de Cultura Contemporània - ECPv5.1.6//NONSGML v1.0//EN
CALSCALE:GREGORIAN
METHOD:PUBLISH
X-WR-CALNAME:Octubre Centre de Cultura Contemporània
X-ORIGINAL-URL:https://octubre.cat
X-WR-CALDESC:Events for Octubre Centre de Cultura Contemporània
BEGIN:VTIMEZONE
TZID:Europe/Andorra
BEGIN:DAYLIGHT
TZOFFSETFROM:+0100
TZOFFSETTO:+0200
TZNAME:CEST
DTSTART:20260329T010000
END:DAYLIGHT
BEGIN:STANDARD
TZOFFSETFROM:+0200
TZOFFSETTO:+0100
TZNAME:CET
DTSTART:20261025T010000
END:STANDARD
END:VTIMEZONE
BEGIN:VEVENT
DTSTART;TZID=Europe/Andorra:20260610T180000
DTEND;TZID=Europe/Andorra:20260610T180000
DTSTAMP:20260421T032806
CREATED:20260120T182552Z
LAST-MODIFIED:20260206T055836Z
UID:24823-1781114400-1781114400@octubre.cat
SUMMARY:Cinema: GEN_\, de Gianluca Matarrese
DESCRIPTION:A l’hospital públic Niguarda de Milà\, el poc convencional doctor Bini lidera una missió valenta supervisant futurs pares que se sotmeten a la fecundació in vitro i els processos de persones que busquen reconciliar els seus cossos amb la seva identitat de gènere. Ell navega entre les restriccions imposades per un govern conservador i un mercat agressiu ansiós per convertir els cossos en mercaderia. \n  \n \n  \nDirecció: Gianluca Matarrese\nTítol original: GEN_\nSo: Gianluca Matarrese\nProducció: Parlermo Donatella\, Dominique Barneaud\, Alexandre Iordachescu\nCoproducció: França – Itàlia\, 2025\nVO en italià subtitulada en català\nDurada: 104’ \n  \n \n  \nCicle “Acció Documental +” organitzat per ACICOM i ACPV. DocsBarcelona / El documental del mes.
URL:https://octubre.cat/activitat/cinema-gen-de-gianluca-matarrese/
LOCATION:Sala d’actes
CATEGORIES:Acció Documental +
ATTACH;FMTTYPE=image/jpeg:https://octubre.cat/www/wp-content/uploads/2026/01/GEN_-Still3-2048x1152-1.jpeg
END:VEVENT
END:VCALENDAR