BEGIN:VCALENDAR
VERSION:2.0
PRODID:-//Octubre Centre de Cultura Contemporània - ECPv5.1.6//NONSGML v1.0//EN
CALSCALE:GREGORIAN
METHOD:PUBLISH
X-WR-CALNAME:Octubre Centre de Cultura Contemporània
X-ORIGINAL-URL:https://octubre.cat
X-WR-CALDESC:Events for Octubre Centre de Cultura Contemporània
BEGIN:VTIMEZONE
TZID:Europe/Andorra
BEGIN:DAYLIGHT
TZOFFSETFROM:+0100
TZOFFSETTO:+0200
TZNAME:CEST
DTSTART:20260329T010000
END:DAYLIGHT
BEGIN:STANDARD
TZOFFSETFROM:+0200
TZOFFSETTO:+0100
TZNAME:CET
DTSTART:20261025T010000
END:STANDARD
END:VTIMEZONE
BEGIN:VEVENT
DTSTART;TZID=Europe/Andorra:20260417T193000
DTEND;TZID=Europe/Andorra:20260530T210000
DTSTAMP:20260420T113259
CREATED:20260331T085336Z
LAST-MODIFIED:20260416T093707Z
UID:25163-1776454200-1780174800@octubre.cat
SUMMARY:«En el centenari de Vicent Gómez García (1926-2026). Diàlegs»
DESCRIPTION:«En el centenari de Vicent Gómez García (1926-2026) \nDiàlegs amb Salvador Victoria Marz\, Josep-Marí Gómez Lozano i Joan Gómez Alemany» \nExposició a l’Octubre CCC del 17 d’abril al 30 de maig de 2026. \nComissariada per Javier Moral Martín i Joan Gómez Alemany\, mostrem quatre propostes artístiques que\, més enllà de les evidents diferències entre els seus estils i mitjans artístics\, permet presentar als artistes en un diàleg estètic i vital significatiu. Les obres es mostren a la sala des d’esta dualitat: respectar la individualitat i particularitat de cada artista\, però intentant posar-los en relació perquè\, de la fricció\, sorgisquen nous sons que ressonen de manera musical. Al respecte\, els diversos noms\, i fins i tot mitjans i períodes en què es desenrotllen les obres\, a vegades es barregen i confonen\, potenciant un muntatge quasi cinematogràfic que perseguix\, en última instància\, despertar l’emoció i la reflexió de l’espectador. \n  \n \n  \nMés informació al nostre blog.
URL:https://octubre.cat/activitat/en-el-centenari-de-vicent-gomez-garcia-1926-2026-dialegs-amb-salvador-victoria-marz-josep-mari-gomez-lozano-i-joan-gomez-alemany/
LOCATION:Sala d’exposicions
CATEGORIES:Exposicions
ATTACH;FMTTYPE=image/jpeg:https://octubre.cat/www/wp-content/uploads/2026/03/1000036659_Cort-1-scaled.jpg
END:VEVENT
BEGIN:VEVENT
DTSTART;TZID=Europe/Andorra:20260513T180000
DTEND;TZID=Europe/Andorra:20260513T180000
DTSTAMP:20260420T113300
CREATED:20260120T181543Z
LAST-MODIFIED:20260121T074816Z
UID:24818-1778695200-1778695200@octubre.cat
SUMMARY:Cinema:  Escrivint Hawa \, de Najiba Noori i Rasul Noori
DESCRIPTION:La Hawa\, que va ser obligada a casar-se quan era una nena\, comença una vida independent i aprèn a llegir i escriure amb 52 anys. Però amb el retorn dels talibans al poder\, els seus somnis —juntament amb els de la seva filla\, la directora del documental\, i la seva neta— es trenquen i afronten noves dificultats: un relat commovedor de tres generacions de dones afganeses que lluiten per la llibertat. \n  \n \n  \nDirecció: Najiba Noori i Rasul Noori\nTítol original: Writing Hawa\nSo: Tim van Peppen\nProducció: TAG Film\nCoproducció: França – Països Baixos – Afghanistan – Qatar\, 2024\nVO en persa subtitulada en català\nDurada: 84’ \n  \n \n  \nCicle “Acció Documental +” organitzat per ACICOM i ACPV. DocsBarcelona / El documental del mes.
URL:https://octubre.cat/activitat/cinema-escrivint-hawa-de-najiba-noori-i-rasul-noori/
LOCATION:Sala d’actes
CATEGORIES:Acció Documental +
ATTACH;FMTTYPE=image/jpeg:https://octubre.cat/www/wp-content/uploads/2026/01/68c0190b0e780627354382.jpeg
END:VEVENT
END:VCALENDAR