BEGIN:VCALENDAR
VERSION:2.0
PRODID:-//Octubre Centre de Cultura Contemporània - ECPv5.1.6//NONSGML v1.0//EN
CALSCALE:GREGORIAN
METHOD:PUBLISH
X-WR-CALNAME:Octubre Centre de Cultura Contemporània
X-ORIGINAL-URL:https://octubre.cat
X-WR-CALDESC:Events for Octubre Centre de Cultura Contemporània
BEGIN:VTIMEZONE
TZID:Europe/Andorra
BEGIN:DAYLIGHT
TZOFFSETFROM:+0100
TZOFFSETTO:+0200
TZNAME:CEST
DTSTART:20260329T010000
END:DAYLIGHT
BEGIN:STANDARD
TZOFFSETFROM:+0200
TZOFFSETTO:+0100
TZNAME:CET
DTSTART:20261025T010000
END:STANDARD
END:VTIMEZONE
BEGIN:VEVENT
DTSTART;TZID=Europe/Andorra:20260417T193000
DTEND;TZID=Europe/Andorra:20260530T210000
DTSTAMP:20260420T113134
CREATED:20260331T085336Z
LAST-MODIFIED:20260416T093707Z
UID:25163-1776454200-1780174800@octubre.cat
SUMMARY:«En el centenari de Vicent Gómez García (1926-2026). Diàlegs»
DESCRIPTION:«En el centenari de Vicent Gómez García (1926-2026) \nDiàlegs amb Salvador Victoria Marz\, Josep-Marí Gómez Lozano i Joan Gómez Alemany» \nExposició a l’Octubre CCC del 17 d’abril al 30 de maig de 2026. \nComissariada per Javier Moral Martín i Joan Gómez Alemany\, mostrem quatre propostes artístiques que\, més enllà de les evidents diferències entre els seus estils i mitjans artístics\, permet presentar als artistes en un diàleg estètic i vital significatiu. Les obres es mostren a la sala des d’esta dualitat: respectar la individualitat i particularitat de cada artista\, però intentant posar-los en relació perquè\, de la fricció\, sorgisquen nous sons que ressonen de manera musical. Al respecte\, els diversos noms\, i fins i tot mitjans i períodes en què es desenrotllen les obres\, a vegades es barregen i confonen\, potenciant un muntatge quasi cinematogràfic que perseguix\, en última instància\, despertar l’emoció i la reflexió de l’espectador. \n  \n \n  \nMés informació al nostre blog.
URL:https://octubre.cat/activitat/en-el-centenari-de-vicent-gomez-garcia-1926-2026-dialegs-amb-salvador-victoria-marz-josep-mari-gomez-lozano-i-joan-gomez-alemany/
LOCATION:Sala d’exposicions
CATEGORIES:Exposicions
ATTACH;FMTTYPE=image/jpeg:https://octubre.cat/www/wp-content/uploads/2026/03/1000036659_Cort-1-scaled.jpg
END:VEVENT
BEGIN:VEVENT
DTSTART;TZID=Europe/Andorra:20260507T190000
DTEND;TZID=Europe/Andorra:20260507T190000
DTSTAMP:20260420T113134
CREATED:20260402T084241Z
LAST-MODIFIED:20260402T084241Z
UID:25188-1778180400-1778180400@octubre.cat
SUMMARY:Presentació del llibre Retalls\, de Pere Rosa
DESCRIPTION:Amb l’autor acompanyat per Manel Pérez. \n«Un món tot ple\, com ma vida\, de literatura\, d’art\, de cinema\, de teatre\, de música\, de viatges\, de sentiments solidaris amb aquells més desfavorits i contraris a les injustícies\, que creixen al caliu de l’amistat\, quan la papallona desplega les seues ales cercant encoratjament i decisió» \n  \n \n  \nPere Rosa (Martos\, Jaén\, 1949) és autor dels llibres Banda sonora i Ictus i també ha col·laborat en Fuera de campo\, llibre fotogràfic de la seua esposa Maribel Gómez.
URL:https://octubre.cat/activitat/presentacio-del-llibre-retalls-de-pere-rosa/
LOCATION:Aula 1
CATEGORIES:Literatura
ATTACH;FMTTYPE=image/jpeg:https://octubre.cat/www/wp-content/uploads/2021/03/llibres.jpg
END:VEVENT
BEGIN:VEVENT
DTSTART;TZID=Europe/Andorra:20260507T200000
DTEND;TZID=Europe/Andorra:20260507T200000
DTSTAMP:20260420T113134
CREATED:20260218T100855Z
LAST-MODIFIED:20260219T175721Z
UID:25050-1778184000-1778184000@octubre.cat
SUMMARY:BarnaSants 2026: Selma Bruna
DESCRIPTION:Selma Bruna presenta a València un concert íntim en solitari on la veu esdevé espai de resistència i memòria. \nDesprés del camí recorregut amb Marala\, inicia una nova etapa artística que posa al centre el cant com a gest polític i comunitari\, en paral·lel a la seva feina actual creant música per a espectacles escènics i bandes sonores. Amb la col·laboració especial de Salma Alhakim\, el repertori combina cançons tradicionals i composicions originals per teixir un relat sonor arrelat al territori i obert al present. \nEl repertori transita entre composicions pròpies\, cants d’arrel i paisatges sonors minimalistes que conviden a escoltar des de la presència. En un món accelerat\, la proposta defensa la fragilitat\, la tradició viva i la força del cos que canta\, reivindicant la llengua i la música com a espais de trobada. \n  \n \n—\nConcert organitzat pel Festival BarnaSants amb la col·laboració de l’Octubre CCC.
URL:https://octubre.cat/activitat/barnasants-2026-selma-bruna/
LOCATION:Sala d’actes
CATEGORIES:BarnaSants 2026
ATTACH;FMTTYPE=image/jpeg:https://octubre.cat/www/wp-content/uploads/2026/02/Selma-Bruna.jpeg
END:VEVENT
END:VCALENDAR