BEGIN:VCALENDAR
VERSION:2.0
PRODID:-//Octubre Centre de Cultura Contemporània - ECPv5.1.6//NONSGML v1.0//EN
CALSCALE:GREGORIAN
METHOD:PUBLISH
X-WR-CALNAME:Octubre Centre de Cultura Contemporània
X-ORIGINAL-URL:https://octubre.cat
X-WR-CALDESC:Events for Octubre Centre de Cultura Contemporània
BEGIN:VTIMEZONE
TZID:Europe/Andorra
BEGIN:DAYLIGHT
TZOFFSETFROM:+0100
TZOFFSETTO:+0200
TZNAME:CEST
DTSTART:20260329T010000
END:DAYLIGHT
BEGIN:STANDARD
TZOFFSETFROM:+0200
TZOFFSETTO:+0100
TZNAME:CET
DTSTART:20261025T010000
END:STANDARD
END:VTIMEZONE
BEGIN:VEVENT
DTSTART;TZID=Europe/Andorra:20260417T193000
DTEND;TZID=Europe/Andorra:20260530T210000
DTSTAMP:20260420T102350
CREATED:20260331T085336Z
LAST-MODIFIED:20260416T093707Z
UID:25163-1776454200-1780174800@octubre.cat
SUMMARY:«En el centenari de Vicent Gómez García (1926-2026). Diàlegs»
DESCRIPTION:«En el centenari de Vicent Gómez García (1926-2026) \nDiàlegs amb Salvador Victoria Marz\, Josep-Marí Gómez Lozano i Joan Gómez Alemany» \nExposició a l’Octubre CCC del 17 d’abril al 30 de maig de 2026. \nComissariada per Javier Moral Martín i Joan Gómez Alemany\, mostrem quatre propostes artístiques que\, més enllà de les evidents diferències entre els seus estils i mitjans artístics\, permet presentar als artistes en un diàleg estètic i vital significatiu. Les obres es mostren a la sala des d’esta dualitat: respectar la individualitat i particularitat de cada artista\, però intentant posar-los en relació perquè\, de la fricció\, sorgisquen nous sons que ressonen de manera musical. Al respecte\, els diversos noms\, i fins i tot mitjans i períodes en què es desenrotllen les obres\, a vegades es barregen i confonen\, potenciant un muntatge quasi cinematogràfic que perseguix\, en última instància\, despertar l’emoció i la reflexió de l’espectador. \n  \n \n  \nMés informació al nostre blog.
URL:https://octubre.cat/activitat/en-el-centenari-de-vicent-gomez-garcia-1926-2026-dialegs-amb-salvador-victoria-marz-josep-mari-gomez-lozano-i-joan-gomez-alemany/
LOCATION:Sala d’exposicions
CATEGORIES:Exposicions
ATTACH;FMTTYPE=image/jpeg:https://octubre.cat/www/wp-content/uploads/2026/03/1000036659_Cort-1-scaled.jpg
END:VEVENT
BEGIN:VEVENT
DTSTART;TZID=Europe/Andorra:20260422T180000
DTEND;TZID=Europe/Andorra:20260422T180000
DTSTAMP:20260420T102350
CREATED:20260416T091559Z
LAST-MODIFIED:20260416T091559Z
UID:25262-1776880800-1776880800@octubre.cat
SUMMARY:Visita guiada a l’exposició «En el centenari de Vicent Gómez García (1926-2026). Diàlegs»
DESCRIPTION:Visita guiada a l’exposició «En el centenari de Vicent Gómez García (1926-2026). Diàlegs». \nLa visita anirà a càrrec de l’artista Josep-Marí Gómez Lozano. \nPer assistir-hi cal que envieu un correu a info@octubre.cat indicant les vostres dades: nom\, telèfon i nombre de participants. En l’assumpte del missatge feu constar el text “Visita exposició”. Confirmarem la inscripció amb antelació suficient. \nPLACES LIMITADES
URL:https://octubre.cat/activitat/visita-guiada-a-lexposicio-en-el-centenari-de-vicent-gomez-garcia-1926-2026-dialegs/
LOCATION:Sala d’exposicions
CATEGORIES:Exposicions
ATTACH;FMTTYPE=image/jpeg:https://octubre.cat/www/wp-content/uploads/2026/03/Abstraccio-geometrica-Serie-III-2000-2012-de-Vicent-Gomez-Garcia-scaled.jpg
END:VEVENT
BEGIN:VEVENT
DTSTART;TZID=Europe/Andorra:20260422T190000
DTEND;TZID=Europe/Andorra:20260422T190000
DTSTAMP:20260420T102351
CREATED:20251030T123039Z
LAST-MODIFIED:20260225T154004Z
UID:23907-1776884400-1776884400@octubre.cat
SUMMARY:Bar de Ciències «El problema dels incendis forestals se soluciona amb més mitjans i tecnologia?»\, amb Juli G. Pausas
DESCRIPTION:Amb motiu de la publicació del llibre Incendios forestales. Una introducción a la ecología del fuego (Catarata\, 2024) \nAmb la participació de:\n—Juli G. Pausas\, Centre d’Investigació sobre Desertificació CIDE (CSIC-Universitat de València-Generalitat Valenciana)\, autor del llibre\n—Reis Juan\, periodista \nL’augment dels incendis i de la seua sorprenent dimensió no se soluciona amb més mitjans sinó amb un coneixement millor del que crema: les plantes. \n  \n \n—\nL’Espai Ciència de l’Octubre CCC és una iniciativa de l’Institut d’Estudis Catalans i compta amb la col·laboració d’Acció Cultural del País Valencià\, la Unitat de Cultura Científica i Innovació / Càtedra de Divulgació de la Ciència de la UV\, la Fundació Espanyola per a la Ciència i la Tecnologia\, el Consell Superior d’Investigacions Científiques\, la llibreria Fan Set i la revista Mètode.
URL:https://octubre.cat/activitat/bar-de-ciencies-el-problema-dels-incendis-forestals-se-soluciona-amb-mes-mitjans-i-tecnologia-amb-juli-g-pausas/
LOCATION:Cafeteria
CATEGORIES:Espai Ciència
ATTACH;FMTTYPE=image/jpeg:https://octubre.cat/www/wp-content/uploads/2025/10/juli-pausas.jpg
END:VEVENT
BEGIN:VEVENT
DTSTART;TZID=Europe/Andorra:20260422T193000
DTEND;TZID=Europe/Andorra:20260422T193000
DTSTAMP:20260420T102351
CREATED:20260410T122054Z
LAST-MODIFIED:20260410T142943Z
UID:25247-1776886200-1776886200@octubre.cat
SUMMARY:Projecció CINEA en curt: diàlegs audiovisuals
DESCRIPTION:Amb motiu de l’exposició “En el centenari de Vicent Gómez García (1926-2026)\, diàlegs amb Salvador Victoria Marz\, Josep-Marí Gómez Lozano i Joan Gómez Alemany”\, celebrada a l’Octubre Centre de Cultura Contemporània\, s’ha organitzat una sessió paral·lela en què es projectaran quatre peces audiovisuals que\, seguint l’esperit de l’exposició\, dialoguen entre si des de perspectives estètiques complementàries. L’acte començarà amb la presentació dels comissaris del cicle\, que explicaran tant què és CINEA  com el punt de partida del cicle. Tot seguit\, els artistes presentaran els seus treballs i es projectaran a continuació. La sessió finalitzarà amb un col·loqui obert al públic. \nComissaris del cicle de curtmetratges: Javier Moral Martín i Jordi Revert Gomis\nDuració: L’acte complet durarà aproximadament 90’ \nEntrada: gratuïta \nEl cicle està compost pels següents curtmetratges: \n \nEl instante (2022) – 8’ – Orisel Castro López\nValentina (7) llig un passatge de Zaratustra\, “La visió i l’enigma”\, a través de la boira d’una pel·lícula vençuda. Les fotos i els carrers empedrats d’una vella ciutat europea es dissolen en espirals de la mirada sobre el record de la vida quotidiana: “¿el simple mirar no és mirar abismes?”\nEn una altra dimensió\, una família local discuteix a la llunyania entre la fumera de camps en flames. Una àguila torna al braç del falconer i es perd entre els núvols davant de les muntanyes. Un instant pot ser un segon o una eternitat. \n  \n \nArchive Delirium (2022) – 12’ – Joan Gómez Alemany\nArchive Delirium està formada per imatges que deriven de les formes plàstiques d’una partitura i illes sonores descompostes\, on els instruments i l’electrònica funcionen com a mòduls autònoms\, lliures\, però en completa cooperació sense una jerarquia fixa. Podem pensar que les nombroses línies i formes que es veuen a la imatge són com contenidors o arxius de sons electrònics i en deliri. La pantalla digital o la trama de píxels és com un pentagrama que\, amb les seues vibracions visuals\, crea una sinestèsia sonora. \n  \n \nDel Túria al Guadalquivir (2019-2020) – 15’ – Alicia Palacios Ferri\nEn aquest curtmetratge\, Antonio Ferri García conta la història de la seua vida\, començant al marjal valencià i acabant a les maresmes del Guadalquivir. Amb aquest curtmetratge es pretén homenatjar tots aquells que deixaren casa seua per endinsar-se en un mar de fang. Donar a conéixer allò que realment va succeir a les maresmes. Contar la història que hi ha darrere del paisatge \n  \n \nMasŷid al-Ŷāmi‘ (2026) – 4’ – Rubén Marín Ramos\nMasŷid al-Ŷāmi‘ és una peça en blanc i negre construïda fotograma a fotograma\, en què la quietud de la imatge —la d’un edifici religiós— contrasta amb el moviment veloç del muntatge i el flux de turistes que recorre l’espai. Les oscil·lacions de la càmera deformen les imatges\, creant formes i esclats fugaços\, mentre la velocitat del muntatge entrellaça els elements islàmics i cristians\, transformant la Mesquita-Catedral de Còrdova en un espai visual inestable i poètic. \n  \n(CINEA)
URL:https://octubre.cat/activitat/cinea-en-curt-dialegs-audiovisuals/
LOCATION:Sala d’actes
CATEGORIES:Cinema
ATTACH;FMTTYPE=image/png:https://octubre.cat/www/wp-content/uploads/2026/04/CINEA-en-curt-dialegs-audiovisuals.png
END:VEVENT
END:VCALENDAR