BEGIN:VCALENDAR
VERSION:2.0
PRODID:-//Octubre Centre de Cultura Contemporània - ECPv5.1.6//NONSGML v1.0//EN
CALSCALE:GREGORIAN
METHOD:PUBLISH
X-WR-CALNAME:Octubre Centre de Cultura Contemporània
X-ORIGINAL-URL:https://octubre.cat
X-WR-CALDESC:Events for Octubre Centre de Cultura Contemporània
BEGIN:VTIMEZONE
TZID:Europe/Andorra
BEGIN:DAYLIGHT
TZOFFSETFROM:+0100
TZOFFSETTO:+0200
TZNAME:CEST
DTSTART:20260329T010000
END:DAYLIGHT
BEGIN:STANDARD
TZOFFSETFROM:+0200
TZOFFSETTO:+0100
TZNAME:CET
DTSTART:20261025T010000
END:STANDARD
END:VTIMEZONE
BEGIN:VEVENT
DTSTART;TZID=Europe/Andorra:20260416T183000
DTEND;TZID=Europe/Andorra:20260416T193000
DTSTAMP:20260420T102445
CREATED:20260407T093344Z
LAST-MODIFIED:20260408T125742Z
UID:25221-1776364200-1776367800@octubre.cat
SUMMARY:Presentació de l'obra de teatre Lʼaigua\, els morts i les mentides de Joan Cavallé
DESCRIPTION:Amb pròleg de Francesc Foguet i Manuel Molins\, editat per Arola editors. \nPresentarà l’obra la periodista Esperança Camps. En llegiran fragments l’actor Paco Alegre\, la professora Anna Gascón i el dramaturg Manuel Molins. \nEl dia 29 de novembre de 2024\, una intensa pluja afectà profundament les comarques centrals del País Valencià. El nombre de víctimes mortals\, juntament a la destrucció que causà\, convertien aquesta data en una fita que serà difícil d’oblidar per molta gent. A la potència de l’aigua i a la conseqüència de les morts\, va sumar-s’hi l’allau de mentides que van proferir-se aquell dia i en dies i mesos posteriors\, tant per negar evidències (canvi climàtic\, urbanisme descontrolat…) com per eludir responsabilitats davant la justícia. Aquestes tres paraules\, aigua\, morts i mentides\, es converteixen\, així\, en els eixos d’aquesta proposta teatral de Joan Cavallé que\, tal com diuen Manuel Molins i Francesc Foguet en el pròleg\, Peus descalços sota la lluna d’agost (2009) i Qui em cremarà la casa? (2025)\, que emula de manera deliberada alguns procediments de la tragèdia grega. \n \n(Arola Editors)
URL:https://octubre.cat/activitat/presentacio-del-llibre-l%ca%bcaigua-els-morts-i-les-mentides-de-joan-cavalle/
LOCATION:Llibreria Fan Set
CATEGORIES:Literatura
ATTACH;FMTTYPE=image/jpeg:https://octubre.cat/www/wp-content/uploads/2026/04/Joan_CavallE_G_Tall.jpg
END:VEVENT
BEGIN:VEVENT
DTSTART;TZID=Europe/Andorra:20260416T200000
DTEND;TZID=Europe/Andorra:20260416T200000
DTSTAMP:20260420T102445
CREATED:20260218T100137Z
LAST-MODIFIED:20260330T095441Z
UID:25047-1776369600-1776369600@octubre.cat
SUMMARY:BarnaSants 2026: Penalba & Gené
DESCRIPTION:D’un temps\, d’un país. 30 anys \nL’any 1996\, Joan Manuel Serrat va celebrar al Palau Sant Jordi un homenatge als seus companys de la Nova Cançó i a alguns autors i poetes que van influir en el seu desenvolupament. D’aquell concert en va sortir un doble disc titulat Banda Sonora d’un temps\, d’un país. \nTrenta anys després d’aquell homenatge\, Borja Penalba i Meritxell Gené s’han reunit per tornar-hi. Després de l’èxit de la preestrena als Estats Units\, Penalba i Gené arriben amb D’un temps\, d’un país. 30 anys\, un espectacle de nova creació d’homenatge als grans noms de la Nova Cançó\, produït pel Festival Barnasants\, i que ara presenten al País Valencià. \n  \n \n—\nConcert organitzat pel Festival BarnaSants amb la col·laboració de l’Octubre CCC.
URL:https://octubre.cat/activitat/barnasants-2026-penalba-gene/
LOCATION:Sala d’actes
CATEGORIES:BarnaSants 2026
ATTACH;FMTTYPE=image/jpeg:https://octubre.cat/www/wp-content/uploads/2026/02/meritxell-borja-scaled-1.jpeg
END:VEVENT
END:VCALENDAR