BEGIN:VCALENDAR
VERSION:2.0
PRODID:-//Octubre Centre de Cultura Contemporània - ECPv5.1.6//NONSGML v1.0//EN
CALSCALE:GREGORIAN
METHOD:PUBLISH
X-WR-CALNAME:Octubre Centre de Cultura Contemporània
X-ORIGINAL-URL:https://octubre.cat
X-WR-CALDESC:Events for Octubre Centre de Cultura Contemporània
BEGIN:VTIMEZONE
TZID:Europe/Andorra
BEGIN:DAYLIGHT
TZOFFSETFROM:+0100
TZOFFSETTO:+0200
TZNAME:CEST
DTSTART:20260329T010000
END:DAYLIGHT
BEGIN:STANDARD
TZOFFSETFROM:+0200
TZOFFSETTO:+0100
TZNAME:CET
DTSTART:20261025T010000
END:STANDARD
END:VTIMEZONE
BEGIN:VEVENT
DTSTART;TZID=Europe/Andorra:20260331T190000
DTEND;TZID=Europe/Andorra:20260331T190000
DTSTAMP:20260420T102432
CREATED:20260305T103102Z
LAST-MODIFIED:20260305T103102Z
UID:25091-1774983600-1774983600@octubre.cat
SUMMARY:Presentació del Libro de maravillas\, de Vicent Andrés Estellés
DESCRIPTION:Traducció de Paco Cerdà. \nPaco Cerdà i Rafa Lahuerta dialoguen en torn al Libro de maravillas\, la primera traducció al castellà\, 55 anys després\, del poemari més popular de Vicent Andrés Estellés. \nUna conversa sobre València\, la memòria\, el poeta\, l’escriptura de la ciutat i totes les meravelles d’un clàssic. \n  \n \n(Pepitas de Calabaza)
URL:https://octubre.cat/activitat/presentacio-del-libro-de-maravillas-de-vicent-andres-estelles/
LOCATION:Llibreria Fan Set
CATEGORIES:Literatura
ATTACH;FMTTYPE=image/jpeg:https://octubre.cat/www/wp-content/uploads/2024/01/estelles-any.jpg
END:VEVENT
END:VCALENDAR