BEGIN:VCALENDAR
VERSION:2.0
PRODID:-//Octubre Centre de Cultura Contemporània - ECPv5.1.6//NONSGML v1.0//EN
CALSCALE:GREGORIAN
METHOD:PUBLISH
X-WR-CALNAME:Octubre Centre de Cultura Contemporània
X-ORIGINAL-URL:https://octubre.cat
X-WR-CALDESC:Events for Octubre Centre de Cultura Contemporània
BEGIN:VTIMEZONE
TZID:Europe/Andorra
BEGIN:DAYLIGHT
TZOFFSETFROM:+0100
TZOFFSETTO:+0200
TZNAME:CEST
DTSTART:20250330T010000
END:DAYLIGHT
BEGIN:STANDARD
TZOFFSETFROM:+0200
TZOFFSETTO:+0100
TZNAME:CET
DTSTART:20251026T010000
END:STANDARD
BEGIN:DAYLIGHT
TZOFFSETFROM:+0100
TZOFFSETTO:+0200
TZNAME:CEST
DTSTART:20260329T010000
END:DAYLIGHT
BEGIN:STANDARD
TZOFFSETFROM:+0200
TZOFFSETTO:+0100
TZNAME:CET
DTSTART:20261025T010000
END:STANDARD
END:VTIMEZONE
BEGIN:VEVENT
DTSTART;TZID=Europe/Andorra:20251211T190000
DTEND;TZID=Europe/Andorra:20260327T210000
DTSTAMP:20260420T113730
CREATED:20251116T105155Z
LAST-MODIFIED:20260323T101358Z
UID:24001-1765479600-1774645200@octubre.cat
SUMMARY:Artur Heras: «El Mal. Auschwitz 1945 – Gaza 2025»
DESCRIPTION:Aquesta exposició remet a moments dramàtics de la història contemporània de record escruixidor i\, al mateix temps\, apel·la a la necessitat de fer front a la seua plausible repetició sota la forma\, si no d’un retorn del que és idèntic\, sí del regrés del que és molt semblant. \nUna imatge de l’Holocaust: entorn a una anciana\, un grup de xiquets\, coberts amb qualsevol tipus d’abric\, oculten els seus rostres i són dirigits cap a la seua extinció. Eixe leitmotiv construeix un total de quaranta-cinc variacions amb dibuixos que envolten a l’espectador de la mostra formant una línia de l’horitzó amb filferro espinós. En la base del dibuix: “Auschwitz 1945 – Gaza 2025” \n \n—\nComissari: Anacleto Ferrer\nProducció i organització: Acció Cultural del País Valencià
URL:https://octubre.cat/activitat/artur-heras-el-mal-auschwitz-1945-gaza-2025/
LOCATION:Sala d’exposicions
CATEGORIES:Exposicions
ATTACH;FMTTYPE=image/jpeg:https://octubre.cat/www/wp-content/uploads/2025/09/heral-el-mal.jpg
END:VEVENT
BEGIN:VEVENT
DTSTART;TZID=Europe/Andorra:20260326T120000
DTEND;TZID=Europe/Andorra:20260326T120000
DTSTAMP:20260420T113730
CREATED:20260219T101948Z
LAST-MODIFIED:20260219T101948Z
UID:25067-1774526400-1774526400@octubre.cat
SUMMARY:Visites guiades a l’exposició «El Mal» d’Artur Heras
DESCRIPTION:Tot aprofitant la pròrroga fins al 27 de març de l’exposició d’Artur Heras «El Mal. Auschwitz 1945 – Gaza 2025»\, organitzem dues noves visites guiades\, a càrrec tant de l’artista\, Artur Heras\, com del comissari Anacleto Ferrer. \nLes visites seran els dies següents: \n—Dijous 5 de març a les 18.30h \n—Dijous 26 de març a les 12.00h \nPer assistir-hi cal que envieu un correu a info@octubre.cat indicant les vostres dades (nom\, telèfon i nombre de participants) i la data en què voleu fer la visita. En l’assumpte del missatge feu constar el text “Visita exposició”. Confirmarem la inscripció amb antelació suficient. \nPLACES LIMITADES
URL:https://octubre.cat/activitat/visites-guiades-a-lexposicio-el-mal-dartur-heras-2/
LOCATION:Sala d’exposicions
CATEGORIES:Exposicions
ATTACH;FMTTYPE=image/jpeg:https://octubre.cat/www/wp-content/uploads/2026/02/expo-heras-visita.jpg
END:VEVENT
BEGIN:VEVENT
DTSTART;TZID=Europe/Andorra:20260326T190000
DTEND;TZID=Europe/Andorra:20260326T190000
DTSTAMP:20260420T113730
CREATED:20260128T165208Z
LAST-MODIFIED:20260129T084018Z
UID:24888-1774551600-1774551600@octubre.cat
SUMMARY:Presentació del llibre Josep Palàcios. Home de lletres
DESCRIPTION:Presentació a càrrec d’Antoni Furió\, Salvador Ortells i Abel Guarinos. \nAquest volum reuneix un conjunt d’estudis fonamentals sobre la vida i l’obra de Josep Palàcios (Sueca\, 1938-2025)\, un dels autors més originals i exquisits en la història recent de la nostra literatura. Els textos han estat redactats per un equip d’estudiosos conformat per Antoni Furió\, Joan Todó\, Jaume C. Pons Alorda\, Salvador Ortells\, Maria Dasca\, Francesca Cerdà\, Adrià Pujol\, Martí Domínguez i Abel Guarinos. A més\, en un apèndix\, s’hi ha adjuntat un índex bibliogràfic que recopila la intensa i dilatada trajectòria de l’escriptor. Per la nòmina de col·laboradors i l’abast dels estudis compilats\, aquesta publicació és un punt de referència en l’anàlisi d’una literatura tan complexa i polièdrica i\, alhora\, un llibre inspirat estèticament en les edicions de bibliòfil de Josep Palàcios i l’artista plàstic Manuel Boix. \n  \n \n  \n(Afons el Magnànim)
URL:https://octubre.cat/activitat/presentacio-del-llibre-home-de-lletres-de-josep-palacios/
LOCATION:Llibreria Fan Set
CATEGORIES:Literatura
ATTACH;FMTTYPE=image/jpeg:https://octubre.cat/www/wp-content/uploads/2026/01/Josep_palacios_foto_AELC.jpg
END:VEVENT
BEGIN:VEVENT
DTSTART;TZID=Europe/Andorra:20260326T200000
DTEND;TZID=Europe/Andorra:20260326T200000
DTSTAMP:20260420T113730
CREATED:20260217T110219Z
LAST-MODIFIED:20260219T175955Z
UID:25035-1774555200-1774555200@octubre.cat
SUMMARY:BarnaSants 2026: Anna Roig i Carles Belda
DESCRIPTION:Passar-la bé \nAnna Roig i Carles Belda s’uneixen en un recital a València amb el principal objectiu\, com diu el mateix títol\, de passar-la bé i fer-la passar bé al públic. Perquè per a gaudir d’una bona estona només fa falta una veu\, un acordió diatònic\, complicitat i un bon reguitzell de cançons d’aquelles que desperten el somriure als llavis i fan bategar el cor amb més força. \nVersions de diferents orígens\, autors\, èpoques i estils\, en català\, francès\, occità\, portuguès\, crioll i altres llengües estimades que son família de ben a prop. Cançons que són petites perles com «Sodade» (Cesaria Évora)\, «Dansa d’amor» (Toti Soler)\, «Una caseta» (Emili Vendrell)\, «Ninna Nanna» (Pink Martini)\, «Tomara» (Vinicius de Moraes)\, «Parlant-me de tu» (Raimon)\, entre d’altres\, amb les que els dos artistes han coincidit que els fan despertar les papallones de la panxa i les ganes de compartir. \nCom qui serveix unes cançons en la sobretaula d’un bon àpat\, com qui vol fer sentir a gust els seus convidats\, com qui vol celebrar la vida i la sort d’estar acompanyats\, Carles Belda i Anna Roig\, us conviden a passar una estona agradable\, amb tota simplicitat\, al voltant de la seva taula\, passant-la bé. \n  \n \n—\nConcert organitzat pel Festival BarnaSants amb la col·laboració de l’Octubre CCC.
URL:https://octubre.cat/activitat/barnasants-2026-anna-roig-i-carles-belda/
LOCATION:Sala d’actes
CATEGORIES:BarnaSants 2026
ATTACH;FMTTYPE=image/jpeg:https://octubre.cat/www/wp-content/uploads/2026/02/Anna-Roig-i-Carles-Belda-WEB.jpg
END:VEVENT
END:VCALENDAR