BEGIN:VCALENDAR
VERSION:2.0
PRODID:-//Octubre Centre de Cultura Contemporània - ECPv5.1.6//NONSGML v1.0//EN
CALSCALE:GREGORIAN
METHOD:PUBLISH
X-WR-CALNAME:Octubre Centre de Cultura Contemporània
X-ORIGINAL-URL:https://octubre.cat
X-WR-CALDESC:Events for Octubre Centre de Cultura Contemporània
BEGIN:VTIMEZONE
TZID:Europe/Andorra
BEGIN:DAYLIGHT
TZOFFSETFROM:+0100
TZOFFSETTO:+0200
TZNAME:CEST
DTSTART:20250330T010000
END:DAYLIGHT
BEGIN:STANDARD
TZOFFSETFROM:+0200
TZOFFSETTO:+0100
TZNAME:CET
DTSTART:20251026T010000
END:STANDARD
BEGIN:DAYLIGHT
TZOFFSETFROM:+0100
TZOFFSETTO:+0200
TZNAME:CEST
DTSTART:20260329T010000
END:DAYLIGHT
BEGIN:STANDARD
TZOFFSETFROM:+0200
TZOFFSETTO:+0100
TZNAME:CET
DTSTART:20261025T010000
END:STANDARD
END:VTIMEZONE
BEGIN:VEVENT
DTSTART;TZID=Europe/Andorra:20251211T190000
DTEND;TZID=Europe/Andorra:20260327T210000
DTSTAMP:20260420T113413
CREATED:20251116T105155Z
LAST-MODIFIED:20260323T101358Z
UID:24001-1765479600-1774645200@octubre.cat
SUMMARY:Artur Heras: «El Mal. Auschwitz 1945 – Gaza 2025»
DESCRIPTION:Aquesta exposició remet a moments dramàtics de la història contemporània de record escruixidor i\, al mateix temps\, apel·la a la necessitat de fer front a la seua plausible repetició sota la forma\, si no d’un retorn del que és idèntic\, sí del regrés del que és molt semblant. \nUna imatge de l’Holocaust: entorn a una anciana\, un grup de xiquets\, coberts amb qualsevol tipus d’abric\, oculten els seus rostres i són dirigits cap a la seua extinció. Eixe leitmotiv construeix un total de quaranta-cinc variacions amb dibuixos que envolten a l’espectador de la mostra formant una línia de l’horitzó amb filferro espinós. En la base del dibuix: “Auschwitz 1945 – Gaza 2025” \n \n—\nComissari: Anacleto Ferrer\nProducció i organització: Acció Cultural del País Valencià
URL:https://octubre.cat/activitat/artur-heras-el-mal-auschwitz-1945-gaza-2025/
LOCATION:Sala d’exposicions
CATEGORIES:Exposicions
ATTACH;FMTTYPE=image/jpeg:https://octubre.cat/www/wp-content/uploads/2025/09/heral-el-mal.jpg
END:VEVENT
BEGIN:VEVENT
DTSTART;TZID=Europe/Andorra:20260305T180000
DTEND;TZID=Europe/Andorra:20260305T180000
DTSTAMP:20260420T113413
CREATED:20260130T101545Z
LAST-MODIFIED:20260130T110529Z
UID:24903-1772733600-1772733600@octubre.cat
SUMMARY:Mostra Burkina-Veu de Cinema: Moi Zaphira!\, d’Apolline Traoré
DESCRIPTION:Presentació i col·loqui amb la participació d’Aminata Soucko\, presidenta i fundadora de l’associació Red Aminata i col·laboradora de Farmamundi.\nModera Palmira Andreu\, col·laboradora de CIM Burkina i activista pels drets humans. \nZaphira\, cansada de la vida monòtona\, la pobresa i les estrictes tradicions del seu poble\, somia amb un futur millor per a ella i la seua filla de 7 anys. Després de trobar una revista de moda que mostra joves models\, Zaphira té una revelació: la seua filla serà model\, malgrat que en el seu entorn aquesta professió és totalment desconeguda\, i malgrat també la resistència de la seua filla\, que vol ser infermera. \n  \n \n  \nDirecció: Apolline Traoré\nGuió: Apolline Traoré i Noraogo Sawadogo\nMúsica: Adama Dembelé\nRepartiment: Mariama Ouédraogo\nProducció: Les films Selmon\nBurkina Faso\, 2012\nVO en julà subtitulada en castellà\nDurada: 105’ \n—\nLa II Mostra de Cinema Compromès de Burkina Faso Burkina-Veu\, organitzada per CIM Burkina\, se celebra entre el 17 de febrer i el 19 de maig de 2026 al Centre Cultural La Nau\, el Col·legi Major Rector Peset i l’Octubre CCC.
URL:https://octubre.cat/activitat/mostra-burkina-veu-de-cinema-moi-zaphira-dapolline-traore/
LOCATION:Sala d’actes
CATEGORIES:Cinema
ATTACH;FMTTYPE=image/jpeg:https://octubre.cat/www/wp-content/uploads/2026/01/moi-zaphira-fotgram.jpg
END:VEVENT
BEGIN:VEVENT
DTSTART;TZID=Europe/Andorra:20260305T183000
DTEND;TZID=Europe/Andorra:20260305T183000
DTSTAMP:20260420T113414
CREATED:20260219T101641Z
LAST-MODIFIED:20260219T101641Z
UID:25063-1772735400-1772735400@octubre.cat
SUMMARY:Visites guiades a l’exposició «El Mal» d’Artur Heras
DESCRIPTION:Tot aprofitant la pròrroga fins al 27 de març de l’exposició d’Artur Heras «El Mal. Auschwitz 1945 – Gaza 2025»\, organitzem dues noves visites guiades\, a càrrec tant de l’artista\, Artur Heras\, com del comissari Anacleto Ferrer. \nLes visites seran els dies següents: \n—Dijous 5 de març a les 18.30h \n—Dijous 26 de març a les 12.00h \nPer assistir-hi cal que envieu un correu a info@octubre.cat indicant les vostres dades (nom\, telèfon i nombre de participants) i la data en què voleu fer la visita. En l’assumpte del missatge feu constar el text “Visita exposició”. Confirmarem la inscripció amb antelació suficient. \nPLACES LIMITADES
URL:https://octubre.cat/activitat/visites-guiades-a-lexposicio-el-mal-dartur-heras/
LOCATION:Sala d’exposicions
CATEGORIES:Exposicions
ATTACH;FMTTYPE=image/jpeg:https://octubre.cat/www/wp-content/uploads/2026/02/expo-heras-visita.jpg
END:VEVENT
BEGIN:VEVENT
DTSTART;TZID=Europe/Andorra:20260305T193000
DTEND;TZID=Europe/Andorra:20260305T193000
DTSTAMP:20260420T113414
CREATED:20260218T143012Z
LAST-MODIFIED:20260219T102909Z
UID:25039-1772739000-1772739000@octubre.cat
SUMMARY:Presentació del llibre Flos Sanctorum o Vides dels sants pares. Legenda aurea en català\, de Marinela Garcia\, Antoni Mas i Joan M. Perujo
DESCRIPTION:Presentació a càrrec de Marinela Garcia Sempere\, Antoni Mas i Miralles i Joan M. Perujo Melgar (ed.) \nAcompanyarà en la presentació Rosa Roig \nLa Legenda aurea és una col·lecció de vides de sants i festivitats eclesiàstiques compilada pel frare dominic Jacobus de Voragine en el segle XIII. Va circular per tot Europa en milers de còpies manuscrites i va ser traduïda en diferents llengües. La traducció catalana es conserva en diversos manuscrits datats entre la fi del segle XIII i el XV i en diverses edicions del segle XVI. El còdex N-III-5 conservat a El Escorial és el més antic d’una de les dues branques de la traducció. Aquest tercer volum conté quaranta-un capítols més\, des de l’episodi de la trobada de la Vera Creu fins al capítol dels sants Simplici i Faustí. Incorpora\, a més\, unes quantes vides que Voragine no va incloure en l’obra en llatí\, com la de santa Clara\, fundadora de l’orde de les Clarisses\, o les de sant Antoni framenor\, sant Ponç\, santa Quitèria i les d’altres sants amb molta tradició en els territoris de parla catalana\, com sant Feliu i sant Cugat. Destaquen especialment els capítols dedicats a santes de vida atzarosa\, ben atractius des del punt de vista narratiu\, com les santes transvestides (santa Marina i santa Teodora) o el de santa Maria Magdalena\, la pecadora que va redimir Jesús. No hi manquen sants de gran transcendència en el territori peninsular\, com l’apòstol sant Jaume. \n  \n \n  \n(Publicacions de l’Abadia de Montserrat)
URL:https://octubre.cat/activitat/presentacio-del-llibre-flos-sanctorum-o-vides-dels-sants-pares-legenda-aurea-en-catala-marinela-garcia-sempere/
LOCATION:Aula 1
CATEGORIES:Literatura
ATTACH;FMTTYPE=image/jpeg:https://octubre.cat/www/wp-content/uploads/2026/02/1000000493.jpg
END:VEVENT
END:VCALENDAR