BEGIN:VCALENDAR
VERSION:2.0
PRODID:-//Octubre Centre de Cultura Contemporània - ECPv5.1.6//NONSGML v1.0//EN
CALSCALE:GREGORIAN
METHOD:PUBLISH
X-WR-CALNAME:Octubre Centre de Cultura Contemporània
X-ORIGINAL-URL:https://octubre.cat
X-WR-CALDESC:Events for Octubre Centre de Cultura Contemporània
BEGIN:VTIMEZONE
TZID:Europe/Andorra
BEGIN:DAYLIGHT
TZOFFSETFROM:+0100
TZOFFSETTO:+0200
TZNAME:CEST
DTSTART:20250330T010000
END:DAYLIGHT
BEGIN:STANDARD
TZOFFSETFROM:+0200
TZOFFSETTO:+0100
TZNAME:CET
DTSTART:20251026T010000
END:STANDARD
BEGIN:DAYLIGHT
TZOFFSETFROM:+0100
TZOFFSETTO:+0200
TZNAME:CEST
DTSTART:20260329T010000
END:DAYLIGHT
BEGIN:STANDARD
TZOFFSETFROM:+0200
TZOFFSETTO:+0100
TZNAME:CET
DTSTART:20261025T010000
END:STANDARD
END:VTIMEZONE
BEGIN:VEVENT
DTSTART;TZID=Europe/Andorra:20251211T190000
DTEND;TZID=Europe/Andorra:20260327T210000
DTSTAMP:20260420T113953
CREATED:20251116T105155Z
LAST-MODIFIED:20260323T101358Z
UID:24001-1765479600-1774645200@octubre.cat
SUMMARY:Artur Heras: «El Mal. Auschwitz 1945 – Gaza 2025»
DESCRIPTION:Aquesta exposició remet a moments dramàtics de la història contemporània de record escruixidor i\, al mateix temps\, apel·la a la necessitat de fer front a la seua plausible repetició sota la forma\, si no d’un retorn del que és idèntic\, sí del regrés del que és molt semblant. \nUna imatge de l’Holocaust: entorn a una anciana\, un grup de xiquets\, coberts amb qualsevol tipus d’abric\, oculten els seus rostres i són dirigits cap a la seua extinció. Eixe leitmotiv construeix un total de quaranta-cinc variacions amb dibuixos que envolten a l’espectador de la mostra formant una línia de l’horitzó amb filferro espinós. En la base del dibuix: “Auschwitz 1945 – Gaza 2025” \n \n—\nComissari: Anacleto Ferrer\nProducció i organització: Acció Cultural del País Valencià
URL:https://octubre.cat/activitat/artur-heras-el-mal-auschwitz-1945-gaza-2025/
LOCATION:Sala d’exposicions
CATEGORIES:Exposicions
ATTACH;FMTTYPE=image/jpeg:https://octubre.cat/www/wp-content/uploads/2025/09/heral-el-mal.jpg
END:VEVENT
BEGIN:VEVENT
DTSTART;TZID=Europe/Andorra:20260304T183000
DTEND;TZID=Europe/Andorra:20260304T183000
DTSTAMP:20260420T113954
CREATED:20260201T192538Z
LAST-MODIFIED:20260201T192538Z
UID:24959-1772649000-1772649000@octubre.cat
SUMMARY:«Per què escriure quan podries ser "normal"?»: taller d’escriptura amb Lourdes Toledo
DESCRIPTION:Vols entrenar i millorar la teua destresa narrativa\, crear els teus propis pòdcasts\, crear continguts en les xarxes? Vols escriure un dietari o donar eixida a unes memòries literàries? T’agradaria començar a escriure relats i microrelats? Vols presentar-te a un premi literari i no saps per on començar? T’atreviries amb una novel·la? \nVine al Centre Octubre\, comencem una aventura sobre VIURE I ESCRIURE de la mà de l’escriptora Lourdes Toledo. \nCosulta la descripció del curs i els seus continguts al nostre blog \n— \nCaracterístiques del curs:\n5 sessions els dimecres 4\, 11 i 25 de març i 15 i 22 d’abril de 2026.\nHorari: de 18.30h a 20.30h\nMínim d’alumnes: 12 / màxim d’alumnes: 24 \nMatrícula:\nPúblic general: 60€\nSocis d’Acció Cultural del País Valencià: 55€ \nInscripció:\nEnvieu un correu a ltomas@octubre.cat amb les vostres dades de contacte (nom\, cognoms\, telèfon) i poseu en l’assumpte “Taller d’escriptura”.
URL:https://octubre.cat/activitat/per-que-escriure-quan-podries-ser-normal-taller-descriptura-amb-lourdes-toledo/
LOCATION:Àtic
CATEGORIES:Els tallers de l'Octubre,Literatura
ATTACH;FMTTYPE=image/jpeg:https://octubre.cat/www/wp-content/uploads/2026/02/curs-escriptura.jpg
END:VEVENT
BEGIN:VEVENT
DTSTART;TZID=Europe/Andorra:20260304T190000
DTEND;TZID=Europe/Andorra:20260304T190000
DTSTAMP:20260420T113954
CREATED:20260127T115326Z
LAST-MODIFIED:20260130T092629Z
UID:24877-1772650800-1772650800@octubre.cat
SUMMARY:Presentació del llibre Akiva. Fugint dels llops\, de Vicent Garcia Devís
DESCRIPTION:Amb l’autor acompanyat pels escriptors Martí Domínguez i Alfons Cervera. \nAkiva Bacharach i Franzisca Kleinhaus varen fugir de la seua pàtria\, Alemanya\, en novembre de 1935. Des de l’arribada del nazisme al poder\, per als jueus com ells l’única esperança era l’exili. Amb el seu fill\, Wolfgang Jakob\, i la seua filla\, Stefanie Johanna\, deixaven arrere el seu món: la casa i tot el llegat familiar\, les amistats\, el patrimoni. Després de pagar els abusius impostos decretats contra els jueus\, la família va poder travessar les fronteres i instal·lar-se a València\, on els esperava Hugo\, germà d’Akiva. Sols uns mesos més tard\, quan el colp d’estat franquista contra la Segona República s’albirava en l’horitzó\, en la seua nova casa de València\, Akiva\, Franzisca\, Wolfgang i Stefanie varen patir un esgarrifós final. \nAquest llibre de Vicent Garcia Devís és la reconstrucció de la malaurada trajectòria de la família i\, alhora\, una revisió de l’antisemitisme europeu des de l’Edat Mitjana\, que amb l’arribada del nazisme al poder a l’Alemanya va escriure una de les pàgines més aberrants de la història de la Humanitat. \n  \n \n  \n(Companyia Austrohongaresa de Vapors)
URL:https://octubre.cat/activitat/presentacio-del-llibre-akiva-fugint-dels-llops-de-vicent-garcia-devis/
LOCATION:Llibreria Fan Set
CATEGORIES:Literatura
ATTACH;FMTTYPE=image/jpeg:https://octubre.cat/www/wp-content/uploads/2026/01/vicent-garcia-devis.jpg
END:VEVENT
END:VCALENDAR