BEGIN:VCALENDAR
VERSION:2.0
PRODID:-//Octubre Centre de Cultura Contemporània - ECPv5.1.6//NONSGML v1.0//EN
CALSCALE:GREGORIAN
METHOD:PUBLISH
X-WR-CALNAME:Octubre Centre de Cultura Contemporània
X-ORIGINAL-URL:https://octubre.cat
X-WR-CALDESC:Events for Octubre Centre de Cultura Contemporània
BEGIN:VTIMEZONE
TZID:Europe/Andorra
BEGIN:DAYLIGHT
TZOFFSETFROM:+0100
TZOFFSETTO:+0200
TZNAME:CEST
DTSTART:20250330T010000
END:DAYLIGHT
BEGIN:STANDARD
TZOFFSETFROM:+0200
TZOFFSETTO:+0100
TZNAME:CET
DTSTART:20251026T010000
END:STANDARD
BEGIN:DAYLIGHT
TZOFFSETFROM:+0100
TZOFFSETTO:+0200
TZNAME:CEST
DTSTART:20260329T010000
END:DAYLIGHT
BEGIN:STANDARD
TZOFFSETFROM:+0200
TZOFFSETTO:+0100
TZNAME:CET
DTSTART:20261025T010000
END:STANDARD
END:VTIMEZONE
BEGIN:VEVENT
DTSTART;TZID=Europe/Andorra:20251211T190000
DTEND;TZID=Europe/Andorra:20260327T210000
DTSTAMP:20260420T124836
CREATED:20251116T105155Z
LAST-MODIFIED:20260323T101358Z
UID:24001-1765479600-1774645200@octubre.cat
SUMMARY:Artur Heras: «El Mal. Auschwitz 1945 – Gaza 2025»
DESCRIPTION:Aquesta exposició remet a moments dramàtics de la història contemporània de record escruixidor i\, al mateix temps\, apel·la a la necessitat de fer front a la seua plausible repetició sota la forma\, si no d’un retorn del que és idèntic\, sí del regrés del que és molt semblant. \nUna imatge de l’Holocaust: entorn a una anciana\, un grup de xiquets\, coberts amb qualsevol tipus d’abric\, oculten els seus rostres i són dirigits cap a la seua extinció. Eixe leitmotiv construeix un total de quaranta-cinc variacions amb dibuixos que envolten a l’espectador de la mostra formant una línia de l’horitzó amb filferro espinós. En la base del dibuix: “Auschwitz 1945 – Gaza 2025” \n \n—\nComissari: Anacleto Ferrer\nProducció i organització: Acció Cultural del País Valencià
URL:https://octubre.cat/activitat/artur-heras-el-mal-auschwitz-1945-gaza-2025/
LOCATION:Sala d’exposicions
CATEGORIES:Exposicions
ATTACH;FMTTYPE=image/jpeg:https://octubre.cat/www/wp-content/uploads/2025/09/heral-el-mal.jpg
END:VEVENT
BEGIN:VEVENT
DTSTART;TZID=Europe/Andorra:20260211T130000
DTEND;TZID=Europe/Andorra:20260212T190000
DTSTAMP:20260420T124836
CREATED:20260108T105050Z
LAST-MODIFIED:20260211T064504Z
UID:24649-1770814800-1770922800@octubre.cat
SUMMARY:Dia de Darwin 2026 / Dia Internacional de les dones i les xiquetes en la ciència
DESCRIPTION:11 de febrer: Dia Internacional de les Dones i les Xiquetes en la Ciència\n12 de febrer: Dia de Darwin \n  \nDimecres 11 de febrer\nATENCIÓ: l’acte de dimecres 11 ha estat suspès.\nConferència\, Sala Charles Darwin\, Campus de Burjassot-Paterna de la Universitat de València\, 13.00h \n«Relats de ciència (ficció) sobre monstres esperançosos i matèria fosca genòmica»\nA càrrec de Rosa Fernández\nInstitut de Biologia Evolutiva IBE (CSIC-UPF) \n  \nDijous 12 de febrer\nBar de Ciències\, cafeteria de l’Octubre CCC\, 19.00h \n«D’on venen\, com es fan i cap a on van els nostres cervells?»\nA càrrec d’Ester Desfilis\, Universitat de Lleida\nModera: Reis Juan\, periodista \n—\nAmb el suport de:\nInstitut d’Estudis Catalans | Societat Catalana de Biologia | Acció Cultural del País Valencià | Octubre Centre de Cultura Contemporània (OCCC) | Càtedra de Divulgació de la Ciència-Unitat de Cultura Científica i Innovació de la Universitat de València (UV) | Fundació Espanyola per a la Ciència i la Tecnologia | Ministeri de Ciència\, Innovació i Universitats | Revista Mètode | Consell Superior d’Investigacions Científiques (CSIC) | Facultat de Ciències Biològiques (UV) | Museu d’Història Natural (UV) | Institut Cavanilles de Biodiversitat i Biologia Evolutiva (UV) | Institut de Biologia Integrativa de Sistemes (I2SysBio\, UV-CSIC)
URL:https://octubre.cat/activitat/dia-de-darwin-2026-dia-internacional-de-les-dones-i-les-xiquetes-en-la-ciencia/
LOCATION:Espais diversos
CATEGORIES:Espai Ciència
ATTACH;FMTTYPE=image/jpeg:https://octubre.cat/www/wp-content/uploads/2021/10/charles-darwin.jpg
END:VEVENT
BEGIN:VEVENT
DTSTART;TZID=Europe/Andorra:20260212T190000
DTEND;TZID=Europe/Andorra:20260212T190000
DTSTAMP:20260420T124836
CREATED:20260121T105832Z
LAST-MODIFIED:20260121T105832Z
UID:24840-1770922800-1770922800@octubre.cat
SUMMARY:Presentació del llibre Per a saber d'amor\, de Gaspar Jaén
DESCRIPTION:Amb l’autor acompanyat pel poeta Jaume Pérez Montaner \nEl volum arreplega tota la producció del poeta valencià\, onze llibres\, des de l’any 1974 a 2012 en un sol volum de la col·lecció Ossos d’Or. També compta amb un extens estudi introductori a càrrec del professor i crític literari Pere Ballart. \nUn Tast: \nVINT VENTS DE MARÇ \nEns estimàrem tant aquella nit\nque de tan ampla era la mar\,\ntants vaixells solcaren els ulls\nfent d’escuma la mirada\,\nque els batecs de la cambra sabien\nque els conills de vellut\nplorarien a mitjanit\,\nquan ja margalides no davallaren per l’aire\,\nanimals de la llum. \nFora\, sense adonar-nos-en\, queia la primavera\namb totes les flors obertes\ni nosaltres menjàvem pastissos blaus. \nPerò els conills són nens idiotes\ni la primavera els fa mal de cor\nquan la nit cau i no és cotó;\nper això els vidres verds que duies als ulls\nm’esquinçaren la cara perquè el plor vessés\nquan els bruixots del dia s’emportaren cel amunt\nel teu esguard sens murades. \n  \n \n(Adia)
URL:https://octubre.cat/activitat/presentacio-del-llibre-per-a-saber-damor-de-gaspar-jaen/
LOCATION:Llibreria Fan Set
CATEGORIES:Literatura
ATTACH;FMTTYPE=image/jpeg:https://octubre.cat/www/wp-content/uploads/2026/01/2024-02-08-1200x630-1.jpeg
END:VEVENT
END:VCALENDAR