BEGIN:VCALENDAR
VERSION:2.0
PRODID:-//Octubre Centre de Cultura Contemporània - ECPv5.1.6//NONSGML v1.0//EN
CALSCALE:GREGORIAN
METHOD:PUBLISH
X-WR-CALNAME:Octubre Centre de Cultura Contemporània
X-ORIGINAL-URL:https://octubre.cat
X-WR-CALDESC:Events for Octubre Centre de Cultura Contemporània
BEGIN:VTIMEZONE
TZID:Europe/Andorra
BEGIN:DAYLIGHT
TZOFFSETFROM:+0100
TZOFFSETTO:+0200
TZNAME:CEST
DTSTART:20250330T010000
END:DAYLIGHT
BEGIN:STANDARD
TZOFFSETFROM:+0200
TZOFFSETTO:+0100
TZNAME:CET
DTSTART:20251026T010000
END:STANDARD
BEGIN:DAYLIGHT
TZOFFSETFROM:+0100
TZOFFSETTO:+0200
TZNAME:CEST
DTSTART:20260329T010000
END:DAYLIGHT
BEGIN:STANDARD
TZOFFSETFROM:+0200
TZOFFSETTO:+0100
TZNAME:CET
DTSTART:20261025T010000
END:STANDARD
END:VTIMEZONE
BEGIN:VEVENT
DTSTART;TZID=Europe/Andorra:20251211T190000
DTEND;TZID=Europe/Andorra:20260327T210000
DTSTAMP:20260420T124803
CREATED:20251116T105155Z
LAST-MODIFIED:20260323T101358Z
UID:24001-1765479600-1774645200@octubre.cat
SUMMARY:Artur Heras: «El Mal. Auschwitz 1945 – Gaza 2025»
DESCRIPTION:Aquesta exposició remet a moments dramàtics de la història contemporània de record escruixidor i\, al mateix temps\, apel·la a la necessitat de fer front a la seua plausible repetició sota la forma\, si no d’un retorn del que és idèntic\, sí del regrés del que és molt semblant. \nUna imatge de l’Holocaust: entorn a una anciana\, un grup de xiquets\, coberts amb qualsevol tipus d’abric\, oculten els seus rostres i són dirigits cap a la seua extinció. Eixe leitmotiv construeix un total de quaranta-cinc variacions amb dibuixos que envolten a l’espectador de la mostra formant una línia de l’horitzó amb filferro espinós. En la base del dibuix: “Auschwitz 1945 – Gaza 2025” \n \n—\nComissari: Anacleto Ferrer\nProducció i organització: Acció Cultural del País Valencià
URL:https://octubre.cat/activitat/artur-heras-el-mal-auschwitz-1945-gaza-2025/
LOCATION:Sala d’exposicions
CATEGORIES:Exposicions
ATTACH;FMTTYPE=image/jpeg:https://octubre.cat/www/wp-content/uploads/2025/09/heral-el-mal.jpg
END:VEVENT
BEGIN:VEVENT
DTSTART;TZID=Europe/Andorra:20260129T190000
DTEND;TZID=Europe/Andorra:20260129T190000
DTSTAMP:20260420T124803
CREATED:20251116T155938Z
LAST-MODIFIED:20260119T161152Z
UID:24021-1769713200-1769713200@octubre.cat
SUMMARY:Presentació del llibre Defensionari\, de Llucia Palliser Santana
DESCRIPTION:Amb l’autora acompanyada pel poeta Joan Navarro. \nDefensionari és una purga presa a partir d’una ferida supurant que reclama alt i clar l’honestetat\, la dignitat des d’un espai fictici a través del qual l’autora convida a l’escolta\, a la reflexió. Tot i l’estranyesa inicial\, Defensionari no és una confessió opaca\, sinó una confessió a viva veu; una analèpsia en forma d’escriptura que mostra al món que\, tot i la decepció\, és possible reverdir. En el lloc des d’on s’escriu i com es planteja\, aquesta defensa radica l’efectivitat de la cura amb la qual\, com indica Sònia Moll a l’epíleg\, “vibrarà en sintonia amb el manament de l’amor a una mateixa\, a l’experiència que busca lloc en la paraula poètica\, a la vida i a la mort dels qi hem estimat malgrat totes les ventades”. \n  \n \n(Nova Editorial Moll)
URL:https://octubre.cat/activitat/presentacio-del-llibre-defensionari-de-llucia-palliser-santana/
LOCATION:Llibreria Fan Set
CATEGORIES:Literatura
ATTACH;FMTTYPE=image/jpeg:https://octubre.cat/www/wp-content/uploads/2025/11/Llucia-Palliser.jpg
END:VEVENT
BEGIN:VEVENT
DTSTART;TZID=Europe/Andorra:20260129T190000
DTEND;TZID=Europe/Andorra:20260129T190000
DTSTAMP:20260420T124803
CREATED:20260115T081830Z
LAST-MODIFIED:20260129T185132Z
UID:24761-1769713200-1769713200@octubre.cat
SUMMARY:DataBeers VLC #39
DESCRIPTION:Databeers València (@databeersvlc) i el diari La Veu del País Valencià s’uneixen per a celebrar aquesta trobada dedicada a les dades i el periodisme d’una manera relaxada\, divertida\, i amb una cervesa a la mà. \nPrograma: \nJosan Piqueres (Diari La Veu PV)\n«El contingut audiovisual dels mitjans valencians a les xarxes socials» \nAitor Muñoz (Poblet.info)\n«Quin és l’estat del valencià a les xarxes socials?» \nMarta Poblet (The Data Tank)\n«Dades\, democràcia i IA: repensat la sostenibilitat dels mitjans d’interès públic» \nManuela Albert (Universitat Politècnica de València)\n“El que la IA veu quan escolta als nostres polítics” \nPrèvia musical a càrrec de Pepe Navarro aka Pepiu de Castellar. \n  \n \n  \n—\nHo organitzen el col·lectiu Databeers VLC i l’Espai Ciència de l’Octubre CCC a amb la col·laboració de La Veu del País Valencià
URL:https://octubre.cat/activitat/databeers-vlc-39/
LOCATION:Cafeteria
CATEGORIES:DataBeers
ATTACH;FMTTYPE=image/jpeg:https://octubre.cat/www/wp-content/uploads/2026/01/Diseno-sin-titulo.jpg
END:VEVENT
END:VCALENDAR