BEGIN:VCALENDAR
VERSION:2.0
PRODID:-//Octubre Centre de Cultura Contemporània - ECPv5.1.6//NONSGML v1.0//EN
CALSCALE:GREGORIAN
METHOD:PUBLISH
X-WR-CALNAME:Octubre Centre de Cultura Contemporània
X-ORIGINAL-URL:https://octubre.cat
X-WR-CALDESC:Events for Octubre Centre de Cultura Contemporània
BEGIN:VTIMEZONE
TZID:Europe/Andorra
BEGIN:DAYLIGHT
TZOFFSETFROM:+0100
TZOFFSETTO:+0200
TZNAME:CEST
DTSTART:20250330T010000
END:DAYLIGHT
BEGIN:STANDARD
TZOFFSETFROM:+0200
TZOFFSETTO:+0100
TZNAME:CET
DTSTART:20251026T010000
END:STANDARD
BEGIN:DAYLIGHT
TZOFFSETFROM:+0100
TZOFFSETTO:+0200
TZNAME:CEST
DTSTART:20260329T010000
END:DAYLIGHT
BEGIN:STANDARD
TZOFFSETFROM:+0200
TZOFFSETTO:+0100
TZNAME:CET
DTSTART:20261025T010000
END:STANDARD
END:VTIMEZONE
BEGIN:VEVENT
DTSTART;TZID=Europe/Andorra:20251211T190000
DTEND;TZID=Europe/Andorra:20260327T210000
DTSTAMP:20260420T124813
CREATED:20251116T105155Z
LAST-MODIFIED:20260323T101358Z
UID:24001-1765479600-1774645200@octubre.cat
SUMMARY:Artur Heras: «El Mal. Auschwitz 1945 – Gaza 2025»
DESCRIPTION:Aquesta exposició remet a moments dramàtics de la història contemporània de record escruixidor i\, al mateix temps\, apel·la a la necessitat de fer front a la seua plausible repetició sota la forma\, si no d’un retorn del que és idèntic\, sí del regrés del que és molt semblant. \nUna imatge de l’Holocaust: entorn a una anciana\, un grup de xiquets\, coberts amb qualsevol tipus d’abric\, oculten els seus rostres i són dirigits cap a la seua extinció. Eixe leitmotiv construeix un total de quaranta-cinc variacions amb dibuixos que envolten a l’espectador de la mostra formant una línia de l’horitzó amb filferro espinós. En la base del dibuix: “Auschwitz 1945 – Gaza 2025” \n \n—\nComissari: Anacleto Ferrer\nProducció i organització: Acció Cultural del País Valencià
URL:https://octubre.cat/activitat/artur-heras-el-mal-auschwitz-1945-gaza-2025/
LOCATION:Sala d’exposicions
CATEGORIES:Exposicions
ATTACH;FMTTYPE=image/jpeg:https://octubre.cat/www/wp-content/uploads/2025/09/heral-el-mal.jpg
END:VEVENT
BEGIN:VEVENT
DTSTART;TZID=Europe/Andorra:20260127T190000
DTEND;TZID=Europe/Andorra:20260127T190000
DTSTAMP:20260420T124813
CREATED:20251116T154210Z
LAST-MODIFIED:20260119T092755Z
UID:24013-1769540400-1769540400@octubre.cat
SUMMARY:Presentació del llibre Com ser ambaixador d'un país sense ambaixades\, de Carles Torner
DESCRIPTION:Amb l’autor acompanyat per Gustau Muñoz. \nSi no hi tenim ambaixades\, com ho hem de fer per ser rebuts a Europa com a catalans? Els territoris fragmentats de la cultura catalana poden projectar-se units al món? Les actuacions internacionals de Pompeu Fabra\, J.V. Foix\, Mercè Rodoreda o Carles Riba als anys vint i trenta del segle XX\, com poden inspirar-nos avui? \nHi ha moltes organitzacions internacionals —acadèmiques\, esportives\, musicals\, defensores dels drets humans i la pau\, de juristes\, etc.— on la federació catalana hi té ple reconeixement\, amb veu i vot en igualtat amb altres països. Carles Torner va entrar en la vida internacional als anys vuitanta a través d’associacions d’estudiants i d’escriptors reconegudes per l’ONU i la Unesco. Va ser també director del programa de literatura de l’Institut Ramon Llull quan la cultura catalana fou convidada d’honor a les fires del llibre de Frankfurt i Guadalajara. Com ha estat la seva experiència de fer d’ambaixador? En aquest assaig s’ho pregunta i —de retorn a Catalunya després de quaranta anys de voltar món— proposa el seu decàleg. \n  \n \n(Pòrtic)
URL:https://octubre.cat/activitat/presentacio-del-llibre-com-ser-ambaixador-dun-pais-sense-ambaixades-de-carles-torner/
LOCATION:Llibreria Fan Set
CATEGORIES:Literatura
ATTACH;FMTTYPE=image/jpeg:https://octubre.cat/www/wp-content/uploads/2025/11/carles-torner.jpg
END:VEVENT
BEGIN:VEVENT
DTSTART;TZID=Europe/Andorra:20260127T190000
DTEND;TZID=Europe/Andorra:20260127T190000
DTSTAMP:20260420T124814
CREATED:20251228T173238Z
LAST-MODIFIED:20251228T173736Z
UID:24414-1769540400-1769540400@octubre.cat
SUMMARY:Palmarès Dona i Cinema: millors curts de 2025 (II)
DESCRIPTION:Millor animació:\n—Maleza\, de Carina Pierro Corso\, Espanya/Brasil/Portugal\, 5’ \nMenció curtmetratge documental:\n—Rose\, d’Annika Mayer\, Alemanya\, 17’ \nMillor curtmetratge de ficció:\n—Hafteye ba’ad\, de Nasrin Mohammadpour\, Iran\, 13’ \nMenció ex aequo curtmetratge de ficció:\n—Mierda para mamá\, de Rocío Rubio\, Espanya\, 3’ \n—\nOrganitzat per la Biennal Internacional Dona i Cinema amb la col·laboració de l’Octubre CCC.
URL:https://octubre.cat/activitat/palmares-dona-i-cinema-millors-curts-de-2025-ii/
LOCATION:Sala d’actes
CATEGORIES:Palmarès Dona i Cinema
ATTACH;FMTTYPE=image/jpeg:https://octubre.cat/www/wp-content/uploads/2025/12/dona-i-cinema-2025-capcalera.jpg
END:VEVENT
END:VCALENDAR