BEGIN:VCALENDAR
VERSION:2.0
PRODID:-//Octubre Centre de Cultura Contemporània - ECPv5.1.6//NONSGML v1.0//EN
CALSCALE:GREGORIAN
METHOD:PUBLISH
X-WR-CALNAME:Octubre Centre de Cultura Contemporània
X-ORIGINAL-URL:https://octubre.cat
X-WR-CALDESC:Events for Octubre Centre de Cultura Contemporània
BEGIN:VTIMEZONE
TZID:Europe/Andorra
BEGIN:DAYLIGHT
TZOFFSETFROM:+0100
TZOFFSETTO:+0200
TZNAME:CEST
DTSTART:20250330T010000
END:DAYLIGHT
BEGIN:STANDARD
TZOFFSETFROM:+0200
TZOFFSETTO:+0100
TZNAME:CET
DTSTART:20251026T010000
END:STANDARD
END:VTIMEZONE
BEGIN:VEVENT
DTSTART;TZID=Europe/Andorra:20251209T180000
DTEND;TZID=Europe/Andorra:20251209T180000
DTSTAMP:20260420T152727
CREATED:20251125T162832Z
LAST-MODIFIED:20251125T162832Z
UID:24065-1765303200-1765303200@octubre.cat
SUMMARY:Presentació de l’auca i les unitats didàctiques sobre Josep M. Llompart
DESCRIPTION:Amb la participació de Tomàs Llopis i Toni Espí (autors) i Anna Oliver (presidenta d’ACPV) i una lectura de poemes a càrrec de Mercé Claramunt. \n100 anys del naixement de Josep M. Llompart\nJosep M. Llompart (Palma\, 1925-1993) va ser un dels poetes\, prosistes\, traductors\, editors\, professors\, crítics literaris i activistes culturals més destacats de la segona meitat del segle xx. Consagrat a la força redemptora de les paraules\, va escriure una sèrie d’obres que primer es varen inscriure en el realisme necessari de l’època\, molt punyent per tal de despertar consciències i intentar canviar la realitat opressora d’aleshores\, per després passar al desvetllament d’altres realitats més secretes. Com a divulgador de la literatura\, va donar a conèixer\, amb sensibilitat\, entusiasme i generositat\, els clàssics\, però també les plomes del seu entorn immediat tot vinculant-se amb múltiples iniciatives que ell mateix va ajudar a fundar. A més\, va ser una persona de poderoses conviccions polítiques que sempre va oferir un suport constant a les noves fornades creatives. Per la seva ingent feinada\, i per la qualitat de la seva contribució\, se’l considera una figura fonamental a Mallorca però també en el marc general dels Països Catalans \n—\nOrganitzat per Acció Cultural del País Valencià dins de la commemoració de l’Any Llompart.
URL:https://octubre.cat/activitat/presentacio-de-lauca-i-les-unitats-didactiques-sobre-josep-m-llompart/
LOCATION:Aula 1
CATEGORIES:Literatura
ATTACH;FMTTYPE=image/jpeg:https://octubre.cat/www/wp-content/uploads/2025/11/auca-llompart.jpg
END:VEVENT
BEGIN:VEVENT
DTSTART;TZID=Europe/Andorra:20251209T190000
DTEND;TZID=Europe/Andorra:20251209T190000
DTSTAMP:20260420T152727
CREATED:20251121T082906Z
LAST-MODIFIED:20251121T082906Z
UID:24046-1765306800-1765306800@octubre.cat
SUMMARY:Cinema Dóna’m Drets: curtmetratges sobre masculinitat
DESCRIPTION:Selecció de curtmetratges sobre masculinitat\n–NENS d’Anna Martí Domingo – 15′ |Ficció | Espanya | 2024\n–PASTISSET DE XOCOLATA d’Andrea Adame i Paula Trejo Espada – 11′ | Ficció | Espanya | 2024\n–TOTEM LOBA de Verónica Echegui – 22’ | Ficció | Espanya | 2020 \nDebat posterior amb Serena Delle Donne – Agent d’Igualtat i Doctora en Comunicació Intercultural \n  \n\n—\nDóna’m drets és un cicle de documentals dirigits per dones i de temàtiques urgents sobre els drets humans. Cada projecció inclou un debat. Organitzat per la Biennal Dona i Cinema amb la col·laboració de l’Octubre CCC.
URL:https://octubre.cat/activitat/cinema-donam-drets-curtmetratges-sobre-masculinitat/
LOCATION:Sala d’actes
CATEGORIES:Cicle Dóna'm drets
ATTACH;FMTTYPE=image/png:https://octubre.cat/www/wp-content/uploads/2025/11/donam-drets-2025-2.png
END:VEVENT
BEGIN:VEVENT
DTSTART;TZID=Europe/Andorra:20251209T193000
DTEND;TZID=Europe/Andorra:20251209T193000
DTSTAMP:20260420T152728
CREATED:20251116T152405Z
LAST-MODIFIED:20260130T100120Z
UID:24009-1765308600-1765308600@octubre.cat
SUMMARY:Presentació del llibre Qui salva una vida\, de Núria Cadenes
DESCRIPTION:Premi Proa de novel·la 2025\nAmb l’autora acompanyada per Joaquim Bosch i Paco Cerdà. \nEn els temps més cruels\, quan la violència i la por dominen Europa\, un grup de persones s’uneixen per fer el que cal fer. Sense preguntar a ningú l’origen ni la religió ni la ideologia. Perquè no poden mirar cap a una altra banda quan el món crema. Qui salva una vida ens mostra com\, durant la II Guerra Mundial\, aquest grup heterogeni —homes i dones\, joves i vells\, capellans i comunistes— va crear una xarxa d’evasió a la Cerdanya per salvar tota mena de fugitius del feixisme. El seu missatge torna avui a ressonar amb força: en un món dominat per un poder amenaçador que malda per imposar-se contra tota humanitat\, una mà que agafa una altra mà i que l’ajuda pot tenir una força impensable. Amb aquests fils\, Núria Cadenes ha teixit una novel·la intensa i commovedora que és un homenatge al coratge anònim i alhora una autèntica obra d’art. \n  \n \n(Proa) \n  \nAmb la col·laboració de:
URL:https://octubre.cat/activitat/presentacio-del-llibre-qui-salva-una-vida-de-nuria-cadenes/
LOCATION:Llibreria Fan Set
CATEGORIES:Literatura
ATTACH;FMTTYPE=image/jpeg:https://octubre.cat/www/wp-content/uploads/2022/10/nuria-cadenes.jpg
END:VEVENT
END:VCALENDAR