BEGIN:VCALENDAR
VERSION:2.0
PRODID:-//Octubre Centre de Cultura Contemporània - ECPv5.1.6//NONSGML v1.0//EN
CALSCALE:GREGORIAN
METHOD:PUBLISH
X-WR-CALNAME:Octubre Centre de Cultura Contemporània
X-ORIGINAL-URL:https://octubre.cat
X-WR-CALDESC:Events for Octubre Centre de Cultura Contemporània
BEGIN:VTIMEZONE
TZID:Europe/Andorra
BEGIN:DAYLIGHT
TZOFFSETFROM:+0100
TZOFFSETTO:+0200
TZNAME:CEST
DTSTART:20250330T010000
END:DAYLIGHT
BEGIN:STANDARD
TZOFFSETFROM:+0200
TZOFFSETTO:+0100
TZNAME:CET
DTSTART:20251026T010000
END:STANDARD
END:VTIMEZONE
BEGIN:VEVENT
DTSTART;TZID=Europe/Andorra:20251204T190000
DTEND;TZID=Europe/Andorra:20251204T190000
DTSTAMP:20260420T152611
CREATED:20251113T170450Z
LAST-MODIFIED:20251113T170450Z
UID:23990-1764874800-1764874800@octubre.cat
SUMMARY:Presentació del llibre Contra el silenci i la impunitat\, de Xavier Montanyà
DESCRIPTION:Amb l’autor acompanyat pel periodista Lucas Marco. \nAquest llibre recull la mirada crítica i compromesa del periodista Xavier Montanyà sobre la impunitat del franquisme\, els fraus de la transició i els silencis que encara avui condicionen la nostra memòria col·lectiva. El franquisme no és una ombra difusa i cinquanta anys més tard encara no s’ha fet justícia. Moltes històries que es documenten en aquest llibre -de vides arrabassades\, de milers de desapareguts o d’herois de la resistència- ens han fet com som. Rescatar-les de l’oblit és el motor d’aquesta obra\, escrita amb constància i contra corrent. \n  \n \n(VilaWeb)
URL:https://octubre.cat/activitat/presentacio-del-llibre-contra-el-silenci-i-la-impunitat-de-xavier-montanya/
LOCATION:Llibreria Fan Set
CATEGORIES:Literatura
ATTACH;FMTTYPE=image/jpeg:https://octubre.cat/www/wp-content/uploads/2025/11/xavier_montanya_3947-22161538-1024x682-1.jpg
END:VEVENT
END:VCALENDAR