BEGIN:VCALENDAR
VERSION:2.0
PRODID:-//Octubre Centre de Cultura Contemporània - ECPv5.1.6//NONSGML v1.0//EN
CALSCALE:GREGORIAN
METHOD:PUBLISH
X-WR-CALNAME:Octubre Centre de Cultura Contemporània
X-ORIGINAL-URL:https://octubre.cat
X-WR-CALDESC:Events for Octubre Centre de Cultura Contemporània
BEGIN:VTIMEZONE
TZID:Europe/Andorra
BEGIN:DAYLIGHT
TZOFFSETFROM:+0100
TZOFFSETTO:+0200
TZNAME:CEST
DTSTART:20250330T010000
END:DAYLIGHT
BEGIN:STANDARD
TZOFFSETFROM:+0200
TZOFFSETTO:+0100
TZNAME:CET
DTSTART:20251026T010000
END:STANDARD
END:VTIMEZONE
BEGIN:VEVENT
DTSTART;TZID=Europe/Andorra:20251202T190000
DTEND;TZID=Europe/Andorra:20251202T190000
DTSTAMP:20260420T152726
CREATED:20251030T170907Z
LAST-MODIFIED:20251114T114210Z
UID:23911-1764702000-1764702000@octubre.cat
SUMMARY:Bar de Ciències «Les claus d’un envelliment saludable o com cuidar-te per a que no hagen de cuidar-te»\, amb José Viña
DESCRIPTION:Amb motiu de la publicació del llibre La ciencia de la longevidad: cómo vivir para envejecer mejor (Ediciones B\, 2025) \nAmb la participació de:\n—José Viña Ribes. Departament de fisiologia\, Facultat de medicina i odontologia\, Universitat de València\, autor del llibre\n—Reis Juan\, periodista \nEl doctor José Viña\, un dels especialistes internacionals més grans en longevitat\, ens ensenya en aquest llibre de quina manera podem contrarestar el pas dels anys. Basant-se en els estudis científics més recents\, i mitjançant un llenguatge proper i senzill\, ens descobreix les claus d’una vida llarga i sana. \n  \n \n—\nL’Espai Ciència de l’Octubre CCC és una iniciativa de l’Institut d’Estudis Catalans i compta amb la col·laboració d’Acció Cultural del País Valencià\, la Unitat de Cultura Científica i Innovació / Càtedra de Divulgació de la Ciència de la UV\, la Fundació Espanyola per a la Ciència i la Tecnologia\, el Consell Superior d’Investigacions Científiques\, la llibreria Fan Set i la revista Mètode.
URL:https://octubre.cat/activitat/bar-de-ciencies-les-claus-dun-envelliment-saludable-o-com-cuidar-te-per-a-que-no-hagen-de-cuidar-te-amb-jose-vina/
LOCATION:Cafeteria
CATEGORIES:Espai Ciència
ATTACH;FMTTYPE=image/jpeg:https://octubre.cat/www/wp-content/uploads/2025/10/jose-vina.jpg
END:VEVENT
BEGIN:VEVENT
DTSTART;TZID=Europe/Andorra:20251202T190000
DTEND;TZID=Europe/Andorra:20251202T190000
DTSTAMP:20260420T152726
CREATED:20251112T123445Z
LAST-MODIFIED:20251112T123445Z
UID:23980-1764702000-1764702000@octubre.cat
SUMMARY:Club de lectura “Clàssics a mà” conduït per Tomàs Llopis: Ausiàs March
DESCRIPTION:Club de lectura “Clàssics a mà” conduït per Tomàs Llopis. Sessió dedicada a Ausiàs March\, amb l’escriptor Ferran Garcia-Oliver. \n“Clàssics a mà” és un club de lectura que no parla de les novetats sinó de la novetat de parlar “dels de sempre”\, d’aquelles fites literàries ineludibles que\, enduts per les urgències de la modernitat i de la legítima voluntat d’estar al dia\, no hem pogut abordar amb la calma necessària o\, si un dia ho vam fer\, ara ens cal l’oportunitat de tornar-hi conscients que ens han influït més del que ens pensem i potser sense adonar-nos-en. És un club de lectura a l’ús però també l’oportunitat de reconciliar-nos amb certes assignatures pendents i de compartir experiències que “no estan de moda”.
URL:https://octubre.cat/activitat/club-de-lectura-classics-a-ma-conduit-per-tomas-llopis-ausias-march/
LOCATION:Llibreria Fan Set
CATEGORIES:Els tallers de l'Octubre,Literatura
ATTACH;FMTTYPE=image/jpeg:https://octubre.cat/www/wp-content/uploads/2025/11/ausias-march.jpg
END:VEVENT
BEGIN:VEVENT
DTSTART;TZID=Europe/Andorra:20251202T190000
DTEND;TZID=Europe/Andorra:20251202T190000
DTSTAMP:20260420T152726
CREATED:20251121T082638Z
LAST-MODIFIED:20251121T082638Z
UID:24041-1764702000-1764702000@octubre.cat
SUMMARY:Cinema Dóna’m Drets: curts del programa “Biodiversity and Cinema” del Líban
DESCRIPTION:Selecció de curtmetratges del projecte BIODIVERSITY AND CINEMA del Líban:\n–MÀNTHÖÜR BAYRŪT de Farah F. Naboulsi – 18 min | Documental | 2024 | Líban\n–ALONG THE WATER de Rebecca Tawk – 22′ | Documental | 2024 | Líban\n–SNAKE HILL de Joelle Abou Chabke – 24′ | Documental | 2024 | Líban \nEl projecte Biodiversitat i Cinema és una iniciativa de REEF d’utilitzar el cinema i l’audiovisual per visibilitzar problemàtiques mediambientals. Reuneix cineastes i especialistes en biodiversitat per a treballar de manera col·laborativa\, intercanviar coneixements i transformar idees en històries d’impacte. A través de curtmetratges documentals filmats a diferents regions del Líban\, el projecte aborda diversos temes relacionats amb la biodiversitat\, com ara la conservació d’espècies\, les pràctiques agrícoles sostenibles\, la protecció d’espais naturals i la relació entre comunitats i el seu entorn. \nDebat posterior amb ELIANE RAHEB (productora i promotora del projecte) i amb una experta en biodiversitat. \n  \n\n—\nDóna’m drets és un cicle de documentals dirigits per dones i de temàtiques urgents sobre els drets humans. Cada projecció inclou un debat. Organitzat per la Biennal Dona i Cinema amb la col·laboració de l’Octubre CCC.
URL:https://octubre.cat/activitat/cinema-donam-drets-curts-del-programa-biodiversity-and-cinema-del-liban/
LOCATION:Sala d’actes
CATEGORIES:Cicle Dóna'm drets
ATTACH;FMTTYPE=image/png:https://octubre.cat/www/wp-content/uploads/2025/11/donam-drets-2025-2.png
END:VEVENT
END:VCALENDAR