BEGIN:VCALENDAR
VERSION:2.0
PRODID:-//Octubre Centre de Cultura Contemporània - ECPv5.1.6//NONSGML v1.0//EN
CALSCALE:GREGORIAN
METHOD:PUBLISH
X-WR-CALNAME:Octubre Centre de Cultura Contemporània
X-ORIGINAL-URL:https://octubre.cat
X-WR-CALDESC:Events for Octubre Centre de Cultura Contemporània
BEGIN:VTIMEZONE
TZID:Europe/Andorra
BEGIN:DAYLIGHT
TZOFFSETFROM:+0100
TZOFFSETTO:+0200
TZNAME:CEST
DTSTART:20250330T010000
END:DAYLIGHT
BEGIN:STANDARD
TZOFFSETFROM:+0200
TZOFFSETTO:+0100
TZNAME:CET
DTSTART:20251026T010000
END:STANDARD
END:VTIMEZONE
BEGIN:VEVENT
DTSTART;TZID=Europe/Andorra:20251103T180000
DTEND;TZID=Europe/Andorra:20251129T140000
DTSTAMP:20260420T163948
CREATED:20251019T142527Z
LAST-MODIFIED:20251024T081834Z
UID:23829-1762192800-1764424800@octubre.cat
SUMMARY:Mostra Viva 2025. Exposició: «Casba d’Alger. Patrimoni viscut»
DESCRIPTION:Mostra Viva del Mediterrani 2025\nExposicions \nDeclarada Patrimoni Mundial de la UNESCO en 1992\, la Casba d’Alger és un conjunt urbà únic\, memòria històrica i espai de vida. Els seus carrerons estrets\, palaus otomans\, mesquites i cases tradicionals reflecteixen una rica estratificació cultural\, fruit d’influències magrebines\, andalusines i mediterrànies. Habitada encara per quasi 60.000 persones\, la Casba continua sent un espai viu\, resilient i carregat d’identitat. A través d’aquesta exposició fotogràfica\, el visitant està convidat a descobrir un patrimoni excepcional que continua inspirant i alimentant la memòria d’Alger. \n  \n \nComissari: Zino Seffadj\nPatrocinen: Consolat d’Argèlia a Alacant i Casa Mediterrani \n—\nOrganitzat per Mostra Viva del Mediterrani amb la col·laboració de l’Octubre CCC.
URL:https://octubre.cat/activitat/mostra-viva-2025-exposicio-casba-dalger-patrimoni-viscut/
LOCATION:Sala d’exposicions
CATEGORIES:Exposicions,Mostra Viva 2025
ATTACH;FMTTYPE=image/jpeg:https://octubre.cat/www/wp-content/uploads/2025/10/mostra-viva-2025-recurs.jpg
END:VEVENT
BEGIN:VEVENT
DTSTART;TZID=Europe/Andorra:20251103T180000
DTEND;TZID=Europe/Andorra:20251129T140000
DTSTAMP:20260420T163948
CREATED:20251019T143518Z
LAST-MODIFIED:20251102T064756Z
UID:23833-1762192800-1764424800@octubre.cat
SUMMARY:Mostra Viva 2025. Exposició: «Vent. Vides en trànsit»
DESCRIPTION:Mostra Viva del Mediterrani 2025\nExposicions \nNo som titulars: som memòria que resisteix.\nCossos que creuen\, relats de la frontera emocional \nLa mostra parteix dels discursos mediàtics\, socials i polítics al voltant de la migració com a dispositius que modelen la percepció pública\, però també com a ferides obertes. \nLa temàtica comença amb les notícies publicades sobre la migració a la Mediterrània. L’exposició convida cada artista a crear prenent com a punt de partida un fragment —una frase\, un titular deshumanitzant o una narrativa d’apoderament mediàtic— i convertir-lo en obra. En total 24 creadores espanyoles i franceses. El recorregut es planteja en tres blocs narratius:\n—Despossessió. Missatges que redueixen el migrant a xifres o amenaça. Aquí l’estètica es torna freda\, documental o corrosiva.\n—Resistència. Es mostren narratives contrahegemòniques. Aquest bloc proposa cossos que es compten a ells mateixos.\n—Reparació. Propostes poètiques\, utòpiques o espirituals que transformen el llenguatge d’exclusió en gestos d’acolliment i de reconstrucció. \n  \n\n \nComissàries:\nVictòria Esgueva i Susana García \nParticipants:\nAmparo Berenguer Wieden\, Teresa Cháfer Bixquert\, Chele Esteve\, Susana García Rams\, Begoña Jordá Albiñana\, Hortensia Mínguez García\, Nativitat Navalón Blesa\, Paula Santiago Martín de Madrid\, Ana Tomàs Miralles\, Sara Vilar Garcia\, María Martín Gallego\, Victòria Esgueva\, Tamara Casañ\, Maria Garcia\, Vanesa Valero\, Felicia Puerta\, Lola Vidal\, Amparo Galbis\, Elena Prado\, Lorena Garcia Mateu\, Ana Sartori\, Lorsa\, Sophie Engelmarie\, Rosa Bordeus. \n—\nOrganitzat per Mostra Viva del Mediterrani amb la col·laboració de l’Octubre CCC.
URL:https://octubre.cat/activitat/mostra-viva-2025-exposicio-vent-vides-en-transit/
LOCATION:Sala d’exposicions
CATEGORIES:Exposicions,Mostra Viva 2025
ATTACH;FMTTYPE=image/jpeg:https://octubre.cat/www/wp-content/uploads/2025/10/mostra-viva-2025-recurs.jpg
END:VEVENT
BEGIN:VEVENT
DTSTART;TZID=Europe/Andorra:20251107T190000
DTEND;TZID=Europe/Andorra:20251107T190000
DTSTAMP:20260420T163948
CREATED:20251019T144714Z
LAST-MODIFIED:20251103T180701Z
UID:23837-1762542000-1762542000@octubre.cat
SUMMARY:Mostra Viva 2025. Cinema: La buena letra\, de Celia Rico
DESCRIPTION:Mostra Viva del Mediterrani 2025\nCinema \nAdaptació de la novel·la homònima de Rafael Chirbes\nPresentada per Manolo Micó Chirbes \nEn un poble valencià\, durant la postguerra\, Ana intenta tirar endavant amb la seua família; la guerra civil ha obert una gran ferida en tots ells\, especialment en el seu cunyat\, Antonio. Ana intenta curar aquesta ferida a base de guisats\, secrets i silencis\, però quan Isabel\, acabada de casar amb Antonio\, arriba a la família\, les atencions i les cures d’Ana valdran de poc o de res: el sacrifici no sempre té la seua recompensa. \nDirecció: Celia Rico\nGuió: Celia Rico sobre la novel·la de Rafael Chirbes\nMúsica: Marina Alcantud\nFotografia: Sara Gallego\nRepartiment: Loreto Mauleón\, Enric Auquer\, Roger Casamajor\, Ana Rujas\, Teresa Lozano\nProducció: Mod Producciones\, Misent Producciones\, Arcadia Motion Pictures\, RTVE\, Movistar Plus+\, À Punt Mèdia\, 3Cat\nEspanya\, 2025\nDurada: 110’ \n  \n \n—\nOrganitzat per Mostra Viva del Mediterrani amb la col·laboració de l’Octubre CCC.
URL:https://octubre.cat/activitat/mostra-viva-2025-cinema-la-buena-letra-de-celia-rico/
LOCATION:Sala d’actes
CATEGORIES:Cinema,Mostra Viva 2025
ATTACH;FMTTYPE=image/jpeg:https://octubre.cat/www/wp-content/uploads/2025/10/mostra-viva-2025-recurs.jpg
END:VEVENT
BEGIN:VEVENT
DTSTART;TZID=Europe/Andorra:20251107T190000
DTEND;TZID=Europe/Andorra:20251107T190000
DTSTAMP:20260420T163948
CREATED:20251028T161953Z
LAST-MODIFIED:20260130T095913Z
UID:23882-1762542000-1762542000@octubre.cat
SUMMARY:Presentació del llibre Una falena als dits / Ćma w palcach\, de Julia Hartwig
DESCRIPTION:Amb els poetes Maria Josep Escrivà i Salvador Ortell\, acompanyats pels editors Marta Vilardaga i Josep Porcat \nLa poeta Julia Hartwig (1921-2017) ocupa un lloc principal en la literatura polonesa contemporània i forma part del grup dels grans mestres: Czesław Miłosz\, Wisława Szymborska\, Tadeusz Różewicz\, Zbigniew Herbert\, Miron Białoszewski… Resistent a tota mena de categoritzacions\, defensa una posició pròpia\, allunyada de corrents i modes\, tot i el seu evident lligam amb la tradició. La seva poesia és una resposta contundent a visions uniformitzants del món i també als excessos subjectivistes i sentimentalistes. Hartwig du a terme una crònica i un retrat de la societat\, sempre des d’una poesia plena de lirisme i d’imatges\, on sovinteja una bona dosi d’ironia i d’humor al servei de la intel·ligència. En les seves obres subtils i depurades\, de gran claredat expressiva\, proliferen contradiccions reconciliades que oscil·len entre l’estranyesa i l’esperança. \n  \n \n(Salze) \nActivitat inclosa en el Llibreries’Fest que celebra el Dia de les Llibreries organitzat pel Gremi de Llibrers. \n  \nAmb la col·laboració de:
URL:https://octubre.cat/activitat/presentacio-del-llibre-una-falena-als-dits-cma-w-palcach-de-julia-hartwig/
LOCATION:Llibreria Fan Set
CATEGORIES:Literatura
ATTACH;FMTTYPE=image/jpeg:https://octubre.cat/www/wp-content/uploads/2025/10/hartwig_julia_ap.jpg
END:VEVENT
END:VCALENDAR