BEGIN:VCALENDAR
VERSION:2.0
PRODID:-//Octubre Centre de Cultura Contemporània - ECPv5.1.6//NONSGML v1.0//EN
CALSCALE:GREGORIAN
METHOD:PUBLISH
X-WR-CALNAME:Octubre Centre de Cultura Contemporània
X-ORIGINAL-URL:https://octubre.cat
X-WR-CALDESC:Events for Octubre Centre de Cultura Contemporània
BEGIN:VTIMEZONE
TZID:Europe/Andorra
BEGIN:DAYLIGHT
TZOFFSETFROM:+0100
TZOFFSETTO:+0200
TZNAME:CEST
DTSTART:20250330T010000
END:DAYLIGHT
BEGIN:STANDARD
TZOFFSETFROM:+0200
TZOFFSETTO:+0100
TZNAME:CET
DTSTART:20251026T010000
END:STANDARD
END:VTIMEZONE
BEGIN:VEVENT
DTSTART;TZID=Europe/Andorra:20251103T180000
DTEND;TZID=Europe/Andorra:20251129T140000
DTSTAMP:20260420T164053
CREATED:20251019T142527Z
LAST-MODIFIED:20251024T081834Z
UID:23829-1762192800-1764424800@octubre.cat
SUMMARY:Mostra Viva 2025. Exposició: «Casba d’Alger. Patrimoni viscut»
DESCRIPTION:Mostra Viva del Mediterrani 2025\nExposicions \nDeclarada Patrimoni Mundial de la UNESCO en 1992\, la Casba d’Alger és un conjunt urbà únic\, memòria històrica i espai de vida. Els seus carrerons estrets\, palaus otomans\, mesquites i cases tradicionals reflecteixen una rica estratificació cultural\, fruit d’influències magrebines\, andalusines i mediterrànies. Habitada encara per quasi 60.000 persones\, la Casba continua sent un espai viu\, resilient i carregat d’identitat. A través d’aquesta exposició fotogràfica\, el visitant està convidat a descobrir un patrimoni excepcional que continua inspirant i alimentant la memòria d’Alger. \n  \n \nComissari: Zino Seffadj\nPatrocinen: Consolat d’Argèlia a Alacant i Casa Mediterrani \n—\nOrganitzat per Mostra Viva del Mediterrani amb la col·laboració de l’Octubre CCC.
URL:https://octubre.cat/activitat/mostra-viva-2025-exposicio-casba-dalger-patrimoni-viscut/
LOCATION:Sala d’exposicions
CATEGORIES:Exposicions,Mostra Viva 2025
ATTACH;FMTTYPE=image/jpeg:https://octubre.cat/www/wp-content/uploads/2025/10/mostra-viva-2025-recurs.jpg
END:VEVENT
BEGIN:VEVENT
DTSTART;TZID=Europe/Andorra:20251103T180000
DTEND;TZID=Europe/Andorra:20251129T140000
DTSTAMP:20260420T164053
CREATED:20251019T143518Z
LAST-MODIFIED:20251102T064756Z
UID:23833-1762192800-1764424800@octubre.cat
SUMMARY:Mostra Viva 2025. Exposició: «Vent. Vides en trànsit»
DESCRIPTION:Mostra Viva del Mediterrani 2025\nExposicions \nNo som titulars: som memòria que resisteix.\nCossos que creuen\, relats de la frontera emocional \nLa mostra parteix dels discursos mediàtics\, socials i polítics al voltant de la migració com a dispositius que modelen la percepció pública\, però també com a ferides obertes. \nLa temàtica comença amb les notícies publicades sobre la migració a la Mediterrània. L’exposició convida cada artista a crear prenent com a punt de partida un fragment —una frase\, un titular deshumanitzant o una narrativa d’apoderament mediàtic— i convertir-lo en obra. En total 24 creadores espanyoles i franceses. El recorregut es planteja en tres blocs narratius:\n—Despossessió. Missatges que redueixen el migrant a xifres o amenaça. Aquí l’estètica es torna freda\, documental o corrosiva.\n—Resistència. Es mostren narratives contrahegemòniques. Aquest bloc proposa cossos que es compten a ells mateixos.\n—Reparació. Propostes poètiques\, utòpiques o espirituals que transformen el llenguatge d’exclusió en gestos d’acolliment i de reconstrucció. \n  \n\n \nComissàries:\nVictòria Esgueva i Susana García \nParticipants:\nAmparo Berenguer Wieden\, Teresa Cháfer Bixquert\, Chele Esteve\, Susana García Rams\, Begoña Jordá Albiñana\, Hortensia Mínguez García\, Nativitat Navalón Blesa\, Paula Santiago Martín de Madrid\, Ana Tomàs Miralles\, Sara Vilar Garcia\, María Martín Gallego\, Victòria Esgueva\, Tamara Casañ\, Maria Garcia\, Vanesa Valero\, Felicia Puerta\, Lola Vidal\, Amparo Galbis\, Elena Prado\, Lorena Garcia Mateu\, Ana Sartori\, Lorsa\, Sophie Engelmarie\, Rosa Bordeus. \n—\nOrganitzat per Mostra Viva del Mediterrani amb la col·laboració de l’Octubre CCC.
URL:https://octubre.cat/activitat/mostra-viva-2025-exposicio-vent-vides-en-transit/
LOCATION:Sala d’exposicions
CATEGORIES:Exposicions,Mostra Viva 2025
ATTACH;FMTTYPE=image/jpeg:https://octubre.cat/www/wp-content/uploads/2025/10/mostra-viva-2025-recurs.jpg
END:VEVENT
BEGIN:VEVENT
DTSTART;TZID=Europe/Andorra:20251106T120000
DTEND;TZID=Europe/Andorra:20251106T120000
DTSTAMP:20260420T164053
CREATED:20251023T153430Z
LAST-MODIFIED:20251031T072835Z
UID:23867-1762430400-1762430400@octubre.cat
SUMMARY:Presentació del llibre Pere Alberch\, evolucionista heterodox\, de Xavier Bellés
DESCRIPTION:Amb l’autor acompanyat per Ximo Baixeras\, director de l’Institut Cavanilles. \nPere Alberch Vié (Badalona\, 1954 – Madrid\, 1998) va ser un biòleg teòric del desenvolupament i embriòleg experimental. La seva carrera científica s’orientà principalment a problemes de morfogènesi durant l’evolució (filogènia) i el desenvolupament (ontogènia)\, especialment en la fase embrionària. Va ser professor a la Universitat Harvard del 1980 al 1989\, i director del Museo Nacional de Ciencias Naturales de Madrid (1989-1998). \nL’autor del llibre\, Xavier Bellés\, és membre de l’Institut de Biologia Evolutiva (CSIC-UPF) de Barcelona i de l’IEC. \n  \n \n(Biografies FCRI) \n—\nOrganitzat per l’Institut Cavanilles de Biodiversitat i Biologia Evolutiva (Universitat de València) amb la col·laboració de la Societat Catalana de Biologia-IEC i l’Espai Ciència de l’Octubre Centre de Cultura Contemporània.
URL:https://octubre.cat/activitat/presentacio-del-llibre-pere-alberch-evolucionista-heterodox-de-xavier-belles/
LOCATION:Activitat externa
CATEGORIES:Activitats externes,Espai Ciència
ATTACH;FMTTYPE=image/jpeg:https://octubre.cat/www/wp-content/uploads/2025/10/Xavier-Belles-1080x675-1.jpg
END:VEVENT
BEGIN:VEVENT
DTSTART;TZID=Europe/Andorra:20251106T180000
DTEND;TZID=Europe/Andorra:20251106T180000
DTSTAMP:20260420T164054
CREATED:20251019T124231Z
LAST-MODIFIED:20251019T124231Z
UID:23827-1762452000-1762452000@octubre.cat
SUMMARY:Mostra Viva 2025. Escriptors: Maria Beneyto
DESCRIPTION:Mostra Viva del Mediterrani 2025\nEncontre d’Escriptors \nCentenari de Maria Beneyto. \nAmb Josep Ballester\, Bibiana Collado i Jaume Pérez Montaner\nModera: Àngels Gregori \n  \n \n—\nOrganitzat per Mostra Viva del Mediterrani amb la col·laboració de l’Octubre CCC.
URL:https://octubre.cat/activitat/mostra-viva-2025-escriptors-maria-beneyto/
LOCATION:Sala d’actes
CATEGORIES:Literatura,Mostra Viva 2025
ATTACH;FMTTYPE=image/jpeg:https://octubre.cat/www/wp-content/uploads/2025/10/mostra-viva-2025-recurs.jpg
END:VEVENT
BEGIN:VEVENT
DTSTART;TZID=Europe/Andorra:20251106T190000
DTEND;TZID=Europe/Andorra:20251106T190000
DTSTAMP:20260420T164054
CREATED:20251021T090814Z
LAST-MODIFIED:20251021T090814Z
UID:23844-1762455600-1762455600@octubre.cat
SUMMARY:Presentació del llibre Ànima de república\, d’Aleix Sarri
DESCRIPTION:Amb l’autor acompanyat per Anna Oliver i Ricard Chulià. \nEl 31 de maig de 1410 Martí l’Humà mor sense un hereu clar i provoca una pèrdua crucial. Martí va ser l’últim sobirà català: la corona catalanoaragonesa passava a mans d’un rei foraster\, i el projecte castellanitzador posava la directa. Des d’aleshores\, la relació de Catalunya amb Castella (després\, Espanya) ha estat una espiral sense fi de confrontació i repressió. Empresonaments\, exili\, espoli\, persecució lingüística i xoc rere xoc entre dues cultures polítiques antagòniques. La derrota de 1714 va ser l’estocada final en uns segles de lluita i conflicte constants en què el poble català va deixar prou mostres del seu anhel de llibertat\, la seva ànima de república i la seva capacitat de recuperar-se de les pitjors atzagaiades. \n \n(Comanegra)
URL:https://octubre.cat/activitat/presentacio-del-llibre-anima-de-republica-daleix-sarri/
LOCATION:Aula 1
CATEGORIES:Literatura
ATTACH;FMTTYPE=image/jpeg:https://octubre.cat/www/wp-content/uploads/2025/10/aleix-sarri.jpeg
END:VEVENT
END:VCALENDAR