BEGIN:VCALENDAR
VERSION:2.0
PRODID:-//Octubre Centre de Cultura Contemporània - ECPv5.1.6//NONSGML v1.0//EN
CALSCALE:GREGORIAN
METHOD:PUBLISH
X-WR-CALNAME:Octubre Centre de Cultura Contemporània
X-ORIGINAL-URL:https://octubre.cat
X-WR-CALDESC:Events for Octubre Centre de Cultura Contemporània
BEGIN:VTIMEZONE
TZID:Europe/Andorra
BEGIN:DAYLIGHT
TZOFFSETFROM:+0100
TZOFFSETTO:+0200
TZNAME:CEST
DTSTART:20250330T010000
END:DAYLIGHT
BEGIN:STANDARD
TZOFFSETFROM:+0200
TZOFFSETTO:+0100
TZNAME:CET
DTSTART:20251026T010000
END:STANDARD
END:VTIMEZONE
BEGIN:VEVENT
DTSTART;TZID=Europe/Andorra:20251028T190000
DTEND;TZID=Europe/Andorra:20251028T190000
DTSTAMP:20260420T163948
CREATED:20251021T084925Z
LAST-MODIFIED:20251021T161159Z
UID:23841-1761678000-1761678000@octubre.cat
SUMMARY:Cinema: Luisa\, esa es la verdad\, d’Alberto Adsuara
DESCRIPTION:Una dona va al psicoanalista sense saber segur per què. Durant la primera sessió canvia el divan per aquells personatges que estiguen disposats a escoltar-la\, estiguen on estiguen. I al final de la segona canvia el psicoanalista pel mateix espectador. \nDirecció: Alberto Adsuara\nProtagonista: Eva Bas\nFotografia: Samuel Navarro\nMúsica: Victoria Contreras\nProducció: Absurdara\n2025\n79’ \nTràiler oficial \nLa visió del director
URL:https://octubre.cat/activitat/cinema-luisa-esa-es-la-verdad-dalberto-adsuara/
LOCATION:Sala d’actes
CATEGORIES:Cinema
ATTACH;FMTTYPE=image/jpeg:https://octubre.cat/www/wp-content/uploads/2025/10/luisa-adsuara-cap.jpg
END:VEVENT
END:VCALENDAR