BEGIN:VCALENDAR
VERSION:2.0
PRODID:-//Octubre Centre de Cultura Contemporània - ECPv5.1.6//NONSGML v1.0//EN
CALSCALE:GREGORIAN
METHOD:PUBLISH
X-WR-CALNAME:Octubre Centre de Cultura Contemporània
X-ORIGINAL-URL:https://octubre.cat
X-WR-CALDESC:Events for Octubre Centre de Cultura Contemporània
BEGIN:VTIMEZONE
TZID:Europe/Andorra
BEGIN:DAYLIGHT
TZOFFSETFROM:+0100
TZOFFSETTO:+0200
TZNAME:CEST
DTSTART:20250330T010000
END:DAYLIGHT
BEGIN:STANDARD
TZOFFSETFROM:+0200
TZOFFSETTO:+0100
TZNAME:CET
DTSTART:20251026T010000
END:STANDARD
END:VTIMEZONE
BEGIN:VEVENT
DTSTART;TZID=Europe/Andorra:20250924T190000
DTEND;TZID=Europe/Andorra:20251024T210000
DTSTAMP:20260420T175218
CREATED:20250919T090451Z
LAST-MODIFIED:20250924T132949Z
UID:23638-1758740400-1761339600@octubre.cat
SUMMARY:ValènciaPhoto 2025: «Coneixent George Maciunas»
DESCRIPTION:“Experimentar Fluxus com una forma de vida és l’única manera de conèixer George.” — Billie Maciunas \nAquesta exposició constitueix un retrat col·lectiu de George Maciunas (Jurgis Mačiūnas) i del seu llegat. \nJurgis Mačiūnas\, més conegut com George Maciunas (Kaunas\, 1931 – Boston\, 1978)\, va ser el fundador de Fluxus\, un dels moviments més influents de l’art del segle XX. A la Nova York dels anys seixanta\, Maciunas va reunir artistes\, músics\, poetes i dissenyadors al voltant d’un projecte comú: crear obres lúdiques\, provocadores i sovint deliberadament absurdes. Amb el seu esperit irreverent\, Fluxus rebutjava l’elitisme de les institucions artístiques i cercava dissoldre les fronteres entre l’art i la vida quotidiana. La seua petjada va transformar de manera decisiva la història de l’art contemporani. \n  \n \n \n \nL’exposició compta amb la participació del Gabinet Fluxus de Jurgis Mačiūnas\, el Festival Fluxus a Kaunas\, la Biblioteca Nacional de Lituània Martynas Mažvydas\, Vytautas Landsbergis\, Jonas Mekas\, Billie Maciunas\, Hollis Melton\, Monika Žaltė\, Julija Račiūnaitė\, Inga Navickaitė Dras Požerskis\, Barbora Gedminaitė\, Austėja Auškalnytė\, Julius Ziz\, Anton Lukoszevieze\, Daiva Žeimytė-Bilienė\, Artūras Jevdokimovas\, Vytautas Buinevičius i altres artistes. \nComissària: Vilma Dobilaitė @vilmadobilaite \nL’exposició forma part del Projecte Fluxus que es desplega a múltiples seus de la ciutat de València i inclou exposicions\, projeccions\, trobades\, performances\, concerts\, intervencions urbanes i publicacions. \n—\nExposició inclosa dins del festival ValènciaPhoto 2025\, amb la col·laboració de l’Octubre CCC
URL:https://octubre.cat/activitat/valenciaphoto-2025-coneixent-george-maciunas/
LOCATION:Sala d’exposicions
CATEGORIES:Exposicions
ATTACH;FMTTYPE=image/jpeg:https://octubre.cat/www/wp-content/uploads/2025/09/maciunas-cap.jpg
END:VEVENT
BEGIN:VEVENT
DTSTART;TZID=Europe/Andorra:20251022T163000
DTEND;TZID=Europe/Andorra:20251022T163000
DTSTAMP:20260420T175218
CREATED:20251014T150557Z
LAST-MODIFIED:20251014T150557Z
UID:23806-1761150600-1761150600@octubre.cat
SUMMARY:FCCC 2025: Secció Feminisme / Igualtat
DESCRIPTION:16.30h: \n—7 minuts al paradís\, de Victoria Avinyó (14’)\n—Ignorant\, de Mar Castel (14’)\n—Mares\, d’Ariadna Seuba (74’) \n18.30h: \n—Las chicas de la calle Revolución\, de Pooneh\, Ghazaleh Khorraminiya\, Paula Sancho\, Flor Brandolini\, Alba Benlloch (8\,30’)\n—Los chicos con las chicas\, de Claudia Garcia de Mateos (11’)\n—Las niñas mayores no tienen miedo\, d’Alba Crespo Ramos (13’)\n–Carmela\, de Vicente Mallols (15’).\n—Refugiadas en escena. Exilio\, memoria\, paz\, de Sergi Tarin (30’)\n—Cures\, xarxa i resistències\, d’Aràdia M. Villalba (38’) \n—\nXIé Festival de Cinema Ciutadà Compromès organitzat per ACICOM amb la col·laboració d’ACPV.
URL:https://octubre.cat/activitat/fccc-2025-seccio-feminisme-igualtat/
LOCATION:Sala d’actes
CATEGORIES:Festival de Cinema Ciutadà Compromès 2025
ATTACH;FMTTYPE=image/jpeg:https://octubre.cat/www/wp-content/uploads/2025/10/FCCC25-top.jpg
END:VEVENT
BEGIN:VEVENT
DTSTART;TZID=Europe/Andorra:20251022T190000
DTEND;TZID=Europe/Andorra:20251022T190000
DTSTAMP:20260420T175218
CREATED:20251002T100021Z
LAST-MODIFIED:20251002T100021Z
UID:23734-1761159600-1761159600@octubre.cat
SUMMARY:Presentació del llibre Ingrata pàtria\, de Martí Domínguez
DESCRIPTION:Amb l’autor acompanyat per Carme Gregori Soldevila (catedràtica de la Universitat de València) i Lucas Marco (periodista) \nUn consell sumaríssim contra un rector d’universitat. Un relat trasbalsador sobre la vida i la mort.Un clam contra la intolerància. \nUn il·lustre professor\, metge reputat i rector de la universitat\, és sentenciat a mort en un consell sumaríssim franquista. Entre els acusadors\, figuren antics companys seus de la facultat\, que no li perdonen el seu passat d’esquerres. En aquesta novel·la\, Martí Domínguez s’endinsa en les tres darreres hores de la vida d’aquest professor\, en els seus dubtes i expectatives més íntims. Alhora\, la novel·la es desplega com un extraordinari cant coral\, on les reflexions i angoixes dels seus companys de patíbul fan de contrapunt a la veu del professor\, i a les consideracions dels botxins. Martí Domínguez aconsegueix orquestrar un relat trasbalsador sobre la vida i la mort i sobre els més obscurs abismes de la naturalesa humana\, i un clam a favor de la cultura i el progrés enfront de la barbàrie. \n  \n \n(Proa) \n—\nL’Espai Ciència de l’Octubre CCC és una iniciativa de l’Institut d’Estudis Catalans i compta amb la col·laboració d’Acció Cultural del País Valencià\, la Unitat de Cultura Científica i Innovació / Càtedra de Divulgació de la Ciència de la UV\, la Fundació Espanyola per a la Ciència i la Tecnologia\, el Centre Superior d’Investigacions Científiques\, la llibreria Fan Set i la revista Mètode.
URL:https://octubre.cat/activitat/presentacio-del-llibre-ingrata-patria-de-marti-dominguez/
LOCATION:Aula 1
CATEGORIES:Espai Ciència,Literatura
ATTACH;FMTTYPE=image/jpeg:https://octubre.cat/www/wp-content/uploads/2022/11/MARTI-DOMiNGUEZ-FOTOJESUS-CISCAR.jpg
END:VEVENT
END:VCALENDAR