BEGIN:VCALENDAR
VERSION:2.0
PRODID:-//Octubre Centre de Cultura Contemporània - ECPv5.1.6//NONSGML v1.0//EN
CALSCALE:GREGORIAN
METHOD:PUBLISH
X-WR-CALNAME:Octubre Centre de Cultura Contemporània
X-ORIGINAL-URL:https://octubre.cat
X-WR-CALDESC:Events for Octubre Centre de Cultura Contemporània
BEGIN:VTIMEZONE
TZID:Europe/Andorra
BEGIN:DAYLIGHT
TZOFFSETFROM:+0100
TZOFFSETTO:+0200
TZNAME:CEST
DTSTART:20250330T010000
END:DAYLIGHT
BEGIN:STANDARD
TZOFFSETFROM:+0200
TZOFFSETTO:+0100
TZNAME:CET
DTSTART:20251026T010000
END:STANDARD
END:VTIMEZONE
BEGIN:VEVENT
DTSTART;TZID=Europe/Andorra:20250915T190000
DTEND;TZID=Europe/Andorra:20251018T150000
DTSTAMP:20260420T190228
CREATED:20250915T183440Z
LAST-MODIFIED:20251003T083319Z
UID:23624-1757962800-1760799600@octubre.cat
SUMMARY:«Imaginar\, compartir\, construir el Congrés de Cultura Catalana 1975-2025»
DESCRIPTION:Del 15 de setembre al 18 d’octubre acollim l’exposició «Imaginar\, compartir\, construir. El Congrés de Cultura Catalana\, 1975–2025»\, una proposta que repassa la història\, objectius i impacte d’aquell projecte col·lectiu que va marcar una fita en la mobilització cívica i cultural del territori. La mostra convida també a reflexionar sobre els reptes actuals i imaginar el futur cultural compartit. \nEl Congrés de Cultura Catalana (1975–1977) va ser una iniciativa que va contribuir decisivament a definir estructures\, consensos i institucions sobre les quals s’ha bastit la societat actual. Ara\, coincidint amb el cinquanté aniversari del seu inici\, l’exposició recupera aquella experiència transformadora per posar-la en diàleg amb el present i el futur\, en el marc del nou Congrés que s’està impulsant. \n  \n \n—\nL’exposició està organitzada per la Fundació Congrés de Cultura Catalana (FCCC) i Acció Cultural del País Valencià\, amb el suport de la Generalitat de Catalunya.
URL:https://octubre.cat/activitat/imaginar-compartir-construir-el-congres-de-cultura-catalana-1975-2025/
LOCATION:Hall
CATEGORIES:Exposicions
ATTACH;FMTTYPE=image/jpeg:https://octubre.cat/www/wp-content/uploads/2025/07/expo-congres-flyer.jpg
END:VEVENT
BEGIN:VEVENT
DTSTART;TZID=Europe/Andorra:20250923T190000
DTEND;TZID=Europe/Andorra:20250923T190000
DTSTAMP:20260420T190229
CREATED:20250701T143603Z
LAST-MODIFIED:20250701T143603Z
UID:23182-1758654000-1758654000@octubre.cat
SUMMARY:Lletres al Terrat: Parlem de Maria Beneyto
DESCRIPTION:Conversa amb Josep Ballester\, Àngels Gregori i Vinyet Panyella\, moderada per Mercé Viana\, amb motiu de la commemoració com a Escriptora de l’Any de l’Acadèmia Valenciana de la Llengua. \nMaria Beneyto (València\, 1920 – 2011) va ser poeta i novel·lista. En tots dos gèneres va destacar a partir dels anys 50\, sobretot arran de guanyar el Premi Ciutat de Barcelona amb el llibre de poemes Ratlles a l’aire (1956). La seva obra poètica va ser premiada als certàmens més importants de l’època\, tant en català com en castellà. Va ser sòcia d’honor de l’Associació d’Escriptors en Llengua Catalana. \n  \n \n—\nCicle organitzat per l’Associació d’Escriptors en Llengua Catalana (AELC) amb la col·laboració de l’Octubre CCC.
URL:https://octubre.cat/activitat/lletres-al-terrat-parlem-de-maria-beneyto/
LOCATION:Terrat
CATEGORIES:Lletres al terrat
ATTACH;FMTTYPE=image/jpeg:https://octubre.cat/www/wp-content/uploads/2022/12/terrat-octubre.jpg
END:VEVENT
END:VCALENDAR