BEGIN:VCALENDAR
VERSION:2.0
PRODID:-//Octubre Centre de Cultura Contemporània - ECPv5.1.6//NONSGML v1.0//EN
CALSCALE:GREGORIAN
METHOD:PUBLISH
X-WR-CALNAME:Octubre Centre de Cultura Contemporània
X-ORIGINAL-URL:https://octubre.cat
X-WR-CALDESC:Events for Octubre Centre de Cultura Contemporània
BEGIN:VTIMEZONE
TZID:Europe/Andorra
BEGIN:DAYLIGHT
TZOFFSETFROM:+0100
TZOFFSETTO:+0200
TZNAME:CEST
DTSTART:20250330T010000
END:DAYLIGHT
BEGIN:STANDARD
TZOFFSETFROM:+0200
TZOFFSETTO:+0100
TZNAME:CET
DTSTART:20251026T010000
END:STANDARD
END:VTIMEZONE
BEGIN:VEVENT
DTSTART;TZID=Europe/Andorra:20250912T183000
DTEND;TZID=Europe/Andorra:20250912T183000
DTSTAMP:20260420T190258
CREATED:20250731T090330Z
LAST-MODIFIED:20250903T085322Z
UID:23576-1757701800-1757701800@octubre.cat
SUMMARY:Llatinoamèrica canta Allende
DESCRIPTION:Concert amb artistes de Llatinoamèrica. Homenatge musical a la memòria de Salvador Allende\, símbol de dignitat\, justícia social i resistència popular. \nActuacions de:\n—Lucho Roa (Xile)\n—Mona y Mike (Perú)\n—Son de Mujer (Colòmbia)\nConvidat especial: Miquel Gil\nPresenta: Lola Bañón \n  \n \n—\nOrganitzat per ARACOVA (Associació de Persones Refugiades\, Asilades i Migrants) i Latinoamérica Progresista amb la col·laboració de l’Octubre CCC
URL:https://octubre.cat/activitat/llatinoamerica-canta-allende/
LOCATION:Sala d’actes
CATEGORIES:Música
ATTACH;FMTTYPE=image/jpeg:https://octubre.cat/www/wp-content/uploads/2025/07/allende-concert.jpg
END:VEVENT
BEGIN:VEVENT
DTSTART;TZID=Europe/Andorra:20250912T190000
DTEND;TZID=Europe/Andorra:20250912T190000
DTSTAMP:20260420T190258
CREATED:20250618T083505Z
LAST-MODIFIED:20250908T105302Z
UID:22945-1757703600-1757703600@octubre.cat
SUMMARY:Presentació del llibre Les hores ferides\, de Ricard Garcia
DESCRIPTION:Premi de Poesia Maria Mercè Marçal\, 2024\nAmb l’autor acompanyat pels poetes Teresa Pascual i Joan Navarro. \nLes hores ferides parla de com sobreviure a les absències de les persones estimades i de saber anar-se’n i afrontar el propi final de vida. El volum\, que inclou tres parts\, destaca per la seva combinació de prosa poètica i poemes en sentit estricte\, subratllant la diversitat i l’equilibri en l’ús de diferents formes poètiques per part de l’autor. A més\, cal destacar la capacitat de l’autor per construir el poema a partir d’imatges colpidores i il·luminadores que potencien el simbolisme de cadascuna de les peces. \n  \n \n(Pagès)
URL:https://octubre.cat/activitat/presentacio-del-llibre-les-hores-ferides-de-ricard-garcia/
LOCATION:Llibreria Fan Set
CATEGORIES:Literatura
ATTACH;FMTTYPE=image/jpeg:https://octubre.cat/www/wp-content/uploads/2025/06/ricard_garcia.jpg
END:VEVENT
END:VCALENDAR