BEGIN:VCALENDAR
VERSION:2.0
PRODID:-//Octubre Centre de Cultura Contemporània - ECPv5.1.6//NONSGML v1.0//EN
CALSCALE:GREGORIAN
METHOD:PUBLISH
X-WR-CALNAME:Octubre Centre de Cultura Contemporània
X-ORIGINAL-URL:https://octubre.cat
X-WR-CALDESC:Events for Octubre Centre de Cultura Contemporània
BEGIN:VTIMEZONE
TZID:Europe/Andorra
BEGIN:DAYLIGHT
TZOFFSETFROM:+0100
TZOFFSETTO:+0200
TZNAME:CEST
DTSTART:20250330T010000
END:DAYLIGHT
BEGIN:STANDARD
TZOFFSETFROM:+0200
TZOFFSETTO:+0100
TZNAME:CET
DTSTART:20251026T010000
END:STANDARD
END:VTIMEZONE
BEGIN:VEVENT
DTSTART;TZID=Europe/Andorra:20250910T180000
DTEND;TZID=Europe/Andorra:20250910T180000
DTSTAMP:20260420T190223
CREATED:20250903T084258Z
LAST-MODIFIED:20250903T084258Z
UID:23584-1757527200-1757527200@octubre.cat
SUMMARY:Cinema: Miralles\, de Maria Mauti
DESCRIPTION:Col·loqui posterior amb els arquitectes Isabel González Galindo\, Vicente González Móstoles i María Teresa Palomares Figueres. \nLa pel·lícula explora la visió del món d’un dels arquitectes espanyols més rellevants del panorama internacional contemporani.\nEnric Miralles mor prematurament als 45 anys a causa d’un tumor cerebral. L’endemà és enterrat al Cementiri d’Igualada\, la seva obra mestra: un cementiri-bosc inacabat. Des d’aquest instant\, vida i obra queden per sempre entrellaçades\, formant un sol relat.\nEl film avança per variacions\, seguint el mètode creatiu que el mateix Miralles emprava\, inspirant-se en Giacometti: una recerca oberta\, sense conclusions possibles.\nAmb llibertat de moviments pels espais i racons de Barcelona\, la veu del narrador dialoga amb un fantasma: el busca\, l’invoca\, el segueix a través dels seus paisatges\, travessant el llindar entre la vida i la mort. \n  \n \n  \nDirecció: Maria Mauti\nSo: Eva Valiño\, Bernat Fortiana\, Leo Dolgan\, Lucía Herrera Pérez\nProducció Executiva: Alba Bosch Duran\nProducció: Antonio Chavarrías\, Mónica Lozano\nEspanya i Mèxic\, 2025\nVO en català\nDurada: 90’ \n  \n \nCicle “Acció Documental +” organitzat per ACICOM i ACPV. DocsBarcelona / El documental del mes.
URL:https://octubre.cat/activitat/cinema-miralles-de-maria-mauti/
LOCATION:Sala d’actes
CATEGORIES:Acció Documental +
ATTACH;FMTTYPE=image/jpeg:https://octubre.cat/www/wp-content/uploads/2025/09/Miralles1-1024x536-1.jpg
END:VEVENT
BEGIN:VEVENT
DTSTART;TZID=Europe/Andorra:20250910T190000
DTEND;TZID=Europe/Andorra:20250910T190000
DTSTAMP:20260420T190223
CREATED:20250704T163658Z
LAST-MODIFIED:20250704T163658Z
UID:23195-1757530800-1757530800@octubre.cat
SUMMARY:Presentació del llibre Les cicatrius de València\, de Víctor Maceda
DESCRIPTION:De la fúria de l’aigua a la catarsi col·lectiva. \nAmb l’autor acompanyat per Martí Domínguez. \nLa gran riuada de 1957 va marcar un abans   i un després a València. El desviament del  riu Túria —una obra sufragada\, en bona part\, pels veïns— no fou l’única transformació important. Qui era director del diari Las Provincias\, Martí Domínguez\, va pronunciar un gran discurs que denunciava la desídia de les autoritats franquistes i el conformisme atàvic dels valencians\, i l’alcalde de la ciutat\, Tomás Trenor\, també va optar per la insubordinació. El règim va córrer a depurar-los\, però el seu esperit reivindicatiu va esperonar l’emergent valencianisme modern. \nLa terrible dana de 2024 torna a marcar un abans i un després. El model de desenvolupament fomentat des de mitjans del segle xx\, el canvi climàtic i la pèssima gestió de l’emergència han provocat una catàstrofe encara pitjor. Amb més víctimes mortals\, un impacte econòmic molt superior i la mateixa sensació d’indefensió. Enmig del desencís generalitzat\, el valencianisme no troba el seu espai i els postulats ultres i l’antipolítica guanyen terreny. \nEl llibre de Víctor Maceda reviu el passat i aporta les claus de la transformació en què està immersa la societat valenciana contemporània. \n  \n \n(Pòrtic)
URL:https://octubre.cat/activitat/presentacio-del-llibre-les-cicatrius-de-valencia-de-victor-maceda/
LOCATION:Llibreria Fan Set
CATEGORIES:Literatura
ATTACH;FMTTYPE=image/jpeg:https://octubre.cat/www/wp-content/uploads/2025/07/Victor_maceda.jpg
END:VEVENT
END:VCALENDAR