BEGIN:VCALENDAR
VERSION:2.0
PRODID:-//Octubre Centre de Cultura Contemporània - ECPv5.1.6//NONSGML v1.0//EN
CALSCALE:GREGORIAN
METHOD:PUBLISH
X-WR-CALNAME:Octubre Centre de Cultura Contemporània
X-ORIGINAL-URL:https://octubre.cat
X-WR-CALDESC:Events for Octubre Centre de Cultura Contemporània
BEGIN:VTIMEZONE
TZID:Europe/Andorra
BEGIN:DAYLIGHT
TZOFFSETFROM:+0100
TZOFFSETTO:+0200
TZNAME:CEST
DTSTART:20250330T010000
END:DAYLIGHT
BEGIN:STANDARD
TZOFFSETFROM:+0200
TZOFFSETTO:+0100
TZNAME:CET
DTSTART:20251026T010000
END:STANDARD
END:VTIMEZONE
BEGIN:VEVENT
DTSTART;TZID=Europe/Andorra:20250905T190000
DTEND;TZID=Europe/Andorra:20250905T190000
DTSTAMP:20260420T190227
CREATED:20250617T155712Z
LAST-MODIFIED:20250904T095040Z
UID:22934-1757098800-1757098800@octubre.cat
SUMMARY:Presentació de dos llibres sobre lletres i trens d’Antoni Martí Monterde
DESCRIPTION:Am\,b l’autor acompanyat per Gustau Muñoz i Xavier Aliaga.\nEls llibres que es presenten són: \n—L’Estació del Nord. Confessions d’un assagista que se’n va (Afers)\nUn recull d’assaigs breus d’un escriptor valencià que va marxar a Catalunya\, com molts altres joves universitaris valencians\, fa més de vint-i-cinc anys\, però que mai no ha deixat de pensar en el País Valencià: escrits sobre Joan Fuster i Josep Pla\, Feliu Formosa\, Claudio Magris\, Josep Palàcios. La idea de Països Catalans\, la violència política al País Valencià\, literatura i ciutat\, els valencians de la diàspora i una conversa amb Isabel Robles sobre els seus propis llibres ocupen aquestes pàgines: meditacions i lectures de tren en tren\, de l’Estació del Nord a l’Estació de França\, entre les dues capitals del nostre país. \n  \n \n  \n—Memòries d’un vagó de ferrocarril. Història sentimental del corredor mediterrani (Bromera)\nEl llibre és el resultat d’una vida estretament vinculada als trens: des dels primers records d’infantesa al trenet a València\, l’accident de metro del 3 de juliol de 2006 a València també o l’arribada de l’alta velocitat a Barcelona i altres experiències ferroviàries. Unes vivències que\, passades pel sedàs assagístic d’Antoni Martí Monterde\, es converteixen en alguna cosa més. Perquè parlar de trens és parlar de memòria\, de política\, de fronteres i del que és i podria ser Europa. \n 
URL:https://octubre.cat/activitat/presentacio-de-dos-llibres-sobre-lletres-i-trens-dantoni-marti-monterde/
LOCATION:Llibreria Fan Set
CATEGORIES:Literatura
ATTACH;FMTTYPE=image/jpeg:https://octubre.cat/www/wp-content/uploads/2025/06/amartimonterde_fotopratsicamps.jpg
END:VEVENT
END:VCALENDAR