BEGIN:VCALENDAR
VERSION:2.0
PRODID:-//Octubre Centre de Cultura Contemporània - ECPv5.1.6//NONSGML v1.0//EN
CALSCALE:GREGORIAN
METHOD:PUBLISH
X-WR-CALNAME:Octubre Centre de Cultura Contemporània
X-ORIGINAL-URL:https://octubre.cat
X-WR-CALDESC:Events for Octubre Centre de Cultura Contemporània
BEGIN:VTIMEZONE
TZID:Europe/Andorra
BEGIN:DAYLIGHT
TZOFFSETFROM:+0100
TZOFFSETTO:+0200
TZNAME:CEST
DTSTART:20250330T010000
END:DAYLIGHT
BEGIN:STANDARD
TZOFFSETFROM:+0200
TZOFFSETTO:+0100
TZNAME:CET
DTSTART:20251026T010000
END:STANDARD
END:VTIMEZONE
BEGIN:VEVENT
DTSTART;TZID=Europe/Andorra:20250508T190000
DTEND;TZID=Europe/Andorra:20250722T210000
DTSTAMP:20260420T213520
CREATED:20250508T064743Z
LAST-MODIFIED:20250718T095530Z
UID:22735-1746730800-1753218000@octubre.cat
SUMMARY:De l’11M a Mazón. VilaWeb: trenta anys contra la desinformació
DESCRIPTION:Trenta anys encapçalant la transformació del periodisme als Països Catalans \nVilaWeb va ser\, l’any 1995\, el primer diari electrònic dels Països Catalans i un dels primers d’Europa. D’aleshores ençà\, la revolució tecnològica d’internet ha canviat el periodisme i la societat i el diari ha estat a la primera línia d’aquesta transformació: l’extensió pel país\, els telèfons mòbils i la immediatesa\, les xarxes socials\, el vídeo a la web\, la creació d’una nova relació amb els lectors… i tothora fent del periodisme un motor de transformació i consolidant el català en el món global. \nL’exposició està dividida en dues ales. En la primera s’explica com funciona VilaWeb\, la seua història i els seus principis periodístics. I en la segona ala es mostra l’aplicació concreta d’aquests principis en el cas de la gota freda i els intents de manipulació del president de la Generalitat Valenciana. \n—\nComissariat Vilaweb: Esperança Camps\, Assumpció Maresma\, Vicent Partal\nGuionista: Julià Guillamon\nCorrecció lingüística: Jordi Badia\nDisseny gràfic: Albert Planas\nProducció i muntatge: Intervento 2\nProducció audiovisual: Enric Galli\, Jesús Prats\nCollage: Regina Giménez\nUna producció de VilaWeb amb la col·laboració de l’Octubre CCC
URL:https://octubre.cat/activitat/de-l11m-a-mazon-vilaweb-trenta-anys-contra-la-desinformacio/
LOCATION:Sala d’exposicions
CATEGORIES:Exposicions
ATTACH;FMTTYPE=image/jpeg:https://octubre.cat/www/wp-content/uploads/2025/04/vilaweb-horitzontal.jpg
END:VEVENT
BEGIN:VEVENT
DTSTART;TZID=Europe/Andorra:20250704T093000
DTEND;TZID=Europe/Andorra:20250704T140000
DTSTAMP:20260420T213521
CREATED:20250620T154551Z
LAST-MODIFIED:20250620T154551Z
UID:22966-1751621400-1751637600@octubre.cat
SUMMARY:Jornades «Escoltem la cultura»: sector del llibre
DESCRIPTION:09.30 h. Benvinguda\n—Anna Oliver\, presidenta d’ACPV\n—José Maria Bullón\, coordinador de les Jornades \n10.00 h. Sector professional i econòmic del llibre\nModera: Anna Gascón\, secretària d’ACPV\nIntervencions de:\n—Àfrica Ramírez\, presidenta de l’Associació d’Editorials del País Valencià\n—Pau Pertegaz\, director del Gremi de Llibrers de València\n—Teresa Pasqual\, presidenta País Valencià de l’Associació d’Escriptors en Llengua Catalana\n—Àgueda Forés\, directora gerent d’APIV\, Associació de Professionals de la Il·lustració Valenciana\n—Juli Capilla\, director del CEIC Alfons el Vell \n11.30 h. Pausa \n12.00 h. Polítiques públiques de promoció de la lectura\nModera: José María Bullón\, representant de la junta directiva d’ACPV\nIntervencions de:\n—Maria José Gálvez\, Directora General del Libro\, del Cómic y de la Lectura del Ministerio de Cultura y Deporte\n—Teresa Gomis\, presidenta del Col·legi de Bibliotecaris i Documentalistes\n—Alícia Sellés\, presidenta de la Fundació Full\n—Rosa Mengual\, directora de la Fundació Bromera\n—Verònica Cantó\, presidenta de l’Acadèmia Valenciana de la Llengua \n13.30 h. Conclusions i debat \n—\nOrganitza Acció Cultural del País Valencià (ACPV)
URL:https://octubre.cat/activitat/jornades-escoltem-la-cultura-sector-del-llibre/
LOCATION:Sala d’actes
CATEGORIES:Jornades «Escoltem la cultura» 2025
ATTACH;FMTTYPE=image/jpeg:https://octubre.cat/www/wp-content/uploads/2025/04/EscoltemLaCultura-web.jpg
END:VEVENT
BEGIN:VEVENT
DTSTART;TZID=Europe/Andorra:20250704T180000
DTEND;TZID=Europe/Andorra:20250704T180000
DTSTAMP:20260420T213521
CREATED:20250617T153340Z
LAST-MODIFIED:20250626T100819Z
UID:22931-1751652000-1751652000@octubre.cat
SUMMARY:Documental Flores bajo el hielo\, de Marco Potyomkin
DESCRIPTION:Projecció presentada pel director\nDesprés de la pel·lícula\, actuació musical de Vicente Palao \nLa pel·lícula\, a través de la memòria de dones víctimes de la guerra i de la dictadura franquista\, il·lumina una història de l’Espanya aspra\, real i oculta. Una història col·lectiva en la qual les seues protagonistes entrecreuen històries de supervivència individual\, quan viure fou resistir. Un mosaic de mirades que dibuixen un relat universal sobre crims contra la humanitat comesos al segle XX\, mai reconeguts\, mai jutjats\, mai depurats i encara impunes. \n  \n \n  \nDirecció i guió: Marco Potyomkin\nEdició: Marco Potyomkin\nProducció: Sarrió Rojo Films\nMúsica: Sergio Sánchez Bou\nEspanya\, 2024\nVO en valencià\, castellà i francès\nDurada: 116’ \n  \n \n—\nProjecció organitzada per Acicom amb la col·laboració de l’Octubre CCC
URL:https://octubre.cat/activitat/documental-flores-bajo-el-hielo-de-marco-potyomkin/
LOCATION:Sala d’actes
CATEGORIES:Cinema
ATTACH;FMTTYPE=image/jpeg:https://octubre.cat/www/wp-content/uploads/2025/02/flores-hielo.jpeg
END:VEVENT
END:VCALENDAR