BEGIN:VCALENDAR
VERSION:2.0
PRODID:-//Octubre Centre de Cultura Contemporània - ECPv5.1.6//NONSGML v1.0//EN
CALSCALE:GREGORIAN
METHOD:PUBLISH
X-WR-CALNAME:Octubre Centre de Cultura Contemporània
X-ORIGINAL-URL:https://octubre.cat
X-WR-CALDESC:Events for Octubre Centre de Cultura Contemporània
BEGIN:VTIMEZONE
TZID:Europe/Andorra
BEGIN:DAYLIGHT
TZOFFSETFROM:+0100
TZOFFSETTO:+0200
TZNAME:CEST
DTSTART:20250330T010000
END:DAYLIGHT
BEGIN:STANDARD
TZOFFSETFROM:+0200
TZOFFSETTO:+0100
TZNAME:CET
DTSTART:20251026T010000
END:STANDARD
END:VTIMEZONE
BEGIN:VEVENT
DTSTART;TZID=Europe/Andorra:20250508T190000
DTEND;TZID=Europe/Andorra:20250722T210000
DTSTAMP:20260420T225633
CREATED:20250508T064743Z
LAST-MODIFIED:20250718T095530Z
UID:22735-1746730800-1753218000@octubre.cat
SUMMARY:De l’11M a Mazón. VilaWeb: trenta anys contra la desinformació
DESCRIPTION:Trenta anys encapçalant la transformació del periodisme als Països Catalans \nVilaWeb va ser\, l’any 1995\, el primer diari electrònic dels Països Catalans i un dels primers d’Europa. D’aleshores ençà\, la revolució tecnològica d’internet ha canviat el periodisme i la societat i el diari ha estat a la primera línia d’aquesta transformació: l’extensió pel país\, els telèfons mòbils i la immediatesa\, les xarxes socials\, el vídeo a la web\, la creació d’una nova relació amb els lectors… i tothora fent del periodisme un motor de transformació i consolidant el català en el món global. \nL’exposició està dividida en dues ales. En la primera s’explica com funciona VilaWeb\, la seua història i els seus principis periodístics. I en la segona ala es mostra l’aplicació concreta d’aquests principis en el cas de la gota freda i els intents de manipulació del president de la Generalitat Valenciana. \n—\nComissariat Vilaweb: Esperança Camps\, Assumpció Maresma\, Vicent Partal\nGuionista: Julià Guillamon\nCorrecció lingüística: Jordi Badia\nDisseny gràfic: Albert Planas\nProducció i muntatge: Intervento 2\nProducció audiovisual: Enric Galli\, Jesús Prats\nCollage: Regina Giménez\nUna producció de VilaWeb amb la col·laboració de l’Octubre CCC
URL:https://octubre.cat/activitat/de-l11m-a-mazon-vilaweb-trenta-anys-contra-la-desinformacio/
LOCATION:Sala d’exposicions
CATEGORIES:Exposicions
ATTACH;FMTTYPE=image/jpeg:https://octubre.cat/www/wp-content/uploads/2025/04/vilaweb-horitzontal.jpg
END:VEVENT
BEGIN:VEVENT
DTSTART;TZID=Europe/Andorra:20250613T190000
DTEND;TZID=Europe/Andorra:20250627T140000
DTSTAMP:20260420T225634
CREATED:20250613T085758Z
LAST-MODIFIED:20250626T053524Z
UID:22924-1749841200-1751032800@octubre.cat
SUMMARY:«Francesc Ferrer Pastor: l’home que xiuxiuejava paraules»
DESCRIPTION:Ara que fa 25 anys del seu traspàs\, l’11 de juliol de 2000\, celebrem 100 edicions dels seus diccionaris i vocabularis. \nFrancesc Ferrer Pastor (la Font d’en Carròs\, la Safor\, 1918 – València\, 2000) va ser un lexicògraf valencià que va dedicar tota la seua vida a difondre i a normalitzar la llengua catalana al País Valencià.\nDesprés dels seus inicis a Lo Rat Penat a finals dels anys 40 –juntament amb personalitats com ara Carles Salvador\, Enric Valor\, Josep Giner\, etc. – Ferrer Pastor va destacar en la confecció d’obres lexicogràfiques com\, per exemple\, el seu Diccionari de la rima (1956) o el conegudíssim i popular Vocabulari Valencià-Castellà (primera edició en 1960). \n  \n \n  \nTot esperonà Ferrer Pastor a continuar donant resposta a les noves necessitats educatives i socials. I tota aquesta activitat la desenvolupava sense abandonar el seus treballs d’investigació i difusió dels temes de cultura\, tradició i recuperació dels trets culturals en general. Publicà articles de premsa\, fullets de conscienciació i història\, contes infantils… i no deixava d’acudir allà on el demanaven \n—\nMostra realitzada per Acció Cultural del País Valencià i Denes Editorial
URL:https://octubre.cat/activitat/francesc-ferrer-pastor-lhome-que-xiuxiuejava-paraules/
LOCATION:Hall
CATEGORIES:Exposicions,Literatura
ATTACH;FMTTYPE=image/jpeg:https://octubre.cat/www/wp-content/uploads/2025/06/ferrer-pastor.jpg
END:VEVENT
BEGIN:VEVENT
DTSTART;TZID=Europe/Andorra:20250626T190000
DTEND;TZID=Europe/Andorra:20250626T190000
DTSTAMP:20260420T225634
CREATED:20250612T141936Z
LAST-MODIFIED:20250612T141936Z
UID:22911-1750964400-1750964400@octubre.cat
SUMMARY:Presentació del llibre Premi a la corda\, de Sergi Durbà
DESCRIPTION:Amb l’autor acompanyat per Yago Carrilero (secretari de Joves d’Acció Cultural del País Valencià) i Pau Àlvarez (Edicions 96). \nUna taronja clemenvilla dolça com el record\, un rogle de lliris grocs arrelats entre el progrés\, un meló que fa caure les llàgrimes de la tendresa\, el fum del poliestiré amanit amb la hipocresia del poder\, taurons que retraten l’estultícia dels humans. En les pàgines d’aquest llibre\, l’enyor i l’acidesa s’entremesclen amb la nostàlgia i la ruïna\, amb el silenci i les gavines\, amb les albades i els crepuscles. Fruites\, fars i primaveres entre les nits de lluna plena. \nPremi a la corda és una propina de trinquet\, una recopilació de cent joies literàries dedicades a la terra i a la vida\, amb il·lustracions a cavall de la denúncia i el candor. Un camí vers la proesa de perviure entre les cendres del present. \n  \n \n(Edicions 96)
URL:https://octubre.cat/activitat/presentacio-del-llibre-premi-a-la-corda-de-sergi-durba/
LOCATION:Àtic
CATEGORIES:Literatura
ATTACH;FMTTYPE=image/jpeg:https://octubre.cat/www/wp-content/uploads/2025/06/sergidurba.jpg
END:VEVENT
END:VCALENDAR