BEGIN:VCALENDAR
VERSION:2.0
PRODID:-//Octubre Centre de Cultura Contemporània - ECPv5.1.6//NONSGML v1.0//EN
CALSCALE:GREGORIAN
METHOD:PUBLISH
X-WR-CALNAME:Octubre Centre de Cultura Contemporània
X-ORIGINAL-URL:https://octubre.cat
X-WR-CALDESC:Events for Octubre Centre de Cultura Contemporània
BEGIN:VTIMEZONE
TZID:Europe/Andorra
BEGIN:DAYLIGHT
TZOFFSETFROM:+0100
TZOFFSETTO:+0200
TZNAME:CEST
DTSTART:20250330T010000
END:DAYLIGHT
BEGIN:STANDARD
TZOFFSETFROM:+0200
TZOFFSETTO:+0100
TZNAME:CET
DTSTART:20251026T010000
END:STANDARD
END:VTIMEZONE
BEGIN:VEVENT
DTSTART;TZID=Europe/Andorra:20250508T190000
DTEND;TZID=Europe/Andorra:20250722T210000
DTSTAMP:20260420T224949
CREATED:20250508T064743Z
LAST-MODIFIED:20250718T095530Z
UID:22735-1746730800-1753218000@octubre.cat
SUMMARY:De l’11M a Mazón. VilaWeb: trenta anys contra la desinformació
DESCRIPTION:Trenta anys encapçalant la transformació del periodisme als Països Catalans \nVilaWeb va ser\, l’any 1995\, el primer diari electrònic dels Països Catalans i un dels primers d’Europa. D’aleshores ençà\, la revolució tecnològica d’internet ha canviat el periodisme i la societat i el diari ha estat a la primera línia d’aquesta transformació: l’extensió pel país\, els telèfons mòbils i la immediatesa\, les xarxes socials\, el vídeo a la web\, la creació d’una nova relació amb els lectors… i tothora fent del periodisme un motor de transformació i consolidant el català en el món global. \nL’exposició està dividida en dues ales. En la primera s’explica com funciona VilaWeb\, la seua història i els seus principis periodístics. I en la segona ala es mostra l’aplicació concreta d’aquests principis en el cas de la gota freda i els intents de manipulació del president de la Generalitat Valenciana. \n—\nComissariat Vilaweb: Esperança Camps\, Assumpció Maresma\, Vicent Partal\nGuionista: Julià Guillamon\nCorrecció lingüística: Jordi Badia\nDisseny gràfic: Albert Planas\nProducció i muntatge: Intervento 2\nProducció audiovisual: Enric Galli\, Jesús Prats\nCollage: Regina Giménez\nUna producció de VilaWeb amb la col·laboració de l’Octubre CCC
URL:https://octubre.cat/activitat/de-l11m-a-mazon-vilaweb-trenta-anys-contra-la-desinformacio/
LOCATION:Sala d’exposicions
CATEGORIES:Exposicions
ATTACH;FMTTYPE=image/jpeg:https://octubre.cat/www/wp-content/uploads/2025/04/vilaweb-horitzontal.jpg
END:VEVENT
BEGIN:VEVENT
DTSTART;TZID=Europe/Andorra:20250526T160000
DTEND;TZID=Europe/Andorra:20250612T210000
DTSTAMP:20260420T224949
CREATED:20250523T142950Z
LAST-MODIFIED:20250523T143204Z
UID:22820-1748275200-1749762000@octubre.cat
SUMMARY:Maria Beneyto\, una dona forta
DESCRIPTION:Maria Beneyto (València\, 1920 – 2011) és una figura clau de la literatura valenciana i de la postguerra. La seua obra\, extensa i variada\, és un testimoni poderós de la realitat social i emocional del seu temps. Prolífica en prosa i en vers\, tant en castellà com en valencià\, Beneyto va deixar una empremta indeleble en la literatura catalana contemporània. \nLa seua obra ofereix un traçat minuciós dels desvalguts i els perdedors de la societat\, de la identitat femenina i de la llibertat i dignitat de les dones en plena dictadura des d’un punt de vista sempre polièdric\, múltiple i compromès. \nLa mostra ressegueix la vida i l’obra de l’autora començant per la seua infantesa i joventut marcades per la guerra i la postguerra\, les seues obres poètiques i narratives\, les seues relacions literàries i d’amistat amb escriptors com Josep Maria Castellet\, Eugeni d’Ors\, Carles Riba o\, especialment\, Joan Fuster i Vicent Andrés Estellés\, fins a la seua època de maduresa quan és reconeguda amb guardons com el Premi Porrot d’Honor de les Lletres Valencianes\, el Premi Sor Isabel de Villena o el Premi Lluís Guarner al conjunt de la seua obra. \n  \n \n—\nIl·lustracions d’Helga Ambak\nTextos de Josep Ballester
URL:https://octubre.cat/activitat/maria-beneyto-una-dona-forta/
LOCATION:Hall
CATEGORIES:Exposicions,Literatura
ATTACH;FMTTYPE=image/jpeg:https://octubre.cat/www/wp-content/uploads/2025/05/beneyto-capcalera.jpg
END:VEVENT
BEGIN:VEVENT
DTSTART;TZID=Europe/Andorra:20250606T190000
DTEND;TZID=Europe/Andorra:20250606T190000
DTSTAMP:20260420T224950
CREATED:20250504T174439Z
LAST-MODIFIED:20250522T190419Z
UID:22729-1749236400-1749236400@octubre.cat
SUMMARY:Presentació del llibre Illes i deserts\, de Joaquim Seguí
DESCRIPTION:Amb l’autor acompanyat per:\n—Juan José Hernández Barquero. Arquitecte i fotògraf\n—Isidor Marí. Sociolingüista. Llicenciat en filologia catalana (vídeo)\n—Àngels Escandell. Filòloga\, actriu i directora de teatre (vídeo)\nI introducció d’Emili Payà (Octubre CCC) \nIlles i deserts proposa un diàleg entre imatges\, poesia i pensament. Un diàleg que parla de sentiments\, de la percepció humana de la natura\, el que passa al nostre món exterior i al nostre món interior.  La fotografia és l’entramat visual del llibre\, però el pensament i la poesia són els protagonistes. La confluència dels textos literaris d’Isidor Marí\, Àngels Escandell\, Rosa Rodriguez Branchat\, Luís Orozco\, María José López Grande\, Bartomeu Ribes i Fanny Tur estableixen un col·loqui que des de diferents punts de vista donen cohesió i enriqueixen el projecte. Bartomeu Ribes ha dirigit el recull poètic. Cal destacar un merescut reconeixement a Jean Serra i la seva sòlida obra poètica. \n  \n \n(Balàfia Postals Edicions) \nJoaquim Seguí (Palma\, 1951). Resident a Eivissa des de 1991 és Doctor en Medicina per la Universitat de València i cardiòleg\, ha publicat els següents llibres:\n—Escenes etíops. (Català\, castellà\, anglès i amhàric) Ed. Altaïr. Eivissa 2011.\n—Color cubano. (Català\, castellà i anglès). Edició de l’autor amb Altaïr Edicions. Eivissa 2014.\n—L’Índia velada. (Català\, castellà i anglès ). Balàfia Postals Edicions. Eivissa 2020.\n—Illes i deserts. (Català\, castellà). Balàfia Postals Ed. Eivissa 2025. \nL’Octubre CCC va realitzar les seues exposicions fotogràfiques Escenes etíops (2016) i L’Índia velada (2022). \n[Foto de l’autor: Pere Xim Seguí]
URL:https://octubre.cat/activitat/presentacio-del-llibre-illes-i-deserts-de-joaquim-segui/
LOCATION:Aula 1
CATEGORIES:Literatura
ATTACH;FMTTYPE=image/jpeg:https://octubre.cat/www/wp-content/uploads/2025/05/joaquim-segui.jpg
END:VEVENT
BEGIN:VEVENT
DTSTART;TZID=Europe/Andorra:20250606T190000
DTEND;TZID=Europe/Andorra:20250606T190000
DTSTAMP:20260420T224950
CREATED:20250530T161346Z
LAST-MODIFIED:20250531T152022Z
UID:22861-1749236400-1749236400@octubre.cat
SUMMARY:Sona 9 2025
DESCRIPTION:Organitzat per Enderrock i 3Cat (Catalunya Ràdio-iCat i TV3)\, la 25a edició del Sona9\, la plataforma de música emergent dels Països Catalans\, es posa en marxa. \nEls deu concerts preliminars tindran lloc el mes de juny a Barcelona (2\, 4\, 5 i 18)\, València (6)\, Escaldes-Engordany (12)\, Tarragona (15)\, Lleida (19)\, Salt (20) i Palma (25)\, i serviran per seleccionar els semifinalistes de la 25a edició del Sona9. Els artistes oferiran un showcase de 20 minuts a cadascuna de les seves demarcacions. La selecció representa la gran varietat estilística de l’escena emergent catalana i presenta una paritat absoluta de gènere\, demostrant que després d’un quart de segle el concurs Sona9 continua sent l’aparador més important de la música emergent catalana. \nConcert preliminar a València: divendres 6 de juny a les 19.00h: \nMEL DE ROMER (Pop-folk · Castelló de la Plana)\nONES (Indie pop electrònic · Alzira)\nTRAMUNTANA (Noise pop · Riba-Roja de Túria) \n—\nOrganitzat per Enderrock i 3Cat amb la col·laboració d’Acció Cultural del País Valencià
URL:https://octubre.cat/activitat/sona9-2025/
LOCATION:Sala d’actes
CATEGORIES:Música
ATTACH;FMTTYPE=image/jpeg:https://octubre.cat/www/wp-content/uploads/2025/05/sona-9-2025.jpg
END:VEVENT
END:VCALENDAR