BEGIN:VCALENDAR
VERSION:2.0
PRODID:-//Octubre Centre de Cultura Contemporània - ECPv5.1.6//NONSGML v1.0//EN
CALSCALE:GREGORIAN
METHOD:PUBLISH
X-WR-CALNAME:Octubre Centre de Cultura Contemporània
X-ORIGINAL-URL:https://octubre.cat
X-WR-CALDESC:Events for Octubre Centre de Cultura Contemporània
BEGIN:VTIMEZONE
TZID:Europe/Andorra
BEGIN:DAYLIGHT
TZOFFSETFROM:+0100
TZOFFSETTO:+0200
TZNAME:CEST
DTSTART:20250330T010000
END:DAYLIGHT
BEGIN:STANDARD
TZOFFSETFROM:+0200
TZOFFSETTO:+0100
TZNAME:CET
DTSTART:20251026T010000
END:STANDARD
END:VTIMEZONE
BEGIN:VEVENT
DTSTART;TZID=Europe/Andorra:20250508T190000
DTEND;TZID=Europe/Andorra:20250722T210000
DTSTAMP:20260421T002252
CREATED:20250508T064743Z
LAST-MODIFIED:20250718T095530Z
UID:22735-1746730800-1753218000@octubre.cat
SUMMARY:De l’11M a Mazón. VilaWeb: trenta anys contra la desinformació
DESCRIPTION:Trenta anys encapçalant la transformació del periodisme als Països Catalans \nVilaWeb va ser\, l’any 1995\, el primer diari electrònic dels Països Catalans i un dels primers d’Europa. D’aleshores ençà\, la revolució tecnològica d’internet ha canviat el periodisme i la societat i el diari ha estat a la primera línia d’aquesta transformació: l’extensió pel país\, els telèfons mòbils i la immediatesa\, les xarxes socials\, el vídeo a la web\, la creació d’una nova relació amb els lectors… i tothora fent del periodisme un motor de transformació i consolidant el català en el món global. \nL’exposició està dividida en dues ales. En la primera s’explica com funciona VilaWeb\, la seua història i els seus principis periodístics. I en la segona ala es mostra l’aplicació concreta d’aquests principis en el cas de la gota freda i els intents de manipulació del president de la Generalitat Valenciana. \n—\nComissariat Vilaweb: Esperança Camps\, Assumpció Maresma\, Vicent Partal\nGuionista: Julià Guillamon\nCorrecció lingüística: Jordi Badia\nDisseny gràfic: Albert Planas\nProducció i muntatge: Intervento 2\nProducció audiovisual: Enric Galli\, Jesús Prats\nCollage: Regina Giménez\nUna producció de VilaWeb amb la col·laboració de l’Octubre CCC
URL:https://octubre.cat/activitat/de-l11m-a-mazon-vilaweb-trenta-anys-contra-la-desinformacio/
LOCATION:Sala d’exposicions
CATEGORIES:Exposicions
ATTACH;FMTTYPE=image/jpeg:https://octubre.cat/www/wp-content/uploads/2025/04/vilaweb-horitzontal.jpg
END:VEVENT
BEGIN:VEVENT
DTSTART;TZID=Europe/Andorra:20250516T160000
DTEND;TZID=Europe/Andorra:20250516T160000
DTSTAMP:20260421T002252
CREATED:20250427T095455Z
LAST-MODIFIED:20250427T095455Z
UID:22685-1747411200-1747411200@octubre.cat
SUMMARY:DocsValència 2025: Burnout\, d’Ander Duque
DESCRIPTION:Burnout és una pel·lícula que neix d’una realitat urbana reconeixible. Sense pretendre fer cinema social\, la pròpia existència del personatge ressona a eco generacional. Els passos del protagonista transiten un camí comú: expectatives sota mínims\, rutina mortificant\, aspiracions castrades\, austeritat i tots els tòpics d’una societat instal·lada en allò provisional… i aleshores\, on queda l’art? quin sentit té? quant s’ha perdut pel camí? \nDirecció: Ander Duque\nProducció: Felipe Almendros\, Ander Duque\nFotografia: Ander Duque\nEdició: Ander Duque\nDisseny sonor: Alejandro Mazzoni\nEstrena: València\nPaís: Espanya\nAny: 2024\nDurada: 60 min\nIdioma: castellà \n  \n\n—\nLa novena edició del Festival DocsValència / Espai de No Ficció se celebra a València del 9 al 17 de maig de 2025. Les sessions tenen lloc als Cines Lys\, el Col·legi Major Rector Peset\, el Centre del Carme i l’Octubre CCC.
URL:https://octubre.cat/activitat/docsvalencia-2025-burnout-dander-duque/
LOCATION:Sala d’actes
CATEGORIES:DocsValència 2025
ATTACH;FMTTYPE=image/jpeg:https://octubre.cat/www/wp-content/uploads/2025/04/FOTOGRAMA-BURNOUT_5.jpg
END:VEVENT
BEGIN:VEVENT
DTSTART;TZID=Europe/Andorra:20250516T180000
DTEND;TZID=Europe/Andorra:20250516T180000
DTSTAMP:20260421T002252
CREATED:20250426T164638Z
LAST-MODIFIED:20250426T164638Z
UID:22659-1747418400-1747418400@octubre.cat
SUMMARY:DocsValència 2025: Pax in Lucem\, d’Emiliano Mazza De Luca
DESCRIPTION:La troballa de tres grans fragments del mural Pax in Lucem\, una de les obres icòniques del pintor Joaquim Torres García\, supervivents de l’incendi del Museu d’Art Modern de Rio de Janeiro el 1978\, disparen en el seu besnét Alejandro un viatge cap a l’origen de l’artista i la seua recerca d’un art universal. \nDirecció: Emiliano Mazza De Luca\nProducció: Emiliano Mazza De Luca\, Soledad Martínez\, Javier Soto\nFotografia: Cirilo Barba\nEdició: Pablo Riera\nDisseny sonor: Daniel Yafalian\nEstrena: Espanya\nPaís: Uruguai\, Espanya\nAny: 2024\nDurada: 95 min.\nIdioma: castellà i català \n  \n\n—\nLa novena edició del Festival DocsValència / Espai de No Ficció se celebra a València del 9 al 17 de maig de 2025. Les sessions tenen lloc als Cines Lys\, el Col·legi Major Rector Peset\, el Centre del Carme i l’Octubre CCC.
URL:https://octubre.cat/activitat/docsvalencia-2025-pax-in-lucem-demiliano-mazza-de-luca/
LOCATION:Sala d’actes
CATEGORIES:DocsValència 2025
ATTACH;FMTTYPE=image/jpeg:https://octubre.cat/www/wp-content/uploads/2025/04/Pax-In-Lucem_Still-2-opt.jpg
END:VEVENT
BEGIN:VEVENT
DTSTART;TZID=Europe/Andorra:20250516T200000
DTEND;TZID=Europe/Andorra:20250516T200000
DTSTAMP:20260421T002252
CREATED:20250426T152422Z
LAST-MODIFIED:20250426T152422Z
UID:22635-1747425600-1747425600@octubre.cat
SUMMARY:DocsValència 2025: Tierra normal\, de José Andrés Saiz
DESCRIPTION:La persona més gran del poble\, el ferrer i alcalde\, el capellà i un jove agricultor conviuen en una petita vila de la Manxa. Dins de la seua quotidianitat són aparentment aliens als problemes de l’Espanya buidada. Mentrestant\, la construcció del magatzem de residus nuclears roman al seu horitzó. \nDirecció\, producció\, fotografia\, edició i disseny sonor: José Andrés Saiz\nEstrena: internacional\nPaís: Espanya\nAny: 2024\nDurada: 77 min\nIdioma: castellà \n  \n \n—\nLa novena edició del Festival DocsValència / Espai de No Ficció se celebra a València del 9 al 17 de maig de 2025. Les sessions tenen lloc als Cines Lys\, el Col·legi Major Rector Peset\, el Centre del Carme i l’Octubre CCC.
URL:https://octubre.cat/activitat/docsvalencia-2025-tierra-normal-de-jose-andres-saiz/
LOCATION:Sala d’actes
CATEGORIES:DocsValència 2025
ATTACH;FMTTYPE=image/jpeg:https://octubre.cat/www/wp-content/uploads/2025/04/Tierra-Normal-Still-01.jpg
END:VEVENT
END:VCALENDAR