BEGIN:VCALENDAR
VERSION:2.0
PRODID:-//Octubre Centre de Cultura Contemporània - ECPv5.1.6//NONSGML v1.0//EN
CALSCALE:GREGORIAN
METHOD:PUBLISH
X-WR-CALNAME:Octubre Centre de Cultura Contemporània
X-ORIGINAL-URL:https://octubre.cat
X-WR-CALDESC:Events for Octubre Centre de Cultura Contemporània
BEGIN:VTIMEZONE
TZID:Europe/Andorra
BEGIN:DAYLIGHT
TZOFFSETFROM:+0100
TZOFFSETTO:+0200
TZNAME:CEST
DTSTART:20250330T010000
END:DAYLIGHT
BEGIN:STANDARD
TZOFFSETFROM:+0200
TZOFFSETTO:+0100
TZNAME:CET
DTSTART:20251026T010000
END:STANDARD
END:VTIMEZONE
BEGIN:VEVENT
DTSTART;TZID=Europe/Andorra:20250508T190000
DTEND;TZID=Europe/Andorra:20250722T210000
DTSTAMP:20260421T002229
CREATED:20250508T064743Z
LAST-MODIFIED:20250718T095530Z
UID:22735-1746730800-1753218000@octubre.cat
SUMMARY:De l’11M a Mazón. VilaWeb: trenta anys contra la desinformació
DESCRIPTION:Trenta anys encapçalant la transformació del periodisme als Països Catalans \nVilaWeb va ser\, l’any 1995\, el primer diari electrònic dels Països Catalans i un dels primers d’Europa. D’aleshores ençà\, la revolució tecnològica d’internet ha canviat el periodisme i la societat i el diari ha estat a la primera línia d’aquesta transformació: l’extensió pel país\, els telèfons mòbils i la immediatesa\, les xarxes socials\, el vídeo a la web\, la creació d’una nova relació amb els lectors… i tothora fent del periodisme un motor de transformació i consolidant el català en el món global. \nL’exposició està dividida en dues ales. En la primera s’explica com funciona VilaWeb\, la seua història i els seus principis periodístics. I en la segona ala es mostra l’aplicació concreta d’aquests principis en el cas de la gota freda i els intents de manipulació del president de la Generalitat Valenciana. \n—\nComissariat Vilaweb: Esperança Camps\, Assumpció Maresma\, Vicent Partal\nGuionista: Julià Guillamon\nCorrecció lingüística: Jordi Badia\nDisseny gràfic: Albert Planas\nProducció i muntatge: Intervento 2\nProducció audiovisual: Enric Galli\, Jesús Prats\nCollage: Regina Giménez\nUna producció de VilaWeb amb la col·laboració de l’Octubre CCC
URL:https://octubre.cat/activitat/de-l11m-a-mazon-vilaweb-trenta-anys-contra-la-desinformacio/
LOCATION:Sala d’exposicions
CATEGORIES:Exposicions
ATTACH;FMTTYPE=image/jpeg:https://octubre.cat/www/wp-content/uploads/2025/04/vilaweb-horitzontal.jpg
END:VEVENT
BEGIN:VEVENT
DTSTART;TZID=Europe/Andorra:20250510T160000
DTEND;TZID=Europe/Andorra:20250510T160000
DTSTAMP:20260421T002229
CREATED:20250427T085334Z
LAST-MODIFIED:20250427T085551Z
UID:22668-1746892800-1746892800@octubre.cat
SUMMARY:DocsValència 2025: Night of the Coyotes\, de Clara Trischler
DESCRIPTION:Un poble indígena mexicà s’està convertint en un poble fantasma a mesura que els seus habitants emigren. Per a sobreviure\, comencen a simular una experiència que tots coneixen: creuar il·legalment la frontera amb els Estats Units. Es converteixen\, doncs\, en guàrdies fronterers i traficants de persones per a oferir als turistes que paguen l’oportunitat de posar-se a la pell d’un migrant durant una nit. \nDirecció: Clara Trischler\nProducció: Florian Brüning\, Thomas Herberth\, Rebecca Fuxen\nFotografia: Miriam Ortiz Guzmán\nEdició: Marielle Pohlmann\nDisseny sonor: Tilman Eberle\nEstrena: Espanya\nPaís: Àustria\, Alemanya\nAny: 2024\nDurada: 79 min\nIdioma: castellà\, otomí \n  \n\n—\nLa novena edició del Festival DocsValència / Espai de No Ficció se celebra a València del 9 al 17 de maig de 2025. Les sessions tenen lloc als Cines Lys\, el Col·legi Major Rector Peset\, el Centre del Carme i l’Octubre CCC.
URL:https://octubre.cat/activitat/docsvalencia-2025-night-of-the-coyotes-de-clara-trischler/
LOCATION:Sala d’actes
CATEGORIES:DocsValència 2025
ATTACH;FMTTYPE=image/jpeg:https://octubre.cat/www/wp-content/uploads/2025/04/Night-of-the-Coyotes_still1.jpg
END:VEVENT
BEGIN:VEVENT
DTSTART;TZID=Europe/Andorra:20250510T180000
DTEND;TZID=Europe/Andorra:20250510T180000
DTSTAMP:20260421T002229
CREATED:20250426T160213Z
LAST-MODIFIED:20250426T160213Z
UID:22650-1746900000-1746900000@octubre.cat
SUMMARY:DocsValència 2025: Quédate quieto\, de Joanna Lombardi Pollaloro
DESCRIPTION:Hilton és l’enterramorts d’un cementeri il·legal. Davant de sa casa hi ha un rètol: «Se hace hueco tumba». Hilda i Cristina creuen el cementeri\, els han dit que començarà una invasió\, són joves i volen una casa pròpia. Per aconseguir-ho s’han de quedar allà\, sense moure’s. Hilton mira preocupat la invasió que es comença a formar. Si ho envaeixen\, no tindrà espai per a continuar cavant tombes. \nDirecció: Joanna Lombardi Pollarolo\nProducció: Enid «Pinky» Campos\, Hernán Musaluppi\, Juan G. Castro\nFotografia: Micaela Cajahuaringa\nEdició: Eric Williams\nDisseny sonor: Rosa María Oliart\nEstrena: València\nPaís: Països Baixos\, Perú\, Uruguai\nAny: 2024\nDurada: 75 min\nIdioma: castellà \n  \n\n—\nLa novena edició del Festival DocsValència / Espai de No Ficció se celebra a València del 9 al 17 de maig de 2025. Les sessions tenen lloc als Cines Lys\, el Col·legi Major Rector Peset\, el Centre del Carme i l’Octubre CCC.
URL:https://octubre.cat/activitat/docsvalencia-2025-quedate-quieto-de-joanna-lombardi-pollaloro/
LOCATION:Sala d’actes
CATEGORIES:DocsValència 2025
ATTACH;FMTTYPE=image/jpeg:https://octubre.cat/www/wp-content/uploads/2025/04/Quedate-quieto_web1.jpg
END:VEVENT
BEGIN:VEVENT
DTSTART;TZID=Europe/Andorra:20250510T200000
DTEND;TZID=Europe/Andorra:20250510T200000
DTSTAMP:20260421T002229
CREATED:20250426T153905Z
LAST-MODIFIED:20250427T081433Z
UID:22639-1746907200-1746907200@octubre.cat
SUMMARY:DocsValència 2025: This is Ballroom\, de Juru i Vitã
DESCRIPTION:A la ciutat de Rio de Janeiro i els seus voltants\, la joventut LGBTQ+ de color recrea la cultura del ballroom a la seua manera. Un retrat dels drames\, les actuacions de voguing i l’art de les ombres\, 50 anys després del seu naixement a Nova York. Rio està en flames! \nTítol original: Salão de Baile\nDirrecció: Juru\, Vitã\nProducció: Luis Alencar\, Vladimir Seixas\nFotografia: Juru\, Vitã\nEdició: Juru\, Vitã\nDisseny sonor: Thiago Sobral\nEstrena: València\nPaís: Brasil\nAny: 2024\nDurada: 92 min\nIdioma: portuguès \n  \n\n—\nLa novena edició del Festival DocsValència / Espai de No Ficció se celebra a València del 9 al 17 de maig de 2025. Les sessions tenen lloc als Cines Lys\, el Col·legi Major Rector Peset\, el Centre del Carme i l’Octubre CCC.
URL:https://octubre.cat/activitat/docsvalencia-2025-this-is-ballroom-de-juru-vita/
LOCATION:Sala d’actes
CATEGORIES:DocsValència 2025
ATTACH;FMTTYPE=image/jpeg:https://octubre.cat/www/wp-content/uploads/2025/04/This-is-ballroom-Still-2.jpg
END:VEVENT
END:VCALENDAR