BEGIN:VCALENDAR
VERSION:2.0
PRODID:-//Octubre Centre de Cultura Contemporània - ECPv5.1.6//NONSGML v1.0//EN
CALSCALE:GREGORIAN
METHOD:PUBLISH
X-WR-CALNAME:Octubre Centre de Cultura Contemporània
X-ORIGINAL-URL:https://octubre.cat
X-WR-CALDESC:Events for Octubre Centre de Cultura Contemporània
BEGIN:VTIMEZONE
TZID:Europe/Andorra
BEGIN:DAYLIGHT
TZOFFSETFROM:+0100
TZOFFSETTO:+0200
TZNAME:CEST
DTSTART:20250330T010000
END:DAYLIGHT
BEGIN:STANDARD
TZOFFSETFROM:+0200
TZOFFSETTO:+0100
TZNAME:CET
DTSTART:20251026T010000
END:STANDARD
END:VTIMEZONE
BEGIN:VEVENT
DTSTART;TZID=Europe/Andorra:20250505T093000
DTEND;TZID=Europe/Andorra:20250505T133000
DTSTAMP:20260421T002244
CREATED:20250424T092320Z
LAST-MODIFIED:20250427T143746Z
UID:22614-1746437400-1746451800@octubre.cat
SUMMARY:Jornades «Escoltem la cultura»: sector de les arts escèniques
DESCRIPTION:09.30 h. Inauguració del les Jornades.\n—Anna Oliver\, presidenta d’ACPV\n—José Maria Bullón\, coordinador de les Jornades \n09.45 h. Introducció. Coordinador general i coordinador de la jornada\, Joanfran Rozaleny\, productor teatral\, gerent de la companyia La Dependent. \n10.00 h. Intervencions dels ponents\n—Carme Maria Serrano\, Junta directiva de PROART\, Junta directiva de GC. Creadora\, distribuïdora i mediadora cultural.\n—María Almudéver\, presidenta de l’Associació d’Actrius i Actors Professionals Valencians (AAPV)\n—Benja Domènech\, programador cultural de Silla\, representant del Circuit Cultural Valencià i membre de GESTIÓ CULTURAL\n—María Colomer\, presidenta de l’Associació de Professionals del Circ de la Comunitat Valenciana.  (APCCV)\n—Kika Garcelán\,  creadora\, productora i mediadora cultural\, representant de COMITÉ ESCÈNIQUES\,\n—Pere Bodí\, representant d’APDCV. \n11.30 – 12.15 h. Pausa\n12.15 h. Lectura i posada en comú de les primeres conclusions.\n12.30 h. Espai de participació: suggeriments de modificacions i propostes millorades per les persones assistents.\n13.30 h. Acabament de la jornada. \n—\nOrganitza Acció Cultural del País Valencià (ACPV)
URL:https://octubre.cat/activitat/jornades-escoltem-la-cultura-sector-de-les-arts-esceniques/
LOCATION:Sala d’actes
CATEGORIES:Jornades «Escoltem la cultura» 2025
ATTACH;FMTTYPE=image/jpeg:https://octubre.cat/www/wp-content/uploads/2025/04/EscoltemLaCultura-web.jpg
END:VEVENT
BEGIN:VEVENT
DTSTART;TZID=Europe/Andorra:20250505T160000
DTEND;TZID=Europe/Andorra:20250505T200000
DTSTAMP:20260421T002244
CREATED:20250424T092858Z
LAST-MODIFIED:20250427T143821Z
UID:22617-1746460800-1746475200@octubre.cat
SUMMARY:Jornades «Escoltem la cultura»: sector de la música
DESCRIPTION:16.00 h. Introducció. Coordinador general  i coordinadora de la jornada\, Isa Monzó\, comunicadora experta en música. \n16.30 h. Intervencions dels ponents\n—Vicent Colonques\, pianista\, productor musical\, director artístic i musical i comunicador.\n—Marina Alcantud\, compositora i productora.\n—May Ibañez\,  Project Manager de la Valencian Music Office.\n—Pau Alabajos\, representant del Col·lectiu Ovidi Montllor de Músics (COM)\n—Rafa Jordán\, membre de Pro21Cultural i secretari de MusicaProCV \n18.00 -18.45 h. Pausa\n18.45 h. Lectura i posada en comú de les primeres conclusions.\n19.00 h. Espai de participació: suggeriments de modificacions i propostes millorades per les persones assistents.\n20.00 h. Acabament de la jornada. \n—\nOrganitza Acció Cultural del País Valencià (ACPV)
URL:https://octubre.cat/activitat/jornades-escoltem-la-cultura-sector-de-la-musica/
LOCATION:Sala d’actes
CATEGORIES:Jornades «Escoltem la cultura» 2025
ATTACH;FMTTYPE=image/jpeg:https://octubre.cat/www/wp-content/uploads/2025/04/EscoltemLaCultura-web.jpg
END:VEVENT
END:VCALENDAR