BEGIN:VCALENDAR
VERSION:2.0
PRODID:-//Octubre Centre de Cultura Contemporània - ECPv5.1.6//NONSGML v1.0//EN
CALSCALE:GREGORIAN
METHOD:PUBLISH
X-WR-CALNAME:Octubre Centre de Cultura Contemporània
X-ORIGINAL-URL:https://octubre.cat
X-WR-CALDESC:Events for Octubre Centre de Cultura Contemporània
BEGIN:VTIMEZONE
TZID:Europe/Andorra
BEGIN:DAYLIGHT
TZOFFSETFROM:+0100
TZOFFSETTO:+0200
TZNAME:CEST
DTSTART:20250330T010000
END:DAYLIGHT
BEGIN:STANDARD
TZOFFSETFROM:+0200
TZOFFSETTO:+0100
TZNAME:CET
DTSTART:20251026T010000
END:STANDARD
END:VTIMEZONE
BEGIN:VEVENT
DTSTART;TZID=Europe/Andorra:20250409T193000
DTEND;TZID=Europe/Andorra:20250425T210000
DTSTAMP:20260421T020234
CREATED:20250330T143557Z
LAST-MODIFIED:20250404T142619Z
UID:22536-1744227000-1745614800@octubre.cat
SUMMARY:«Al fil del gravat»\, d’Ana Estudillo i Maria José Blasco
DESCRIPTION:Primera exposició conjunta d’Ana Estudillo i Maria José Blasco fruit d’una recerca desenvolupada durant cinc anys. Experimentació tècnica i experiència personal on revelen noves formes d’expressió artística i un nou llenguatge estètic de tècnica híbrida dotat d’una infinitat de significats i interpretacions. \nL’exposició estableix un diàleg entre materials\, tècniques i processos\, on el gravat passa a ser el fil conductor entre artesania i tecnologia. Processos híbrids que conversen entre ells\, oferint una visió artística renovada i enriquida per la tecnologia. \nFiguració i abstracció\, un diàleg entre l’onirisme poètic d’Ana Estudillo i el recorregut introspectiu de Maria José Blasco\, emprant el llenguatge universal del gravat\, l’estampació\, els punts\, els nusos i el brodat. \nRosario Ibáñez Sanz (comissària de l’exposició) \n \nMés informació al nostre blog \n—\nAutores: Ana Estudillo / Maria José Blasco\nComissària: Rosario Ibáñez Sanz\nAgraïments: Ignacio Igual\, Mila Payà\, Juan Carlos Pitarch\, Javier Mestre
URL:https://octubre.cat/activitat/al-fil-del-gravat-dana-estudillo-i-maria-jose-blasco/
LOCATION:Sala d’exposicions
CATEGORIES:Exposicions
ATTACH;FMTTYPE=image/jpeg:https://octubre.cat/www/wp-content/uploads/2025/03/tortugues-al-fil-del-gravat-web.jpg
END:VEVENT
BEGIN:VEVENT
DTSTART;TZID=Europe/Andorra:20250410T190000
DTEND;TZID=Europe/Andorra:20250410T190000
DTSTAMP:20260421T020234
CREATED:20250325T171538Z
LAST-MODIFIED:20260130T094924Z
UID:22527-1744311600-1744311600@octubre.cat
SUMMARY:Presentació del llibre És naufragi\, de Magda Simó
DESCRIPTION:Premi Lletraferit de Novel·la 2024\nAmb l’autora acompanyada per l’editor Vicent Baydal i l’escriptora Núria Cadenes. \nSense que res ho faça presagiar\, un dia qualsevol una dona amb una vida aparentment normal agafa un tren i fuig. Necessita allunyar-se de tot tant com siga possible\, ferida per la mossegada ferotge de la carn\, l’amor i la renúncia quan la vida ja apuntava en una altra direcció. \nAmb estos materials s’alça una novel·la intimista\, crua i bellíssima sobre l’abisme entre la vida viscuda i la vida desitjada. Sobre el pes de la cultura heretada i els insectes invisibles que corquen el marbre il·lusori de la família\, el treball i la parella canònica. \nEsta és una història de dones que no es resignen a enyorar el que no va ser. I que duen als muscles el pes del seu coratge a través de totes les èpoques. Durant un viatge desesperat\, la narració repassa amb una sinceritat esfereïdora cadascuna de les ones de desig i imposició que conduïxen a la protagonista\, inevitablement\, al naufragi. \n  \n \n(Drassana) \n  \nAmb la col·laboració de:
URL:https://octubre.cat/activitat/presentacio-del-llibre-es-naufragi-de-magda-simo/
LOCATION:Llibreria Fan Set
CATEGORIES:Literatura
ATTACH;FMTTYPE=image/jpeg:https://octubre.cat/www/wp-content/uploads/2025/03/magda-simo-drassana.jpg
END:VEVENT
END:VCALENDAR