BEGIN:VCALENDAR
VERSION:2.0
PRODID:-//Octubre Centre de Cultura Contemporània - ECPv5.1.6//NONSGML v1.0//EN
CALSCALE:GREGORIAN
METHOD:PUBLISH
X-WR-CALNAME:Octubre Centre de Cultura Contemporània
X-ORIGINAL-URL:https://octubre.cat
X-WR-CALDESC:Events for Octubre Centre de Cultura Contemporània
BEGIN:VTIMEZONE
TZID:Europe/Andorra
BEGIN:DAYLIGHT
TZOFFSETFROM:+0100
TZOFFSETTO:+0200
TZNAME:CEST
DTSTART:20250330T010000
END:DAYLIGHT
BEGIN:STANDARD
TZOFFSETFROM:+0200
TZOFFSETTO:+0100
TZNAME:CET
DTSTART:20251026T010000
END:STANDARD
END:VTIMEZONE
BEGIN:VEVENT
DTSTART;TZID=Europe/Andorra:20250404T183000
DTEND;TZID=Europe/Andorra:20250404T183000
DTSTAMP:20260421T020241
CREATED:20250206T094419Z
LAST-MODIFIED:20250206T095141Z
UID:22279-1743791400-1743791400@octubre.cat
SUMMARY:Presentació del llibre Claves de política global\, dirigit per Carlos Corrochano
DESCRIPTION:Amb la participació de:\n—Carlos Corrochano\, coordinador del llibre i Director de Gabinet de la Secretaria d’Estat d’Economia Social\n—Vicent Marzà\, eurodiputat de Compromís\nPresentat per la periodista Clara Castelló \nEls conceptes clau per entendre la política global actual. L’acceleració de la crisi ecològica\, les guerres\, el populisme autoritari i la policrisi ens situen en un canvi d’època que genera desorientació. Aquest llibre col·lectiu\, coordinat per Carlos Corrochano\, reuneix veus crítiques per repensar les eines intel·lectuals necessàries per transformar el sistema-món. \n  \n \n(Arpa)\n—\nOrganitza: Acció Cultural del País Valencià
URL:https://octubre.cat/activitat/presentacio-del-llibre-claves-de-politica-global-dirigit-per-carlos-corrochano/
LOCATION:Hall
CATEGORIES:Conferències i congressos
ATTACH;FMTTYPE=image/jpeg:https://octubre.cat/www/wp-content/uploads/2025/02/corrochano.jpg
END:VEVENT
BEGIN:VEVENT
DTSTART;TZID=Europe/Andorra:20250404T200000
DTEND;TZID=Europe/Andorra:20250404T200000
DTSTAMP:20260421T020241
CREATED:20250210T093437Z
LAST-MODIFIED:20250210T093437Z
UID:22289-1743796800-1743796800@octubre.cat
SUMMARY:BarnaSants 2025: Hugo Mas
DESCRIPTION:El poeta i cantautor Hugo Mas (Alcoi\, 1977) presenta l’àlbum Valls (2024)\, una agosarada musicació de diferents poemes del poeta alcoià Joan Valls (1917-1989) acompanyat aquest vegada per la banda de jazz contemporani BRON. \nEn aquesta ocasió\, la cançó d’autor d’Hugo Mas és travessada per uns arranjaments que suposen una clara inherència en el terreny del jazz contemporani. \nL’obra poètica de Joan Valls\, tot i sent aquest autor una primera espasa de la literatura catalana\, no és a penes coneguda. Aquest disc recupera\, doncs\, una part del patrimoni poètic valencià i l’emmarca dins de la importantíssima tradició poètica-musical catalana de la cançó d’autor\, que ve des del segle XIII amb els trobadors i joglars.  \n  \n \n—\nConcert organitzat pel Festival BarnaSants amb la col·laboració de l’Octubre CCC
URL:https://octubre.cat/activitat/barnasants-2025-hugo-mas/
LOCATION:Sala d’actes
CATEGORIES:BarnaSants 2025
ATTACH;FMTTYPE=image/jpeg:https://octubre.cat/www/wp-content/uploads/2025/02/5-hugo-mas.jpg
END:VEVENT
END:VCALENDAR