BEGIN:VCALENDAR
VERSION:2.0
PRODID:-//Octubre Centre de Cultura Contemporània - ECPv5.1.6//NONSGML v1.0//EN
CALSCALE:GREGORIAN
METHOD:PUBLISH
X-WR-CALNAME:Octubre Centre de Cultura Contemporània
X-ORIGINAL-URL:https://octubre.cat
X-WR-CALDESC:Events for Octubre Centre de Cultura Contemporània
BEGIN:VTIMEZONE
TZID:Europe/Andorra
BEGIN:DAYLIGHT
TZOFFSETFROM:+0100
TZOFFSETTO:+0200
TZNAME:CEST
DTSTART:20250330T010000
END:DAYLIGHT
BEGIN:STANDARD
TZOFFSETFROM:+0200
TZOFFSETTO:+0100
TZNAME:CET
DTSTART:20251026T010000
END:STANDARD
END:VTIMEZONE
BEGIN:VEVENT
DTSTART;TZID=Europe/Andorra:20250403T190000
DTEND;TZID=Europe/Andorra:20250403T190000
DTSTAMP:20260421T020252
CREATED:20250228T163234Z
LAST-MODIFIED:20260130T094819Z
UID:22436-1743706800-1743706800@octubre.cat
SUMMARY:Presentació del llibre Els afores\, d’Isabel Garcia Canet
DESCRIPTION:Premi Octubre Vicent Andrés Estellés de Poesia 2024\nAmb l’autora acompanyada per Joaquim Bosch.\nRecital a càrrec de Pilar Almeria i actuació musical de Tomàs de los Santos. \nAllò que està en el nostre entorn més immediat constitueix el nostre trajecte vital i més humà\, el nostre procés\, malgrat que siga llunyà\, forma i forja orgànicament i cognitiva la nostra identitat. Aquell centre al qual mai no arribem del tot\, el del propi llenguatge\, perquè el llenguatge el fem habitant-lo\, com el de les emocions nostres i dels altres\, com la mateixa poesia\, el fet poètic\, les paraules\, la paraula.\nPerquè tot són afores\, i\, tot centre\, malgrat que semble una paradoxa\, és aparentment fràgil i arribar a la profunditat és inassolible\, com el seu contorn. Travessar els afores i assimilar-los per retrobar-nos en un territori que ja no és essencialment perifèric sinó amalgama de temes com el poble\, el terme\, la llengua\, l’educació\, la quotidianitat\, la desconeixença\, el dubte i la incertesa\, les relacions de parella\, amistats\, família\, la pèrdua\, la intuïció\, la sororitat\, els valors\, la malaltia\, la naturalesa\, l’herència\, la sinceritat\, i el fet dels afores que ens reciclen com a humans teixidors de xarxes\, de cura i llenguatge.\nEls afores que ens habiten d’una manera incondicional com un batec que ens tempta a salvar els instants amb paraules. \n  \n \n(Tres i Quatre) \n  \nAmb la Col·laboració de:
URL:https://octubre.cat/activitat/presentacio-del-llibre-els-afores-disabel-garcia-canet/
LOCATION:Llibreria Fan Set
CATEGORIES:Literatura
ATTACH;FMTTYPE=image/jpeg:https://octubre.cat/www/wp-content/uploads/2025/02/isabel-garcia-canet.jpg
END:VEVENT
END:VCALENDAR