BEGIN:VCALENDAR
VERSION:2.0
PRODID:-//Octubre Centre de Cultura Contemporània - ECPv5.1.6//NONSGML v1.0//EN
CALSCALE:GREGORIAN
METHOD:PUBLISH
X-WR-CALNAME:Octubre Centre de Cultura Contemporània
X-ORIGINAL-URL:https://octubre.cat
X-WR-CALDESC:Events for Octubre Centre de Cultura Contemporània
BEGIN:VTIMEZONE
TZID:Europe/Andorra
BEGIN:DAYLIGHT
TZOFFSETFROM:+0100
TZOFFSETTO:+0200
TZNAME:CEST
DTSTART:20250330T010000
END:DAYLIGHT
BEGIN:STANDARD
TZOFFSETFROM:+0200
TZOFFSETTO:+0100
TZNAME:CET
DTSTART:20251026T010000
END:STANDARD
END:VTIMEZONE
BEGIN:VEVENT
DTSTART;TZID=Europe/Andorra:20250402T190000
DTEND;TZID=Europe/Andorra:20250402T190000
DTSTAMP:20260421T034024
CREATED:20250308T145743Z
LAST-MODIFIED:20260130T094658Z
UID:22464-1743620400-1743620400@octubre.cat
SUMMARY:Presentació del llibre En carn i ossos\, de Núria Cadenes
DESCRIPTION:Amb l’autora\, l’editor Joan Carles Girbés i l’actriu Pilar Almeria que en llegirà alguns fragments. \nQuan la realitat reclama convertir-se en matèria literària se li ha de fer cas. I per això han pres forma aquests 12 + 1 relats ordenats en cronologia històrica que es llegeixen\, és clar\, des de l’ara mateix. La manipulable por de les masses? Per exemple. O la violència contra les dones\, o les guerres que sempre castiguen els pobres\, o la corrupció política\, o la injustícia dels aparells de justícia. Sense grandiloqüències\, però: la mirada narrativa se centra en la petita escala\, en la concreta dimensió humana dels esdeveniments. O en els estats d’ànim: la nena que ansieja l’atenció exclusiva del pare\, el cervell que fuig d’un treball alienant. \n  \n \n(Ara Llibres) \n  \nAmb la col·laboració:
URL:https://octubre.cat/activitat/presentacio-del-llibre-en-carn-i-ossos-de-nuria-cadenes/
LOCATION:Llibreria Fan Set
CATEGORIES:Literatura
ATTACH;FMTTYPE=image/jpeg:https://octubre.cat/www/wp-content/uploads/2022/10/nuria-cadenes.jpg
END:VEVENT
BEGIN:VEVENT
DTSTART;TZID=Europe/Andorra:20250402T193000
DTEND;TZID=Europe/Andorra:20250402T193000
DTSTAMP:20260421T034024
CREATED:20250321T170756Z
LAST-MODIFIED:20250321T170756Z
UID:22504-1743622200-1743622200@octubre.cat
SUMMARY:NVCLI – Sessió terapèutica #14
DESCRIPTION:p1111111 \n+ \nEEVEE
URL:https://octubre.cat/activitat/nvcli-sessio-terapeutica-14/
LOCATION:Sala d’actes
CATEGORIES:NVCLI
ATTACH;FMTTYPE=image/jpeg:https://octubre.cat/www/wp-content/uploads/2025/03/nvcli-14.jpg
END:VEVENT
END:VCALENDAR