BEGIN:VCALENDAR
VERSION:2.0
PRODID:-//Octubre Centre de Cultura Contemporània - ECPv5.1.6//NONSGML v1.0//EN
CALSCALE:GREGORIAN
METHOD:PUBLISH
X-WR-CALNAME:Octubre Centre de Cultura Contemporània
X-ORIGINAL-URL:https://octubre.cat
X-WR-CALDESC:Events for Octubre Centre de Cultura Contemporània
BEGIN:VTIMEZONE
TZID:Europe/Andorra
BEGIN:DAYLIGHT
TZOFFSETFROM:+0100
TZOFFSETTO:+0200
TZNAME:CEST
DTSTART:20250330T010000
END:DAYLIGHT
BEGIN:STANDARD
TZOFFSETFROM:+0200
TZOFFSETTO:+0100
TZNAME:CET
DTSTART:20251026T010000
END:STANDARD
END:VTIMEZONE
BEGIN:VEVENT
DTSTART;TZID=Europe/Andorra:20250131T200000
DTEND;TZID=Europe/Andorra:20250329T140000
DTSTAMP:20260421T032846
CREATED:20250117T112452Z
LAST-MODIFIED:20250121T080521Z
UID:22174-1738353600-1743256800@octubre.cat
SUMMARY:Avelino Saavedra\, obra plàstica multiestilística en la fragmentació
DESCRIPTION:«La creació pictòrica d’Avelino Saavedra (Santiago de Compostel·la\, 1967)\, artista establit a València des de fa diverses dècades\, va començar a inicis dels 80 i arriba fins a l’actualitat. Durant tota aquesta època la seua pintura no es tanca a un sol estil o tema\, ja que els mescla entre si de manera molt original i fragmentada. No obstant això\, la seua pintura figurativa i abstracta es podria agrupar de manera aproximada en cinc grups: 1. Monocrom / 2. Tinta xinesa sobre paper d’arròs / 3. Gestual-matèric / 4. Simbolisme oníric / 5. Temàtica social. En aquesta exposició les agrupacions es difuminen per a potenciar la hibridació del seu art multiestilístic. \nPer primera vegada es mostra de manera conjunta el treball que Saavedra ha realitzat en un llarg període de temps amb la seua pintura\, però també amb la seua obra gràfica il·lustrant portades de llibres i discos\, en els quals a més ell és percussionista. Esperem que aquesta exposició sobre Avelino (i el catàleg que se n’ha publicat)\, siga del vostre interès per a descobrir el seu fantàstic i màgic món.» \nJoan Gómez Alemany (comissari de l’exposició) \n  \n \n \n—\nComissari: Joan Gómez Alemany\nCol·laboradors: EdictOràlia i Liquen Records.
URL:https://octubre.cat/activitat/avelino-saavedra-obra-plastica-multiestilistica-en-la-fragmentacio/
LOCATION:Sala d’exposicions
CATEGORIES:Exposicions
ATTACH;FMTTYPE=image/jpeg:https://octubre.cat/www/wp-content/uploads/2025/01/Interrelaciones-I-2003-130x184cm-tinta-oleo-acrilico-tela.jpg
END:VEVENT
BEGIN:VEVENT
DTSTART;TZID=Europe/Andorra:20250313T190000
DTEND;TZID=Europe/Andorra:20250313T190000
DTSTAMP:20260421T032846
CREATED:20250224T155315Z
LAST-MODIFIED:20250224T160704Z
UID:22418-1741892400-1741892400@octubre.cat
SUMMARY:Festival Òmnium de Cinema 2025. Sessió 2
DESCRIPTION:El Festival Òmnium de Cinema és un programa anual que reconeix i impulsa les millors produccions audiovisuals en català\, des de curtmetratges fins a llargmetratges. Ofereix al públic l’oportunitat de descobrir i gaudir del millor cinema en català de l’any\, connectant creadors i espectadors\, i promovent la seva difusió mitjançant diverses finestres d’exhibició presencials i digitals; amb l’objectiu d’incrementar els hàbits de consum del cinema en català. \nDel 6 al 17 de març de 2025 el festival arriba simultàniament amb més de 160 projeccions a 90 sales dels Països Catalans gràcies a la col·laboració amb la Federació Llull\, l’aliança entre Acció Cultural pel País Valencià\, Obra Cultural Balear i Òmnium Cultural. I l’afany d’internacionalització del cinema en català es materialitza gràcies a la participació de la xarxa de Casals Catalans i Lectorats de l’Institut Ramon Llull\, amb projeccions a 35 ciutats arreu del món. \n  \nSessió 2 – Monstres de la llum \nDiferents formes d’enfrontar els temors més antics: la por d’estar sol\, la por als monstres i les bèsties\, la por a la mort dels qui estimem i dels llocs que habitem. Tot i que\, de vegades\, la por no fa tanta por i els monstres poden arribar a ser entranyables. (82 minuts) \n—Trenc d’alba\, d’Anna Llargués (ficció)\n—Ei\, Temi\, de Jesús Minchón\, Arnau Belloc i Marta Aguilella (documental)\n—Atàvic\, d’Albert Blay (ficció)\n—El bon auguri\, d’Alba Bresolí (documental)\n—Plora aquí\, de Pablo Maestres (ficció)
URL:https://octubre.cat/activitat/festival-omnium-de-cinema-2025-sessio-2/
LOCATION:Sala d’actes
CATEGORIES:Cinema
ATTACH;FMTTYPE=image/jpeg:https://octubre.cat/www/wp-content/uploads/2024/01/Capcalera_voc-2024.jpeg
END:VEVENT
BEGIN:VEVENT
DTSTART;TZID=Europe/Andorra:20250313T190000
DTEND;TZID=Europe/Andorra:20250313T190000
DTSTAMP:20260421T032846
CREATED:20250225T101646Z
LAST-MODIFIED:20250225T101940Z
UID:22421-1741892400-1741892400@octubre.cat
SUMMARY:Lliurament de la Lletra Lila 2025 a Gemma Pasqual
DESCRIPTION:Homenatge a Gemma Pasqual i Escrivà amb glosa de Carme Gregori i lectura de fragments a càrrec del grup Teatre Lliure de Benimaclet\, dirigit per Anna Gascón. \nGemma Pasqual i Escrivà (Almoines\, 1967) és escriptora. Des que inicia la trajectòria literària\, l’any 1998\, ha produït una obra per a nois i noies on destaquen el compromís social\, els temes d’actualitat i els problemes quotidians dels joves\, sempre des d’una perspectiva pedagògica.  \n—\nOrganitzat per l’Associació d’Escriptors en Llengua Catalana (AELC) amb la col·laboració de l’Octubre CCC
URL:https://octubre.cat/activitat/lliurament-de-la-lletra-lila-2025-a-gemma-pasqual/
LOCATION:Hall
CATEGORIES:Literatura
ATTACH;FMTTYPE=image/jpeg:https://octubre.cat/www/wp-content/uploads/2023/09/gemma-pasqual.jpg
END:VEVENT
END:VCALENDAR