BEGIN:VCALENDAR
VERSION:2.0
PRODID:-//Octubre Centre de Cultura Contemporània - ECPv5.1.6//NONSGML v1.0//EN
CALSCALE:GREGORIAN
METHOD:PUBLISH
X-WR-CALNAME:Octubre Centre de Cultura Contemporània
X-ORIGINAL-URL:https://octubre.cat
X-WR-CALDESC:Events for Octubre Centre de Cultura Contemporània
BEGIN:VTIMEZONE
TZID:Europe/Andorra
BEGIN:DAYLIGHT
TZOFFSETFROM:+0100
TZOFFSETTO:+0200
TZNAME:CEST
DTSTART:20250330T010000
END:DAYLIGHT
BEGIN:STANDARD
TZOFFSETFROM:+0200
TZOFFSETTO:+0100
TZNAME:CET
DTSTART:20251026T010000
END:STANDARD
END:VTIMEZONE
BEGIN:VEVENT
DTSTART;TZID=Europe/Andorra:20250131T200000
DTEND;TZID=Europe/Andorra:20250329T140000
DTSTAMP:20260421T033858
CREATED:20250117T112452Z
LAST-MODIFIED:20250121T080521Z
UID:22174-1738353600-1743256800@octubre.cat
SUMMARY:Avelino Saavedra\, obra plàstica multiestilística en la fragmentació
DESCRIPTION:«La creació pictòrica d’Avelino Saavedra (Santiago de Compostel·la\, 1967)\, artista establit a València des de fa diverses dècades\, va començar a inicis dels 80 i arriba fins a l’actualitat. Durant tota aquesta època la seua pintura no es tanca a un sol estil o tema\, ja que els mescla entre si de manera molt original i fragmentada. No obstant això\, la seua pintura figurativa i abstracta es podria agrupar de manera aproximada en cinc grups: 1. Monocrom / 2. Tinta xinesa sobre paper d’arròs / 3. Gestual-matèric / 4. Simbolisme oníric / 5. Temàtica social. En aquesta exposició les agrupacions es difuminen per a potenciar la hibridació del seu art multiestilístic. \nPer primera vegada es mostra de manera conjunta el treball que Saavedra ha realitzat en un llarg període de temps amb la seua pintura\, però també amb la seua obra gràfica il·lustrant portades de llibres i discos\, en els quals a més ell és percussionista. Esperem que aquesta exposició sobre Avelino (i el catàleg que se n’ha publicat)\, siga del vostre interès per a descobrir el seu fantàstic i màgic món.» \nJoan Gómez Alemany (comissari de l’exposició) \n  \n \n \n—\nComissari: Joan Gómez Alemany\nCol·laboradors: EdictOràlia i Liquen Records.
URL:https://octubre.cat/activitat/avelino-saavedra-obra-plastica-multiestilistica-en-la-fragmentacio/
LOCATION:Sala d’exposicions
CATEGORIES:Exposicions
ATTACH;FMTTYPE=image/jpeg:https://octubre.cat/www/wp-content/uploads/2025/01/Interrelaciones-I-2003-130x184cm-tinta-oleo-acrilico-tela.jpg
END:VEVENT
BEGIN:VEVENT
DTSTART;TZID=Europe/Andorra:20250311T190000
DTEND;TZID=Europe/Andorra:20250311T190000
DTSTAMP:20260421T033858
CREATED:20250224T071423Z
LAST-MODIFIED:20250224T071423Z
UID:22404-1741719600-1741719600@octubre.cat
SUMMARY:Jornades “Un País amb drets” (2)
DESCRIPTION:Drets lingüístics \nAmb Rafa Castelló i Esther Monzó. \n—\nOrganitzat per Acció Cultural del País Valencià i Ca Revolta
URL:https://octubre.cat/activitat/jornades-un-pais-amb-drets-2/
LOCATION:Aula 1
CATEGORIES:Conferències i congressos
ATTACH;FMTTYPE=image/jpeg:https://octubre.cat/www/wp-content/uploads/2025/02/cartell-jornades-drets-cap.jpg
END:VEVENT
BEGIN:VEVENT
DTSTART;TZID=Europe/Andorra:20250311T190000
DTEND;TZID=Europe/Andorra:20250311T190000
DTSTAMP:20260421T033858
CREATED:20250224T154530Z
LAST-MODIFIED:20250224T154650Z
UID:22413-1741719600-1741719600@octubre.cat
SUMMARY:Festival Òmnium de Cinema 2025. Sessió 1
DESCRIPTION:El Festival Òmnium de Cinema és un programa anual que reconeix i impulsa les millors produccions audiovisuals en català\, des de curtmetratges fins a llargmetratges. Ofereix al públic l’oportunitat de descobrir i gaudir del millor cinema en català de l’any\, connectant creadors i espectadors\, i promovent la seva difusió mitjançant diverses finestres d’exhibició presencials i digitals; amb l’objectiu d’incrementar els hàbits de consum del cinema en català. \nDel 6 al 17 de març de 2025 el festival arriba simultàniament amb més de 160 projeccions a 90 sales dels Països Catalans gràcies a la col·laboració amb la Federació Llull\, l’aliança entre Acció Cultural pel País Valencià\, Obra Cultural Balear i Òmnium Cultural. I l’afany d’internacionalització del cinema en català es materialitza gràcies a la participació de la xarxa de Casals Catalans i Lectorats de l’Institut Ramon Llull\, amb projeccions a 35 ciutats arreu del món. \n  \nSessió 1 – De tu i de mi \nVincles que es tensen per enfortir-se o trencar-se; o de com el nostre jo està inevitablement condicionat per la presència\, o absència\, dels altres. Relacions magnètiques\, sinistres\, angoixants o curoses que parlen de qui som. (77 minuts) \n—Blava terra\, de Marine Auclair (ficció)\n—Demà\, d’Estefania Ortiz (ficció)\n—El mal d’Hèrcules\, de Marta Rodríguez Quesada\, Marina Miguel Pavia\, Ismael Cabrera\, Laia Balaguer\, Eulàlia Clarós Sidera\, Paula García Escolá (documental)\n—El parèntesi\, de Carlos R. Haro (documental)\n—Sushi\, d’Ivan Morales (ficció)
URL:https://octubre.cat/activitat/festival-omnium-de-cinema-2025-sessio-1/
LOCATION:Sala d’actes
CATEGORIES:Cinema
ATTACH;FMTTYPE=image/jpeg:https://octubre.cat/www/wp-content/uploads/2024/01/Capcalera_voc-2024.jpeg
END:VEVENT
END:VCALENDAR