BEGIN:VCALENDAR
VERSION:2.0
PRODID:-//Octubre Centre de Cultura Contemporània - ECPv5.1.6//NONSGML v1.0//EN
CALSCALE:GREGORIAN
METHOD:PUBLISH
X-WR-CALNAME:Octubre Centre de Cultura Contemporània
X-ORIGINAL-URL:https://octubre.cat
X-WR-CALDESC:Events for Octubre Centre de Cultura Contemporània
BEGIN:VTIMEZONE
TZID:Europe/Andorra
BEGIN:DAYLIGHT
TZOFFSETFROM:+0100
TZOFFSETTO:+0200
TZNAME:CEST
DTSTART:20250330T010000
END:DAYLIGHT
BEGIN:STANDARD
TZOFFSETFROM:+0200
TZOFFSETTO:+0100
TZNAME:CET
DTSTART:20251026T010000
END:STANDARD
END:VTIMEZONE
BEGIN:VEVENT
DTSTART;TZID=Europe/Andorra:20250131T200000
DTEND;TZID=Europe/Andorra:20250329T140000
DTSTAMP:20260421T032816
CREATED:20250117T112452Z
LAST-MODIFIED:20250121T080521Z
UID:22174-1738353600-1743256800@octubre.cat
SUMMARY:Avelino Saavedra\, obra plàstica multiestilística en la fragmentació
DESCRIPTION:«La creació pictòrica d’Avelino Saavedra (Santiago de Compostel·la\, 1967)\, artista establit a València des de fa diverses dècades\, va començar a inicis dels 80 i arriba fins a l’actualitat. Durant tota aquesta època la seua pintura no es tanca a un sol estil o tema\, ja que els mescla entre si de manera molt original i fragmentada. No obstant això\, la seua pintura figurativa i abstracta es podria agrupar de manera aproximada en cinc grups: 1. Monocrom / 2. Tinta xinesa sobre paper d’arròs / 3. Gestual-matèric / 4. Simbolisme oníric / 5. Temàtica social. En aquesta exposició les agrupacions es difuminen per a potenciar la hibridació del seu art multiestilístic. \nPer primera vegada es mostra de manera conjunta el treball que Saavedra ha realitzat en un llarg període de temps amb la seua pintura\, però també amb la seua obra gràfica il·lustrant portades de llibres i discos\, en els quals a més ell és percussionista. Esperem que aquesta exposició sobre Avelino (i el catàleg que se n’ha publicat)\, siga del vostre interès per a descobrir el seu fantàstic i màgic món.» \nJoan Gómez Alemany (comissari de l’exposició) \n  \n \n \n—\nComissari: Joan Gómez Alemany\nCol·laboradors: EdictOràlia i Liquen Records.
URL:https://octubre.cat/activitat/avelino-saavedra-obra-plastica-multiestilistica-en-la-fragmentacio/
LOCATION:Sala d’exposicions
CATEGORIES:Exposicions
ATTACH;FMTTYPE=image/jpeg:https://octubre.cat/www/wp-content/uploads/2025/01/Interrelaciones-I-2003-130x184cm-tinta-oleo-acrilico-tela.jpg
END:VEVENT
BEGIN:VEVENT
DTSTART;TZID=Europe/Andorra:20250308T100000
DTEND;TZID=Europe/Andorra:20250308T100000
DTSTAMP:20260421T032816
CREATED:20250210T164213Z
LAST-MODIFIED:20250223T083250Z
UID:22309-1741428000-1741428000@octubre.cat
SUMMARY:Falla Immaterial 2025 / 9ART: Matinal d'art digital participatiu i gastronomia
DESCRIPTION:La Falla Immaterial i La Cultura Del Almuerzo et conviden a gaudir d’un matí on parlarem d’art digital participatiu i gastronomia. Abans\, però\, ja pots participar creant la teua pròpia obra a través del projecte 9ART de la Falla Immaterial. \nHi intervindran Francisco Grimaldo\, Emilia López-Iñesta\, Daniel García-Costa i Elena Álvarez-García\, membres de l’equip científic i artístic de la Falla Immaterial. Cal que veniu amb el cap obert i bona gana\, ja que compartirem tecnologia i un esmorzar complet. \nLa Falla Immaterial és un projecte d’arts digitals que apropa la cultura tradicional a l’avantguarda en enginyeria i ciència de dades. \n  \n \n  \nEl projecte participatiu és possible gràcies al suport i a la col·laboració de: Servei de Llengües i Política Lingüística\, Unitat de Cultura Científica i de la Innovació de la Universitat de València; Càtedra d’Intel·ligència Artificial i Visualització de la Informació per al Govern Obert a la Ciutat de València; Regidoria de Transparència\, Informació i Defensa de la Ciutadania de l’Ajuntament de València; Fundació Espanyola per a la Ciència i la Tecnologia i Ministeri de Ciència\, Innovació i Universitats. \n—\nOrganitzat per la Falla Immaterial amb la col·laboració de #LaCulturaDelAlmuerzo i l’Octubre CCC. \nPatrocina:
URL:https://octubre.cat/activitat/falla-immaterial-2025-9art-matinal-dart-digital-participatiu-i-gastronomia/
LOCATION:Cafeteria
CATEGORIES:Conferències i congressos
ATTACH;FMTTYPE=image/jpeg:https://octubre.cat/www/wp-content/uploads/2025/02/falla-9art_2.jpg
END:VEVENT
END:VCALENDAR