BEGIN:VCALENDAR
VERSION:2.0
PRODID:-//Octubre Centre de Cultura Contemporània - ECPv5.1.6//NONSGML v1.0//EN
CALSCALE:GREGORIAN
METHOD:PUBLISH
X-WR-CALNAME:Octubre Centre de Cultura Contemporània
X-ORIGINAL-URL:https://octubre.cat
X-WR-CALDESC:Events for Octubre Centre de Cultura Contemporània
BEGIN:VTIMEZONE
TZID:Europe/Andorra
BEGIN:DAYLIGHT
TZOFFSETFROM:+0100
TZOFFSETTO:+0200
TZNAME:CEST
DTSTART:20250330T010000
END:DAYLIGHT
BEGIN:STANDARD
TZOFFSETFROM:+0200
TZOFFSETTO:+0100
TZNAME:CET
DTSTART:20251026T010000
END:STANDARD
END:VTIMEZONE
BEGIN:VEVENT
DTSTART;TZID=Europe/Andorra:20250131T200000
DTEND;TZID=Europe/Andorra:20250329T140000
DTSTAMP:20260421T033955
CREATED:20250117T112452Z
LAST-MODIFIED:20250121T080521Z
UID:22174-1738353600-1743256800@octubre.cat
SUMMARY:Avelino Saavedra\, obra plàstica multiestilística en la fragmentació
DESCRIPTION:«La creació pictòrica d’Avelino Saavedra (Santiago de Compostel·la\, 1967)\, artista establit a València des de fa diverses dècades\, va començar a inicis dels 80 i arriba fins a l’actualitat. Durant tota aquesta època la seua pintura no es tanca a un sol estil o tema\, ja que els mescla entre si de manera molt original i fragmentada. No obstant això\, la seua pintura figurativa i abstracta es podria agrupar de manera aproximada en cinc grups: 1. Monocrom / 2. Tinta xinesa sobre paper d’arròs / 3. Gestual-matèric / 4. Simbolisme oníric / 5. Temàtica social. En aquesta exposició les agrupacions es difuminen per a potenciar la hibridació del seu art multiestilístic. \nPer primera vegada es mostra de manera conjunta el treball que Saavedra ha realitzat en un llarg període de temps amb la seua pintura\, però també amb la seua obra gràfica il·lustrant portades de llibres i discos\, en els quals a més ell és percussionista. Esperem que aquesta exposició sobre Avelino (i el catàleg que se n’ha publicat)\, siga del vostre interès per a descobrir el seu fantàstic i màgic món.» \nJoan Gómez Alemany (comissari de l’exposició) \n  \n \n \n—\nComissari: Joan Gómez Alemany\nCol·laboradors: EdictOràlia i Liquen Records.
URL:https://octubre.cat/activitat/avelino-saavedra-obra-plastica-multiestilistica-en-la-fragmentacio/
LOCATION:Sala d’exposicions
CATEGORIES:Exposicions
ATTACH;FMTTYPE=image/jpeg:https://octubre.cat/www/wp-content/uploads/2025/01/Interrelaciones-I-2003-130x184cm-tinta-oleo-acrilico-tela.jpg
END:VEVENT
BEGIN:VEVENT
DTSTART;TZID=Europe/Andorra:20250225T190000
DTEND;TZID=Europe/Andorra:20250225T190000
DTSTAMP:20260421T033955
CREATED:20250127T161154Z
LAST-MODIFIED:20250127T161154Z
UID:22217-1740510000-1740510000@octubre.cat
SUMMARY:Presentació del llibre El picaporta\, de Joan Mascarell
DESCRIPTION:Jean-Philippe és membre de la burgesia parisenca. Per raons familiars\, i com aquell qui no vol\, es troba lligat a Dénia\, ciutat mediterrània allunyada en tot de París. La curiositat és el germen que l’empeny a descobrir aquest port mediterrani\, on descobrirà com és el modus vivendi d’aquells personatges que conviuen en la mateixa finca durant el procés de pandèmia COVID. El protagonista es descobrix a si mateix i inicia un procés de canvi i lluita que reclama la comunicació i el benestar cooperatiu entre els humans que xafem la Terra en l’actualitat i posa en marxa una teràpia de canvi en el rumb del veïnat. \n  \n \n(Scito Edicions)
URL:https://octubre.cat/activitat/presentacio-del-llibre-el-picaporta-de-joan-mascarell/
LOCATION:Llibreria Fan Set
CATEGORIES:Literatura
ATTACH;FMTTYPE=image/jpeg:https://octubre.cat/www/wp-content/uploads/2025/01/joan-mascarell.jpeg
END:VEVENT
BEGIN:VEVENT
DTSTART;TZID=Europe/Andorra:20250225T190000
DTEND;TZID=Europe/Andorra:20250225T190000
DTSTAMP:20260421T033955
CREATED:20250211T155055Z
LAST-MODIFIED:20250211T155055Z
UID:22315-1740510000-1740510000@octubre.cat
SUMMARY:Lletres al terrat: literatura i compromís
DESCRIPTION:Amb Alfons Cervera i Vicent Penya\, moderat per Carme Manuel.\n—\nOrganitzat per l’Associació d’Escriptors en Llengua Catalana (AELC) amb la col·laboració de l’Octubre CCC
URL:https://octubre.cat/activitat/lletres-al-terrat-literatura-i-compromis-2/
LOCATION:Terrat
CATEGORIES:Lletres al terrat
ATTACH;FMTTYPE=image/jpeg:https://octubre.cat/www/wp-content/uploads/2022/12/terrat-octubre.jpg
END:VEVENT
END:VCALENDAR