BEGIN:VCALENDAR
VERSION:2.0
PRODID:-//Octubre Centre de Cultura Contemporània - ECPv5.1.6//NONSGML v1.0//EN
CALSCALE:GREGORIAN
METHOD:PUBLISH
X-WR-CALNAME:Octubre Centre de Cultura Contemporània
X-ORIGINAL-URL:https://octubre.cat
X-WR-CALDESC:Events for Octubre Centre de Cultura Contemporània
BEGIN:VTIMEZONE
TZID:Europe/Andorra
BEGIN:DAYLIGHT
TZOFFSETFROM:+0100
TZOFFSETTO:+0200
TZNAME:CEST
DTSTART:20250330T010000
END:DAYLIGHT
BEGIN:STANDARD
TZOFFSETFROM:+0200
TZOFFSETTO:+0100
TZNAME:CET
DTSTART:20251026T010000
END:STANDARD
END:VTIMEZONE
BEGIN:VEVENT
DTSTART;TZID=Europe/Andorra:20250131T200000
DTEND;TZID=Europe/Andorra:20250329T140000
DTSTAMP:20260421T045055
CREATED:20250117T112452Z
LAST-MODIFIED:20250121T080521Z
UID:22174-1738353600-1743256800@octubre.cat
SUMMARY:Avelino Saavedra\, obra plàstica multiestilística en la fragmentació
DESCRIPTION:«La creació pictòrica d’Avelino Saavedra (Santiago de Compostel·la\, 1967)\, artista establit a València des de fa diverses dècades\, va començar a inicis dels 80 i arriba fins a l’actualitat. Durant tota aquesta època la seua pintura no es tanca a un sol estil o tema\, ja que els mescla entre si de manera molt original i fragmentada. No obstant això\, la seua pintura figurativa i abstracta es podria agrupar de manera aproximada en cinc grups: 1. Monocrom / 2. Tinta xinesa sobre paper d’arròs / 3. Gestual-matèric / 4. Simbolisme oníric / 5. Temàtica social. En aquesta exposició les agrupacions es difuminen per a potenciar la hibridació del seu art multiestilístic. \nPer primera vegada es mostra de manera conjunta el treball que Saavedra ha realitzat en un llarg període de temps amb la seua pintura\, però també amb la seua obra gràfica il·lustrant portades de llibres i discos\, en els quals a més ell és percussionista. Esperem que aquesta exposició sobre Avelino (i el catàleg que se n’ha publicat)\, siga del vostre interès per a descobrir el seu fantàstic i màgic món.» \nJoan Gómez Alemany (comissari de l’exposició) \n  \n \n \n—\nComissari: Joan Gómez Alemany\nCol·laboradors: EdictOràlia i Liquen Records.
URL:https://octubre.cat/activitat/avelino-saavedra-obra-plastica-multiestilistica-en-la-fragmentacio/
LOCATION:Sala d’exposicions
CATEGORIES:Exposicions
ATTACH;FMTTYPE=image/jpeg:https://octubre.cat/www/wp-content/uploads/2025/01/Interrelaciones-I-2003-130x184cm-tinta-oleo-acrilico-tela.jpg
END:VEVENT
BEGIN:VEVENT
DTSTART;TZID=Europe/Andorra:20250220T163000
DTEND;TZID=Europe/Andorra:20250220T163000
DTSTAMP:20260421T045055
CREATED:20241007T162838Z
LAST-MODIFIED:20250121T114232Z
UID:21789-1740069000-1740069000@octubre.cat
SUMMARY:II Seminari de Poesia «Quotidianitat i estranyesa en la creació poètica»
DESCRIPTION:16.30 h — «El miracle de la quotidianitat. La vida dins del poema». Conferència inaugural de Susanna Lliberós\, presentada per Maria Bravo\n17.30 h — Conversa amb Enric Casasses conduïda per Núria Cadenes\n18.30 h — «Quotidianitat i estranyesa: distància o proximitat?». Taula rodona amb Joaquim Cano\, Xènia Dyakonova\, Maria Josep Escrivà i Pau Vadell\, moderada per Victòria E. Cremades González \nConsulta el programa complet del seminari amb les biografies dels participants aquí. \n—\nAquesta activitat està organitzada per l’Associació d’Escriptors en Llengua Catalana (AELC) i  té el suport de CEDRO i de la Institució de les Lletres Catalanes i la col·laboració de l’Octubre Centre de Cultura Contemporània.
URL:https://octubre.cat/activitat/ii-seminari-de-poesia-quotidianitat-i-estranyesa-en-la-creacio-poetica/
LOCATION:Aula 1
CATEGORIES:Conferències i congressos,Literatura
ATTACH;FMTTYPE=image/png:https://octubre.cat/www/wp-content/uploads/2024/10/seminari-poesia-aelc-2024_0.png
END:VEVENT
BEGIN:VEVENT
DTSTART;TZID=Europe/Andorra:20250220T193000
DTEND;TZID=Europe/Andorra:20250220T193000
DTSTAMP:20260421T045056
CREATED:20250205T102449Z
LAST-MODIFIED:20250207T162417Z
UID:22261-1740079800-1740079800@octubre.cat
SUMMARY:Presentació del disc Trueno\, de Martí Guillem
DESCRIPTION:Escolta completa i col·loqui amb l’autor \nTrueno és un àlbum experimental. Es tracta del resultat de les trobades entre Martí Guillem i Oxo durant diversos moments de l’any 2024. Aquestes trobades es van desenvolupar de manera fluida\, sense pretensions ni feina prèvia a les quedades. \nTrueno és el producte de l’exploració de dos amants del so\, del soroll i de tot el que siga inusual a la música. Hi havia ganes de fer alguna cosa conjuntament després de conèixer-se durant l’enregistrament d’un altre projecte\, anys enrere. Aquesta va ser l’excusa i el moment per ajuntar-se i donar curs a la creativitat. Martí va aportar el sintetitzador modular\, és a dir\, els generadors de so\, un conjunt de parts que mitjançant funcions elèctriques transformen l’electricitat en àudio i permeten deconstruir-lo fins als grans més mínims. Mitjançant processos de síntesi\, el so és construït i manipulat\, generant patrons complexos i estructures tant rítmiques com estocàstiques per al seu posterior ús a la mescla. El sintetitzador té el format eurorack\, amb mòduls de diverses marques. \n  \n \n  \nOxo\, facilitador de l’espai físic de convivència i trobada\, va aportar tota la maquinària necessària per a l’enregistrament i la mescla\, com també el constant suggeriment creatiu\, facilitant un procés fluid de captura\, edició i mescla en temps real. Es van utilitzar de manera puntual diversos elements com ara pedals d’efecte i algunes fonts sonores d’índole diversa. Tots els moments de la producció van ser col·laboratius i els processos d’enregistrament i mescla creatius i bidireccionals. Tot el material sonor del disc ha estat íntegrament generat\, gravat i editat a l’estudi Purgatorio\, a Usera (Madrid) durant 2024. Cinc sessions d’entre dos i cinc dies i d’hores ininterrompudes van servir per concebre les idees i desenvolupar-les\, connectant mòduls\, executant processos i duent a terme la producció d’aquest disc d’estudi. Un disc per a no ser tocat\, un disc per a ser escoltat amb atenció. Una pel·lícula de cinema cec. \nAquest treball és la primera publicació en vinil de Martí Guillem que\, després de vint anys tocant intensament\, ha enregistrat un disc que no es tocarà. L’àlbum ha estat masteritzat per José Guerrero a Plataforma Continental i publicat per B.F.E. Records el 2025. \nMartí Guillem\, creador heterodox valencià\, treballa de manera singular amb aparells electrònics\, sons i objectes. La seua obra es defineix per les ganes d’experimentar i per un llenguatge sonor refrescant i molt variat que analitza la relació entre la creativitat i la vida quotidiana.
URL:https://octubre.cat/activitat/presentacio-del-disc-trueno-de-marti-guillem/
LOCATION:Sala d’actes
CATEGORIES:Música
ATTACH;FMTTYPE=image/jpeg:https://octubre.cat/www/wp-content/uploads/2025/02/marti-guillem.jpg
END:VEVENT
END:VCALENDAR