BEGIN:VCALENDAR
VERSION:2.0
PRODID:-//Octubre Centre de Cultura Contemporània - ECPv5.1.6//NONSGML v1.0//EN
CALSCALE:GREGORIAN
METHOD:PUBLISH
X-WR-CALNAME:Octubre Centre de Cultura Contemporània
X-ORIGINAL-URL:https://octubre.cat
X-WR-CALDESC:Events for Octubre Centre de Cultura Contemporània
BEGIN:VTIMEZONE
TZID:Europe/Andorra
BEGIN:DAYLIGHT
TZOFFSETFROM:+0100
TZOFFSETTO:+0200
TZNAME:CEST
DTSTART:20250330T010000
END:DAYLIGHT
BEGIN:STANDARD
TZOFFSETFROM:+0200
TZOFFSETTO:+0100
TZNAME:CET
DTSTART:20251026T010000
END:STANDARD
END:VTIMEZONE
BEGIN:VEVENT
DTSTART;TZID=Europe/Andorra:20250117T180000
DTEND;TZID=Europe/Andorra:20250215T140000
DTSTAMP:20260421T044928
CREATED:20250117T085227Z
LAST-MODIFIED:20250121T112656Z
UID:22169-1737136800-1739628000@octubre.cat
SUMMARY:Instacrítics
DESCRIPTION:Instacrítics és el concurs de fotografia crítica dirigit al jovent d’entre 18 i 30 anys. El concurs ha sigut impulsat per Joves d’Acció dins del projecte VERTEBREM de Joventut València.\nLa temàtica d’Instacrítics ha sigut com afecta el canvi climàtic a la ciutat de València i les seues conseqüències.\nAquesta proposta pretén unir l’art visual i la crítica social en un projecte participatiu obert a la ciutadania\, fomentant una reflexió crítica sobre aquest problema global que afecta de manera particular el nostre entorn local. \nObres de Borja Puchol Forés\, Marta Gregori\, Marina Simó Martí i Carlos Gonzalo Gil.
URL:https://octubre.cat/activitat/instacritics/
LOCATION:Hall
CATEGORIES:Instal·lacions
ATTACH;FMTTYPE=image/jpeg:https://octubre.cat/www/wp-content/uploads/2025/01/Instacritics-Joves-Valencia.jpg
END:VEVENT
BEGIN:VEVENT
DTSTART;TZID=Europe/Andorra:20250127T190000
DTEND;TZID=Europe/Andorra:20250127T190000
DTSTAMP:20260421T044928
CREATED:20241205T115105Z
LAST-MODIFIED:20241215T094001Z
UID:22046-1738004400-1738004400@octubre.cat
SUMMARY:Premis Nobel 2024: Fisiologia o Medicina
DESCRIPTION:Premi atorgat a Victor Ambros i Gary Ruvkun “pel descobriment del microRNA i el seu paper en la regulació genètica post-transcripcional”. \nConferència “Fins la molècula més petita…” a càrrec de Carlos Romá-Mateo (Departament de Fisiologia\, Universitat de València). \nMés informació \n—\nL’Espai Ciència de l’Octubre CCC és una iniciativa de l’Institut d’Estudis Catalans i compta amb la col·laboració d’Acció Cultural del País Valencià\, la Unitat de Cultura Científica i Innovació / Càtedra de Divulgació de la Ciència de la UV\, la Fundació Espanyola per a la Ciència i la Tecnologia\, el Centre Superior d’Investigacions Científiques\, la llibreria Fan Set i la revista Mètode. \nAmb el suport de les facultats de Ciències biològiques\, Física i Química de la Universitat de València.
URL:https://octubre.cat/activitat/premis-nobel-2024-fisiologia-o-medicina/
LOCATION:Aula 1
CATEGORIES:Espai Ciència
ATTACH;FMTTYPE=image/webp:https://octubre.cat/www/wp-content/uploads/2024/12/nobel-medicina-2024.webp
END:VEVENT
END:VCALENDAR