BEGIN:VCALENDAR
VERSION:2.0
PRODID:-//Octubre Centre de Cultura Contemporània - ECPv5.1.6//NONSGML v1.0//EN
CALSCALE:GREGORIAN
METHOD:PUBLISH
X-WR-CALNAME:Octubre Centre de Cultura Contemporània
X-ORIGINAL-URL:https://octubre.cat
X-WR-CALDESC:Events for Octubre Centre de Cultura Contemporània
BEGIN:VTIMEZONE
TZID:Europe/Andorra
BEGIN:DAYLIGHT
TZOFFSETFROM:+0100
TZOFFSETTO:+0200
TZNAME:CEST
DTSTART:20240331T010000
END:DAYLIGHT
BEGIN:STANDARD
TZOFFSETFROM:+0200
TZOFFSETTO:+0100
TZNAME:CET
DTSTART:20241027T010000
END:STANDARD
BEGIN:DAYLIGHT
TZOFFSETFROM:+0100
TZOFFSETTO:+0200
TZNAME:CEST
DTSTART:20250330T010000
END:DAYLIGHT
BEGIN:STANDARD
TZOFFSETFROM:+0200
TZOFFSETTO:+0100
TZNAME:CET
DTSTART:20251026T010000
END:STANDARD
END:VTIMEZONE
BEGIN:VEVENT
DTSTART;TZID=Europe/Andorra:20241129T190000
DTEND;TZID=Europe/Andorra:20250115T210000
DTSTAMP:20260421T075941
CREATED:20241121T155749Z
LAST-MODIFIED:20250710T104507Z
UID:21987-1732906800-1736974800@octubre.cat
SUMMARY:Walter Reuter torna a València
DESCRIPTION:Gràcies a les imatges que va realitzar l’alemany Walter Reuter (1906-2005) hem pogut documentar diversos projectes educatius i solidaris que es van desenvolupar entre 1936 i 1939 a València. La vida i obra de Walter es basa en l’humanisme reflectit a través de les captures. Les seues fotografies representen la perfecta simbiosi entre el medi de documentació i la creació artística\, sent referència internacional en el món de la fotografia. \n  \n \n  \nLa complexitat de localitzar les instantànies disperses per diferents arxius nacionals i internacionals per a l’exposició «Walter Reuter torna a València» ha sigut màxima\, i documentar-les en territori valencià un procés d’anys d’investigació per a la transmissió de resultats. La pèrdua de la guerra de la Segona República va suposar la destrucció de molts dels negatius\, per tant\, amb la suma de la totalitat s’haurien abastat més camps d’acció.\n \n  \n \n  \nL’Associació Cultural Institut Obrer ha arreplegat\, adquirit i preservat gran part de les imatges del nostre protagonista i gràcies a aquesta labor podem presentar diverses imatges que ens mostren escenaris de la rereguarda valenciana. Fotografies que relaten històries a través de microescenes que abasten la visió de l’autor amb el coneixement en plasmar-les per al futur. \nCristina Escrivà Moscardó i Víctor Benavides Escrivà (Comissaris de l’exposició) \n  \n \nComissaris: Cristina Escrivà Moscardó i Víctor Benavides Escrivà\nCol·laboren: Àlex Garcia i Grup d’investigació Associació Cultural Institut Obrer\, GIACIO\nOrganitza: Associació Cultural Institut Obrer\nCol·laboren: Octubre Centre de Cultura Contemporània i\, en la difusió del projecte\, la Coordinadora d’Associacions per la Memòria Democràtica\, CAMDE-PV\nMúsica i audiovisuals: Secret Cultura – Grup de Cambra Marxant\nMaterials i documentació: Alex i Javi. Palmeta\nDisseny: Román Sánchez\nProducció i muntatge: Areco\nAgraïments: a totes les persones investigadores de la seua obra i especialment a Hely Reuter. \nEl catàleg i l’exposició estan subvencionats per la Delegació de Memòria Democràtica de la Diputació de València.
URL:https://octubre.cat/activitat/walter-reuter-torna-a-valencia/
LOCATION:Sala d’exposicions
CATEGORIES:Exposicions
ATTACH;FMTTYPE=image/jpeg:https://octubre.cat/www/wp-content/uploads/2024/11/reuter-2.jpg
END:VEVENT
BEGIN:VEVENT
DTSTART;TZID=Europe/Andorra:20241204T190000
DTEND;TZID=Europe/Andorra:20241204T190000
DTSTAMP:20260421T075942
CREATED:20241120T162752Z
LAST-MODIFIED:20250713T075141Z
UID:21983-1733338800-1733338800@octubre.cat
SUMMARY:Presentació del llibre Walter Benjamin. Passatges acabats\, de Rafa Gomar
DESCRIPTION:Amb l’autor acompanyat per Jordi Sebastià. \nPerseguit per la Gestapo\, el filòsof jueu Walter Benjamin (1892-1940) travessa la frontera i s’instal·la a Portbou amb la intenció d’embarcar-se des de Lisboa cap a Nova York. Tanmateix\, les autoritats franquistes no li permeten de fer el viatge cap a l’exili\, i el deixen en un atzucac personal de difícil reversió. Walter Benjamin passa les seves últimes hores de vida a Portbou\, una ciutat grisa aclaparada i controlada pels feixistes\, en una habitació de l’Hotel de França\, des de la qual ens narra\, en una sola nit\, la trajectòria de la seva vida: des de la infantesa i l’adolescència fins als anys d’aprenentatge\, les frustracions acadèmiques posteriors i les diverses peripècies vitals per sobreviure. \n  \n \n(Lletra Impresa)
URL:https://octubre.cat/activitat/presentacio-del-llibre-walter-benjamin-passatges-acabats-de-rafa-gomar/
LOCATION:Llibreria Fan Set
CATEGORIES:Literatura
ATTACH;FMTTYPE=image/jpeg:https://octubre.cat/www/wp-content/uploads/2024/11/Foto-Rafa-Gomar-per-Ignasi-Minyana-low.jpg
END:VEVENT
BEGIN:VEVENT
DTSTART;TZID=Europe/Andorra:20241204T193000
DTEND;TZID=Europe/Andorra:20241204T193000
DTSTAMP:20260421T075942
CREATED:20241118T202121Z
LAST-MODIFIED:20241118T202121Z
UID:21972-1733340600-1733340600@octubre.cat
SUMMARY:NVCLI – Sessió terapèutica #10
DESCRIPTION:Problems (USA) \n+ \nPersona & Super_User
URL:https://octubre.cat/activitat/nvcli-sessio-terapeutica-10/
LOCATION:Sala d’actes
CATEGORIES:NVCLI
ATTACH;FMTTYPE=image/jpeg:https://octubre.cat/www/wp-content/uploads/2024/11/nvcli-occc-4-dec.jpg
END:VEVENT
END:VCALENDAR