BEGIN:VCALENDAR
VERSION:2.0
PRODID:-//Octubre Centre de Cultura Contemporània - ECPv5.1.6//NONSGML v1.0//EN
CALSCALE:GREGORIAN
METHOD:PUBLISH
X-WR-CALNAME:Octubre Centre de Cultura Contemporània
X-ORIGINAL-URL:https://octubre.cat
X-WR-CALDESC:Events for Octubre Centre de Cultura Contemporània
BEGIN:VTIMEZONE
TZID:Europe/Andorra
BEGIN:DAYLIGHT
TZOFFSETFROM:+0100
TZOFFSETTO:+0200
TZNAME:CEST
DTSTART:20240331T010000
END:DAYLIGHT
BEGIN:STANDARD
TZOFFSETFROM:+0200
TZOFFSETTO:+0100
TZNAME:CET
DTSTART:20241027T010000
END:STANDARD
END:VTIMEZONE
BEGIN:VEVENT
DTSTART;TZID=Europe/Andorra:20241108T160000
DTEND;TZID=Europe/Andorra:20241122T210000
DTSTAMP:20260421T093016
CREATED:20241107T123245Z
LAST-MODIFIED:20250710T104349Z
UID:21935-1731081600-1732309200@octubre.cat
SUMMARY:Exposició Mostra Viva del Mediterrani: «Harraga\, un retornat»\, de Foued Bouatba
DESCRIPTION:La conca del Mediterrani ha segut el bressol de nombroses civilitzacions que han desenvolupat un paper important en la comunicació dels pobles de la regió i que ha evitat els enfrontaments entre poblacions amb interessos diferents. No hi ha altra conca idèntica en el món. \nAnomenat en aquell moment el “nostre mar” pels romans\, el “mar blanc” (Akdeniz) pels turcs\, el “gran mar” pels jueus\, el “mar del mig” (Mittlemeer) pels alemanys i el “gran verd” pels antics egipcis\, hui en dia és un cementiri per a moltes persones que busquen un lloc de vida millor i que s’anomenen “Harraga”. \n“Harraga” plural de l’actiu del verb “cremar” en àrab i nom dels joves magribins\, cada vegada més nombrosos\, que tracten de creuar aquesta conca mediterrània clandestinament dins d’embarcacions improvisades. Aquests “harraga”\, “cremadors de fronteres”\, poques vegades aconsegueixen la seua perillosa travessia. Molts d’ells ensopeguen amb l’escull de la inquietud i així moren la major part de vegades al final del seu viatge. \nLa quimera de l’emigració clandestina va prevaldre un dia de 2007 més enllà de les seues fronteres\, fent esperar una vida millor sota d’altres cels. Però l’aventura de “cremar les fronteres” (harraga) no va arribar al resultat esperat. \n \n—\nOrganitzat per Mostra Viva del Mediterrani amb la col·laboració de l’Octubre CCC
URL:https://octubre.cat/activitat/exposicio-mostra-viva-del-mediterrani-harraga-un-retornat-de-foued-bouatba/
LOCATION:Sala d’exposicions
CATEGORIES:Exposicions,Mostra Viva 2024
ATTACH;FMTTYPE=image/jpeg:https://octubre.cat/www/wp-content/uploads/2024/11/bouatba-obra.jpg
END:VEVENT
BEGIN:VEVENT
DTSTART;TZID=Europe/Andorra:20241108T160000
DTEND;TZID=Europe/Andorra:20241122T210000
DTSTAMP:20260421T093016
CREATED:20241118T160648Z
LAST-MODIFIED:20250710T104424Z
UID:21968-1731081600-1732309200@octubre.cat
SUMMARY:Exposició Mostra Viva del Mediterrani: «Veus del Mar: identitats silenciades»\, de Rocío Villalonga
DESCRIPTION:La migració ha segut\, al llarg de la història\, una constant que reflecteix la recerca d’esperança i una vida digna. En el context del Mediterrani\, aquest mar ha servit tant com un camí de fugida de conflictes i crisis econòmiques\, com un escenari dramàtic on les històries de milers de migrants queden sovint silenciades.\nA la nostra exposició “Veus del Mar: Identitats Silenciades”\, ens endinsem en les experiències d’aquells que emprenen el perillós viatge cap a la vora d’un nou començament. Aquestes veus\, que ressonen a través de l’angoixa i el desarrelament\, revelen la rica diversitat d’identitats\, cultures i somnis que s’entrellacen al trajecte migratori.\nDes de relats de supervivència fins a la lluita per reconeixement i pertinença\, explorem com les narratives d’aquests individus han estat oblidades o distorsionades en un discurs públic sovint carregat d’estigmes. A través de testimonis visuals i escrits\, busquem donar visibilitat a aquestes històries\, recordant que darrere de cada número\, cada estadística\, hi ha una vida\, un somni i una veu que mereix ser escoltada.\nHui convidem tothom a apropar-se a aquestes històries i reflexionar sobre el significat de la migració\, el desarrelament i la importància de reconèixer i celebrar la diversitat d’identitats que configuren les nostres societats. Perquè només en observar podem avançar cap a un futur més inclusiu i just. \n \n—\nOrganitzat per Mostra Viva del Mediterrani amb la col·laboració de l’Octubre CCC
URL:https://octubre.cat/activitat/exposicio-mostra-viva-del-mediterrani-veus-del-mar-identitats-silenciades-de-rocio-villalonga/
LOCATION:Sala d’exposicions
CATEGORIES:Exposicions,Mostra Viva 2024
ATTACH;FMTTYPE=image/jpeg:https://octubre.cat/www/wp-content/uploads/2024/11/rocio-villalonga-obra.jpg
END:VEVENT
BEGIN:VEVENT
DTSTART;TZID=Europe/Andorra:20241119T163000
DTEND;TZID=Europe/Andorra:20241119T163000
DTSTAMP:20260421T093016
CREATED:20241118T095317Z
LAST-MODIFIED:20241118T095317Z
UID:21962-1732033800-1732033800@octubre.cat
SUMMARY:FCCC 2024: Sessió de curtmetratges
DESCRIPTION:Es projectaran els curts següents: \n–Cabanyal SA\n–Casting\n–Becarias\n–Cava\n–Equipo\n–La decisión de Joaquina \n  \n \n—\nXé Festival de Cinema Ciutadà Compromès organitzat per ACICOM amb la col·laboració d’ACPV.
URL:https://octubre.cat/activitat/fccc-2024-sessio-de-curtmetratges-6/
LOCATION:Sala d’actes
CATEGORIES:Festival de Cinema Ciutadà Compromès 2024
ATTACH;FMTTYPE=image/jpeg:https://octubre.cat/www/wp-content/uploads/2024/10/banner-FCCC-2024.jpg
END:VEVENT
BEGIN:VEVENT
DTSTART;TZID=Europe/Andorra:20241119T190000
DTEND;TZID=Europe/Andorra:20241119T190000
DTSTAMP:20260421T093017
CREATED:20241028T172019Z
LAST-MODIFIED:20250713T074335Z
UID:21904-1732042800-1732042800@octubre.cat
SUMMARY:Presentació del llibre Segons manera\, de Rubén Luzón
DESCRIPTION:Amb l’autor acompanyat per Jaume Pérez Montaner. \nSegons manera\, el sisè recull de versos de Rubén Luzón\, representa un retorn a les inquietuds estilístiques i temàtiques que han caracteritzat l’obra de l’autor al llarg dels anys\, però treballades des d’una perspectiva evolucionada. Amb una veu marcadament introspectiva\, els cinquanta poemes que integren el llibre obren noves vies d’indagació lírica entorn de la fragilitat de la vida\, l’acceptació dels límits\, l’apetit d’alteritat i transcendència\, la perplexitat enfront d’un món en mudança constant\, l’intent inacabable de dotar de sentit les passions que ens sobrevenen; en definitiva\, les qüestions ineluctables de l’existència humana. \n  \n \n(Ona)
URL:https://octubre.cat/activitat/presentacio-del-llibre-segons-manera-de-ruben-luzon/
LOCATION:Llibreria Fan Set
CATEGORIES:Literatura
ATTACH;FMTTYPE=image/jpeg:https://octubre.cat/www/wp-content/uploads/2024/10/ruben-luzon.jpg
END:VEVENT
END:VCALENDAR