BEGIN:VCALENDAR
VERSION:2.0
PRODID:-//Octubre Centre de Cultura Contemporània - ECPv5.1.6//NONSGML v1.0//EN
CALSCALE:GREGORIAN
METHOD:PUBLISH
X-WR-CALNAME:Octubre Centre de Cultura Contemporània
X-ORIGINAL-URL:https://octubre.cat
X-WR-CALDESC:Events for Octubre Centre de Cultura Contemporània
BEGIN:VTIMEZONE
TZID:Europe/Andorra
BEGIN:DAYLIGHT
TZOFFSETFROM:+0100
TZOFFSETTO:+0200
TZNAME:CEST
DTSTART:20240331T010000
END:DAYLIGHT
BEGIN:STANDARD
TZOFFSETFROM:+0200
TZOFFSETTO:+0100
TZNAME:CET
DTSTART:20241027T010000
END:STANDARD
END:VTIMEZONE
BEGIN:VEVENT
DTSTART;TZID=Europe/Andorra:20241021T000000
DTEND;TZID=Europe/Andorra:20241109T140000
DTSTAMP:20260421T092149
CREATED:20241015T100926Z
LAST-MODIFIED:20250710T104323Z
UID:21803-1729468800-1731160800@octubre.cat
SUMMARY:Joan Salvat-Papasseit: l’irradiador de l’avantguarda
DESCRIPTION:100 anys de la mort de Joan Salvat-Papasseit\nVa ser un poeta d’avantguarda\, i va tenir també una prolífica activitat com a redactor d’articles de crítica social en català i castellà\, que simpatitzaven amb els corrents anarquistes i socialistes de l’època. El seu estil enèrgic i impulsiu\, optimista i vital\, contrasta amb una vida de rutina i repòs obligats degut als problemes de salut. Va morir de tuberculosi als trenta anys\, i va deixar una obra que durant dècades va ser poc coneguda. A partir dels anys seixanta la seva figura va ser popularitzada sobretot gràcies a autors de la Nova Cançó que van posar música a alguns dels seus poemes. Avui dia és considerat un dels escriptors catalans clau del segle xx. \n  \n \n  \nExposició «Joan Salvat-Papasseit: l’irradiador de l’avantguarda»\nEl títol de l’exposició mostra l’afany avantguardista de Salvat-Papasseit\, que fou l’irradiador del port\, amb els seus cal·ligrames\, els seus versos lliures i els seus poemes d’amor. Cada plafó està destinat a un tema essencial de la seva trajectòria literària i vital: la formació\, les revistes\, el poeta d’avantguarda\, l’home entusiasta i la recuperació de la seva obra. Així\, l’exposició mostra la trajectòria poètica\, humana i artística de Joan Salvat-Papasseit amb l’objectiu de posar de manifest la passió amb què es va dedicar a crear una obra completament original i\, alhora\, fer memòria viva d’un dels escriptors més populars de la llengua catalana del segle XX: far poètic i irradiador de l’avantguarda. \n—\nComissari: Ferran Aisa\nUna producció de la Institució de les Lletres Catalanes / Any Joan Salvat-Papasseit
URL:https://octubre.cat/activitat/joan-salvat-papasseit-lirradiador-de-lavantguarda/
LOCATION:Hall
CATEGORIES:Exposicions,Literatura
ATTACH;FMTTYPE=image/jpeg:https://octubre.cat/www/wp-content/uploads/2024/10/papasseit-irradiador.jpg
END:VEVENT
BEGIN:VEVENT
DTSTART;TZID=Europe/Andorra:20241031T173000
DTEND;TZID=Europe/Andorra:20241031T173000
DTSTAMP:20260421T092149
CREATED:20241018T160654Z
LAST-MODIFIED:20241030T193811Z
UID:21857-1730395800-1730395800@octubre.cat
SUMMARY:FCCC 2024: Utópica d’Augusto M. Torres i Faltan vuestros nombres de Pablo Gabaldón
DESCRIPTION:ATENCIÓ: aquesta projecció ha estat ajornada. En comunicarem la nova data.\n— \nUtópica d’Augusto M. Torres \nA la fi del segle XIX\, el comte de l’Alcúdia i Xestalgar\, Antonio de Saavedra y Rodríguez de la Guerra\, construïx\, segons la llei de 1868\, una Colònia Agrícola i Industrial en les seues terres de Villena i Saix. Una jove a cavall descobrix les ruïnes de la Colònia Santa Eulàlia\, la història dels seus constructors i el que va ser una utopia. \nDirecció i guió: Augusto M. Torres\nProducció: Mayuca Gil de Biedma\nEspanya\, 2024\nVO en castellà\nDurada: 19’ \n  \n \n  \nFaltan vuestros nombres de Pablo Gabaldón \nEn les fosses comunes del Cementeri General de València es van soterrar les restes de més de 26000 persones\, moltes d’elles víctimes del franquisme. En aquest audiovisual es narra la història d’alguns d’eixos represaliats\, i es fa un balanç de la gestió de la memòria democràtica per la dreta i per l’esquerra a nivell local\, autonòmic i estatal. \nDirecció i guió: Pablo Gabaldón\nEdició: Marc Martínez\nProducció: Artistas Anónimos Producciones\nMúsica: Edgar Codutti\nEspanya\, 2024\nVO en valencià i castellà\nDurada: 84’ \n—\nXé Festival de Cinema Ciutadà Compromès organitzat per ACICOM amb la col·laboració d’ACPV.
URL:https://octubre.cat/activitat/fccc-2024-utopica-daugusto-m-torres-i-faltan-vuestros-nombres-de-pablo-gabaldon/
LOCATION:Activitat ajornada
CATEGORIES:Festival de Cinema Ciutadà Compromès 2024
ATTACH;FMTTYPE=image/jpeg:https://octubre.cat/www/wp-content/uploads/2024/10/banner-FCCC-2024.jpg
END:VEVENT
END:VCALENDAR