BEGIN:VCALENDAR
VERSION:2.0
PRODID:-//Octubre Centre de Cultura Contemporània - ECPv5.1.6//NONSGML v1.0//EN
CALSCALE:GREGORIAN
METHOD:PUBLISH
X-WR-CALNAME:Octubre Centre de Cultura Contemporània
X-ORIGINAL-URL:https://octubre.cat
X-WR-CALDESC:Events for Octubre Centre de Cultura Contemporània
BEGIN:VTIMEZONE
TZID:Europe/Andorra
BEGIN:DAYLIGHT
TZOFFSETFROM:+0100
TZOFFSETTO:+0200
TZNAME:CEST
DTSTART:20240331T010000
END:DAYLIGHT
BEGIN:STANDARD
TZOFFSETFROM:+0200
TZOFFSETTO:+0100
TZNAME:CET
DTSTART:20241027T010000
END:STANDARD
END:VTIMEZONE
BEGIN:VEVENT
DTSTART;TZID=Europe/Andorra:20241021T000000
DTEND;TZID=Europe/Andorra:20241109T140000
DTSTAMP:20260421T092151
CREATED:20241015T100926Z
LAST-MODIFIED:20250710T104323Z
UID:21803-1729468800-1731160800@octubre.cat
SUMMARY:Joan Salvat-Papasseit: l’irradiador de l’avantguarda
DESCRIPTION:100 anys de la mort de Joan Salvat-Papasseit\nVa ser un poeta d’avantguarda\, i va tenir també una prolífica activitat com a redactor d’articles de crítica social en català i castellà\, que simpatitzaven amb els corrents anarquistes i socialistes de l’època. El seu estil enèrgic i impulsiu\, optimista i vital\, contrasta amb una vida de rutina i repòs obligats degut als problemes de salut. Va morir de tuberculosi als trenta anys\, i va deixar una obra que durant dècades va ser poc coneguda. A partir dels anys seixanta la seva figura va ser popularitzada sobretot gràcies a autors de la Nova Cançó que van posar música a alguns dels seus poemes. Avui dia és considerat un dels escriptors catalans clau del segle xx. \n  \n \n  \nExposició «Joan Salvat-Papasseit: l’irradiador de l’avantguarda»\nEl títol de l’exposició mostra l’afany avantguardista de Salvat-Papasseit\, que fou l’irradiador del port\, amb els seus cal·ligrames\, els seus versos lliures i els seus poemes d’amor. Cada plafó està destinat a un tema essencial de la seva trajectòria literària i vital: la formació\, les revistes\, el poeta d’avantguarda\, l’home entusiasta i la recuperació de la seva obra. Així\, l’exposició mostra la trajectòria poètica\, humana i artística de Joan Salvat-Papasseit amb l’objectiu de posar de manifest la passió amb què es va dedicar a crear una obra completament original i\, alhora\, fer memòria viva d’un dels escriptors més populars de la llengua catalana del segle XX: far poètic i irradiador de l’avantguarda. \n—\nComissari: Ferran Aisa\nUna producció de la Institució de les Lletres Catalanes / Any Joan Salvat-Papasseit
URL:https://octubre.cat/activitat/joan-salvat-papasseit-lirradiador-de-lavantguarda/
LOCATION:Hall
CATEGORIES:Exposicions,Literatura
ATTACH;FMTTYPE=image/jpeg:https://octubre.cat/www/wp-content/uploads/2024/10/papasseit-irradiador.jpg
END:VEVENT
BEGIN:VEVENT
DTSTART;TZID=Europe/Andorra:20241030T173000
DTEND;TZID=Europe/Andorra:20241030T173000
DTSTAMP:20260421T092151
CREATED:20241018T153717Z
LAST-MODIFIED:20241030T193942Z
UID:21850-1730309400-1730309400@octubre.cat
SUMMARY:FCCC 2024: Negar la pau\, d’Óskar Navarro i Sergi Tarin
DESCRIPTION:ATENCIÓ: aquesta projecció ha estat ajornada. En comunicarem la nova data.\n— \nDocumental centrat en les històries de les famílies de les víctimes soterrades a la fossa 126 del Cementeri de Paterna\, afusellades pel règim franquista en la primera postguerra. En paral·lel a les vides dels i les protagonistes\, es conta el procés d’exhumacions i identificació de les víctimes\, impulsat per l’Associació de familiars i la Conselleria de Participació de la Generalitat Valenciana.  \n  \n \n  \nDirecció i guió: Óskar Navarro i Sergi Tarin\nEdició: Esther Albert\nProducció: Juli Esteve\nMúsica: Damián Sánchez\nEspanya\, 2023\nVO en valencià\nDurada: 85’ \n—\nXé Festival de Cinema Ciutadà Compromès organitzat per ACICOM amb la col·laboració d’ACPV.
URL:https://octubre.cat/activitat/fccc-2024-negar-la-pau-doskar-navarro-i-sergi-tarin/
LOCATION:Activitat ajornada
CATEGORIES:Festival de Cinema Ciutadà Compromès 2024
ATTACH;FMTTYPE=image/jpeg:https://octubre.cat/www/wp-content/uploads/2024/10/banner-FCCC-2024.jpg
END:VEVENT
BEGIN:VEVENT
DTSTART;TZID=Europe/Andorra:20241030T193000
DTEND;TZID=Europe/Andorra:20241030T193000
DTSTAMP:20260421T092151
CREATED:20241018T155046Z
LAST-MODIFIED:20241030T193854Z
UID:21853-1730316600-1730316600@octubre.cat
SUMMARY:FCCC 2024: Els germans Comes\, de José Gaya i Déu també parla valencià\, de Valentí Figueres
DESCRIPTION:ATENCIÓ: aquesta projecció ha estat ajornada. En comunicarem la nova data.\n— \nEls germans Comes de José Gaya \nLa vida de Josep Antoni i Clementina Comes\, pedreguers de naixement\, ha estat plena de generositat amb els més desfavorits. Comes ha lluitat amb els moviments cristians obrers durant 60 anys i ha estat periodista fundador de diverses revistes de reflexió crítica\, així com defensor del valencià i impulsor dels canvis democràtics de les institucions cristianes. Els germans Comes han donat part del seu patrimoni a diferents associacions culturals i socials de la Marina Alta i particularment de Pedreguer. \nDirecció i guió: José Gaya\nProducció: Pau Barrull i Enric Martí\nDistribució: Col·lectiu Mirades\, Ajuntament de Pedreguer i Associació Els Pòrxens\nEspanya\, 2024\nVO en valencià\nDurada: 26’ \n  \n \n  \nDéu també parla valencià de Valentí Figueres \nÉs el descobriment de la història desconeguda de com un grapat de rectors\, capellans i religiosos alçaren la bandera de la llengua per la litúrgia en valencià. És també el relat del valor\, ètica i compromís d’un grup de religiosos i seglars valencians que feren front al franquisme\, lluitaren per la llengua del poble i per incorporar-la a l’església. Poder dir la missa en valencià\, resar en valencià\, llegir la bíblia i els evangelis en valencià\, casar-se\, batejar als fills i acomiadar-se dels éssers volguts en la llengua en la que vivien i que els seus pares i mares els havien parlat a la infància. \nDirecció: Valentí Figueres Jorge\nGuió: Helena Sánchez Bel\nProducció: Valentí Figueres\nEspanya\, 2024\nVO en valencià\nDurada: 59’ \n—\nXé Festival de Cinema Ciutadà Compromès organitzat per ACICOM amb la col·laboració d’ACPV.
URL:https://octubre.cat/activitat/fccc-2024-els-germans-comes-de-jose-gaya-i-deu-tambe-parla-valencia-de-valenti-figueres/
LOCATION:Activitat ajornada
CATEGORIES:Festival de Cinema Ciutadà Compromès 2024
ATTACH;FMTTYPE=image/jpeg:https://octubre.cat/www/wp-content/uploads/2024/10/banner-FCCC-2024.jpg
END:VEVENT
END:VCALENDAR