BEGIN:VCALENDAR
VERSION:2.0
PRODID:-//Octubre Centre de Cultura Contemporània - ECPv5.1.6//NONSGML v1.0//EN
CALSCALE:GREGORIAN
METHOD:PUBLISH
X-WR-CALNAME:Octubre Centre de Cultura Contemporània
X-ORIGINAL-URL:https://octubre.cat
X-WR-CALDESC:Events for Octubre Centre de Cultura Contemporània
BEGIN:VTIMEZONE
TZID:Europe/Andorra
BEGIN:DAYLIGHT
TZOFFSETFROM:+0100
TZOFFSETTO:+0200
TZNAME:CEST
DTSTART:20240331T010000
END:DAYLIGHT
BEGIN:STANDARD
TZOFFSETFROM:+0200
TZOFFSETTO:+0100
TZNAME:CET
DTSTART:20241027T010000
END:STANDARD
END:VTIMEZONE
BEGIN:VEVENT
DTSTART;TZID=Europe/Andorra:20241021T000000
DTEND;TZID=Europe/Andorra:20241109T140000
DTSTAMP:20260421T092048
CREATED:20241015T100926Z
LAST-MODIFIED:20250710T104323Z
UID:21803-1729468800-1731160800@octubre.cat
SUMMARY:Joan Salvat-Papasseit: l’irradiador de l’avantguarda
DESCRIPTION:100 anys de la mort de Joan Salvat-Papasseit\nVa ser un poeta d’avantguarda\, i va tenir també una prolífica activitat com a redactor d’articles de crítica social en català i castellà\, que simpatitzaven amb els corrents anarquistes i socialistes de l’època. El seu estil enèrgic i impulsiu\, optimista i vital\, contrasta amb una vida de rutina i repòs obligats degut als problemes de salut. Va morir de tuberculosi als trenta anys\, i va deixar una obra que durant dècades va ser poc coneguda. A partir dels anys seixanta la seva figura va ser popularitzada sobretot gràcies a autors de la Nova Cançó que van posar música a alguns dels seus poemes. Avui dia és considerat un dels escriptors catalans clau del segle xx. \n  \n \n  \nExposició «Joan Salvat-Papasseit: l’irradiador de l’avantguarda»\nEl títol de l’exposició mostra l’afany avantguardista de Salvat-Papasseit\, que fou l’irradiador del port\, amb els seus cal·ligrames\, els seus versos lliures i els seus poemes d’amor. Cada plafó està destinat a un tema essencial de la seva trajectòria literària i vital: la formació\, les revistes\, el poeta d’avantguarda\, l’home entusiasta i la recuperació de la seva obra. Així\, l’exposició mostra la trajectòria poètica\, humana i artística de Joan Salvat-Papasseit amb l’objectiu de posar de manifest la passió amb què es va dedicar a crear una obra completament original i\, alhora\, fer memòria viva d’un dels escriptors més populars de la llengua catalana del segle XX: far poètic i irradiador de l’avantguarda. \n—\nComissari: Ferran Aisa\nUna producció de la Institució de les Lletres Catalanes / Any Joan Salvat-Papasseit
URL:https://octubre.cat/activitat/joan-salvat-papasseit-lirradiador-de-lavantguarda/
LOCATION:Hall
CATEGORIES:Exposicions,Literatura
ATTACH;FMTTYPE=image/jpeg:https://octubre.cat/www/wp-content/uploads/2024/10/papasseit-irradiador.jpg
END:VEVENT
BEGIN:VEVENT
DTSTART;TZID=Europe/Andorra:20241028T173000
DTEND;TZID=Europe/Andorra:20241028T173000
DTSTAMP:20260421T092048
CREATED:20241018T091958Z
LAST-MODIFIED:20241018T091958Z
UID:21829-1730136600-1730136600@octubre.cat
SUMMARY:FCCC 2024: Yo tenía una vida\, d’Octavio Guerra
DESCRIPTION:Després de viure una dècada al carrer\, Jesús comença la seua reinserció social en una casa d’acolliment i un programa laboral. Els anys passen i la falta de plena llibertat l’impulsen a abandonar el programa i buscar la seua pròpia autonomia. Però sense la possibilitat d’un treball i d’una vivenda estable\, l’amenaça de tornar al carrer és una realitat. \n  \n \n  \nDirecció i guió: Octavio Guerra\nFotografia: Carlos Aparicio\nProducció: Calibrando Producciones.\nEspanya\, 2023\nVO en valencià i castellà\nDurada: 71’ \n—\nXé Festival de Cinema Ciutadà Compromès organitzat per ACICOM amb la col·laboració d’ACPV.
URL:https://octubre.cat/activitat/fccc-2024-yo-tenia-una-vida-doctavio-guerra/
LOCATION:Sala d’actes
CATEGORIES:Festival de Cinema Ciutadà Compromès 2024
ATTACH;FMTTYPE=image/jpeg:https://octubre.cat/www/wp-content/uploads/2024/10/banner-FCCC-2024.jpg
END:VEVENT
BEGIN:VEVENT
DTSTART;TZID=Europe/Andorra:20241028T193000
DTEND;TZID=Europe/Andorra:20241028T193000
DTSTAMP:20260421T092048
CREATED:20241018T093343Z
LAST-MODIFIED:20241018T163724Z
UID:21835-1730143800-1730143800@octubre.cat
SUMMARY:FCCC 2024: Sessió de curtmetratges
DESCRIPTION:Es projecten els següents curtmetratges: \n—180 graus (17′)\, de Dani Reina (2024)\nBelén té huit anys i no vol anar a casa de la seua àvia. Per a convèncer-la\, Diana\, la seua mare\, li ha promés que allí podrà menjar les mateixes galetes que ella menjava de xiqueta\, les millors que ha provat mai. Fa quasi deu anys que Diana no veu a la seua mare i necessita demanar-li un favor. I no té res a veure amb cuinar galetes. \n—Este es el diario no tan secreto de Raquel (18′)\, de Raquel Egea Ramos (2023)\nVaig escriure tres diaris en diferents intervals d’edat des de la preadolescència fins a arribar a l’edat adulta. Sempre que tornava a casa de ma mare els trobava i un dia vaig decidir llegir-los d’un colp i em vaig adonar que només tractaven un tema: els xics. \n—Hariaren amaieran (At the end of the thread) (6′)\, d’Aitor Molina (2024)\nCelio és un xic solitari que pot vore els fils rojos que uneixen el destí de les parelles. \n—Casting (7′)\, de Víctor Devesa (2024)\nUna actriu acudeix a un casting per a un paper protagonista. \n—El doctor Tarantonga (7′)\, d’Amaya Marcaida (2023)\nLa Martina era una nena fora del normal. Ningú no ho sabia\, però tenia un gran poder. Era capaç de crear mons complets\, mons per viure i somiar. Però aquell dia alguna cosa pertorbava la pau dels seus pensaments. \n—Elvira (9′) \n  \n \n—\nXé Festival de Cinema Ciutadà Compromès organitzat per ACICOM amb la col·laboració d’ACPV.
URL:https://octubre.cat/activitat/fccc-2024-sessio-de-curtmetratges-2/
LOCATION:Sala d’actes
CATEGORIES:Festival de Cinema Ciutadà Compromès 2024
ATTACH;FMTTYPE=image/jpeg:https://octubre.cat/www/wp-content/uploads/2024/10/banner-FCCC-2024.jpg
END:VEVENT
END:VCALENDAR