BEGIN:VCALENDAR
VERSION:2.0
PRODID:-//Octubre Centre de Cultura Contemporània - ECPv5.1.6//NONSGML v1.0//EN
CALSCALE:GREGORIAN
METHOD:PUBLISH
X-WR-CALNAME:Octubre Centre de Cultura Contemporània
X-ORIGINAL-URL:https://octubre.cat
X-WR-CALDESC:Events for Octubre Centre de Cultura Contemporània
BEGIN:VTIMEZONE
TZID:Europe/Andorra
BEGIN:DAYLIGHT
TZOFFSETFROM:+0100
TZOFFSETTO:+0200
TZNAME:CEST
DTSTART:20240331T010000
END:DAYLIGHT
BEGIN:STANDARD
TZOFFSETFROM:+0200
TZOFFSETTO:+0100
TZNAME:CET
DTSTART:20241027T010000
END:STANDARD
END:VTIMEZONE
BEGIN:VEVENT
DTSTART;TZID=Europe/Andorra:20241021T000000
DTEND;TZID=Europe/Andorra:20241109T140000
DTSTAMP:20260421T104559
CREATED:20241015T100926Z
LAST-MODIFIED:20250710T104323Z
UID:21803-1729468800-1731160800@octubre.cat
SUMMARY:Joan Salvat-Papasseit: l’irradiador de l’avantguarda
DESCRIPTION:100 anys de la mort de Joan Salvat-Papasseit\nVa ser un poeta d’avantguarda\, i va tenir també una prolífica activitat com a redactor d’articles de crítica social en català i castellà\, que simpatitzaven amb els corrents anarquistes i socialistes de l’època. El seu estil enèrgic i impulsiu\, optimista i vital\, contrasta amb una vida de rutina i repòs obligats degut als problemes de salut. Va morir de tuberculosi als trenta anys\, i va deixar una obra que durant dècades va ser poc coneguda. A partir dels anys seixanta la seva figura va ser popularitzada sobretot gràcies a autors de la Nova Cançó que van posar música a alguns dels seus poemes. Avui dia és considerat un dels escriptors catalans clau del segle xx. \n  \n \n  \nExposició «Joan Salvat-Papasseit: l’irradiador de l’avantguarda»\nEl títol de l’exposició mostra l’afany avantguardista de Salvat-Papasseit\, que fou l’irradiador del port\, amb els seus cal·ligrames\, els seus versos lliures i els seus poemes d’amor. Cada plafó està destinat a un tema essencial de la seva trajectòria literària i vital: la formació\, les revistes\, el poeta d’avantguarda\, l’home entusiasta i la recuperació de la seva obra. Així\, l’exposició mostra la trajectòria poètica\, humana i artística de Joan Salvat-Papasseit amb l’objectiu de posar de manifest la passió amb què es va dedicar a crear una obra completament original i\, alhora\, fer memòria viva d’un dels escriptors més populars de la llengua catalana del segle XX: far poètic i irradiador de l’avantguarda. \n—\nComissari: Ferran Aisa\nUna producció de la Institució de les Lletres Catalanes / Any Joan Salvat-Papasseit
URL:https://octubre.cat/activitat/joan-salvat-papasseit-lirradiador-de-lavantguarda/
LOCATION:Hall
CATEGORIES:Exposicions,Literatura
ATTACH;FMTTYPE=image/jpeg:https://octubre.cat/www/wp-content/uploads/2024/10/papasseit-irradiador.jpg
END:VEVENT
BEGIN:VEVENT
DTSTART;TZID=Europe/Andorra:20241023T170000
DTEND;TZID=Europe/Andorra:20241023T170000
DTSTAMP:20260421T104559
CREATED:20241018T083123Z
LAST-MODIFIED:20250713T083017Z
UID:21823-1729702800-1729702800@octubre.cat
SUMMARY:FCCC 2024: 17 dies de novembre\, de Valentí Figueres
DESCRIPTION:El documental ens narra l’instant on dos trajectòries vitals es creuen i desemboquen en un tràgic desenllaç: la vida de Juan Garcia Oliver\, cambrer\, membre d’ Els Solidaris\, Ministre de Justícia i anarquista de la CNT i la vida de José Antonio Primo de Rivera\, marqués\, Gran d’Espanya i fundador de Falange Espanyola de les JONS). A través de la investigació cronològica\, descobrirem el seu dia a dia\, des del 4 al 20 de Novembre de 1936. 17 dies que canviarien el destí de l’Espanya Republicana i construirien el mite del Màrtir. \n  \n \n  \nDirecció: Valentí Figueres\nGuió: Helena Sánchez Bel i Valentí Figueres.\nEdició: Max Madera Films SL i NRD Valencia\nProducció: Valentí Figueres\nMúsica: Grup Carraixet i Grup Ona Nua\nEspanya\, 2023\nVO en valencià i castellà\nDurada: 124’ \n—\nXé Festival de Cinema Ciutadà Compromès organitzat per ACICOM amb la col·laboració d’ACPV.
URL:https://octubre.cat/activitat/fccc-2024-17-dies-de-novembre-de-valenti-figueres/
LOCATION:Sala d’actes
CATEGORIES:Festival de Cinema Ciutadà Compromès 2024
ATTACH;FMTTYPE=image/jpeg:https://octubre.cat/www/wp-content/uploads/2024/10/banner-FCCC-2024.jpg
END:VEVENT
BEGIN:VEVENT
DTSTART;TZID=Europe/Andorra:20241023T190000
DTEND;TZID=Europe/Andorra:20241023T190000
DTSTAMP:20260421T104559
CREATED:20240916T100027Z
LAST-MODIFIED:20250713T084647Z
UID:21687-1729710000-1729710000@octubre.cat
SUMMARY:Bar de Ciències: Una tertúlia molt tòxica
DESCRIPTION:Celebrant 30 anys del premi de divulgació científica Estudi General i de la col·lecció Sense Fronteres \nA propòsit de la publicació del llibre Entre verins. Crims i càstigs des de l’edat mitjana fins al present (Col. Sense Fronteres\, Bromera/PUV\, 2024) \nAmb la participació dels autors Josep Ramon Bertomeu i Carmel Ferragud\nModera: Reis Juan \nEntre verins ens endinsa en la fascinant història dels productes tòxics\, ens revela els seus secrets ocults i els seus trets canviants\, alhora materials i polítics. Amb una mirada rigorosa\, però també didàctica i atractiva\, aquesta obra presenta sis casos esdevinguts principalment en territoris de parla catalana i que s’estenen des de l’edat mitjana fins al segle XX. Amb una escriptura que barreja el relat literari i la reflexió històrica\, Entre verins ens convida a entendre els aspectes socials\, culturals\, polítics\, econòmics i científics que envolten el món dels verins. \n  \n\n—\nL’Espai Ciència de l’Octubre CCC és una iniciativa de l’Institut d’Estudis Catalans i compta amb la col·laboració d’Acció Cultural del País Valencià\, la Unitat de Cultura Científica i Innovació / Càtedra de Divulgació de la Ciència de la UV\, la Fundació Espanyola per a la Ciència i la Tecnologia\, el Centre Superior d’Investigacions Científiques\, la llibreria Fan Set i la revista Mètode.
URL:https://octubre.cat/activitat/bar-de-ciencies-una-tertulia-molt-toxica/
LOCATION:Cafeteria
CATEGORIES:Espai Ciència
ATTACH;FMTTYPE=image/jpeg:https://octubre.cat/www/wp-content/uploads/2024/09/verins.jpeg
END:VEVENT
BEGIN:VEVENT
DTSTART;TZID=Europe/Andorra:20241023T193000
DTEND;TZID=Europe/Andorra:20241023T193000
DTSTAMP:20260421T104559
CREATED:20241018T090805Z
LAST-MODIFIED:20241019T100510Z
UID:21826-1729711800-1729711800@octubre.cat
SUMMARY:FCCC 2024: Sessió de curtmetratges
DESCRIPTION:Es projecten els següents curtmetratges: \n—Querido Lorenzo (3′)\, de Maëla Sanmartín (2023)\nLes seues reflexions ens conviden a pensar sobre un espai poc explorat en totes les societats. \n—Bildersturm # 1 Fernando Rodríguez-Fornos (8.33′)\, de Maria Amparo Vidal Gomar (2023)\nFernando Rodríguez-Fornos\, rector franquista de la Universitat de València des de 1941 fins la seua mort en 1951. Catedràtic de patologia mèdica\, comparava la ideologia d’esquerres amb una malaltia mental. \n—Cartes robades. Els papers de Manises (33′)\, de Salvador Dolz (2023)\nEn els anys 80 es descobreixen a Manises vint-i-quatre arxivadors amb els arxius de la Falange local: informes sobre la conducta dels veïns\, denúncies… i un paquet de cartes escrites per presos i exiliats als seus familiars\, que algú va robar i que mai no arribarien al seu destí. \n—La Fifla (30′)\, de Jordi Sebastià (2023)\nSilvia Soria\, coneguda com “La Fifla” segueix vivint en la seua barraca de la pedania de la Punta\, en València\, una zona d’horta i platja ara quasi bé desapareguda per la construcció de infraestructures com ara el port\, les vies del tren o l’autopista. \n  \n \n—\nXé Festival de Cinema Ciutadà Compromès organitzat per ACICOM amb la col·laboració d’ACPV.
URL:https://octubre.cat/activitat/fccc-2024-sessio-de-curtmetratges/
LOCATION:Sala d’actes
CATEGORIES:Festival de Cinema Ciutadà Compromès 2024
ATTACH;FMTTYPE=image/jpeg:https://octubre.cat/www/wp-content/uploads/2024/10/banner-FCCC-2024.jpg
END:VEVENT
END:VCALENDAR