BEGIN:VCALENDAR
VERSION:2.0
PRODID:-//Octubre Centre de Cultura Contemporània - ECPv5.1.6//NONSGML v1.0//EN
CALSCALE:GREGORIAN
METHOD:PUBLISH
X-WR-CALNAME:Octubre Centre de Cultura Contemporània
X-ORIGINAL-URL:https://octubre.cat
X-WR-CALDESC:Events for Octubre Centre de Cultura Contemporània
BEGIN:VTIMEZONE
TZID:Europe/Andorra
BEGIN:DAYLIGHT
TZOFFSETFROM:+0100
TZOFFSETTO:+0200
TZNAME:CEST
DTSTART:20240331T010000
END:DAYLIGHT
BEGIN:STANDARD
TZOFFSETFROM:+0200
TZOFFSETTO:+0100
TZNAME:CET
DTSTART:20241027T010000
END:STANDARD
END:VTIMEZONE
BEGIN:VEVENT
DTSTART;TZID=Europe/Andorra:20241017T190000
DTEND;TZID=Europe/Andorra:20241017T190000
DTSTAMP:20260421T121357
CREATED:20241001T164435Z
LAST-MODIFIED:20250713T074240Z
UID:21752-1729191600-1729191600@octubre.cat
SUMMARY:Presentació del llibre Cavall\, atleta\, ocell\, de Manuel Baixauli
DESCRIPTION:Amb l’autor acompanyat per Xavier Aliaga. \nQuè es pot fer davant d’un mal pas\, si tot intent de superar-lo fracassa? Fins on pot el desesper ser un estímul per a la imaginació? Alapont\, un fuster humil i perfeccionista\, observa amb preocupació la deriva del seu fill\, Aristides\, que tot just ha entrat a l’adolescència i ha estat conquerit per l’apatia.\nLúcida i intimista\, Cavall\, atleta\, ocell aborda la complexitat de les relacions paternofilials\, alhora que mostra què és capaç de fer un pare per salvar allò que més s’estima al món. \n  \n \n(Periscopi)
URL:https://octubre.cat/activitat/presentacio-del-llibre-cavall-atleta-ocell-de-manuel-baixauli/
LOCATION:Llibreria Fan Set
CATEGORIES:Literatura
ATTACH;FMTTYPE=image/jpeg:https://octubre.cat/www/wp-content/uploads/2024/10/manuel-bauxauli.jpg
END:VEVENT
BEGIN:VEVENT
DTSTART;TZID=Europe/Andorra:20241017T193000
DTEND;TZID=Europe/Andorra:20241017T193000
DTSTAMP:20260421T121358
CREATED:20241014T081846Z
LAST-MODIFIED:20241014T081846Z
UID:21797-1729193400-1729193400@octubre.cat
SUMMARY:NVCLI – Sessió terapèutica #9
DESCRIPTION:Noish\n+\nSuay
URL:https://octubre.cat/activitat/nvcli-sessio-terapeutica-9/
LOCATION:Sala d’actes
CATEGORIES:NVCLI
ATTACH;FMTTYPE=image/jpeg:https://octubre.cat/www/wp-content/uploads/2024/10/nvcli-9.jpg
END:VEVENT
END:VCALENDAR