BEGIN:VCALENDAR
VERSION:2.0
PRODID:-//Octubre Centre de Cultura Contemporània - ECPv5.1.6//NONSGML v1.0//EN
CALSCALE:GREGORIAN
METHOD:PUBLISH
X-WR-CALNAME:Octubre Centre de Cultura Contemporània
X-ORIGINAL-URL:https://octubre.cat
X-WR-CALDESC:Events for Octubre Centre de Cultura Contemporània
BEGIN:VTIMEZONE
TZID:Europe/Andorra
BEGIN:DAYLIGHT
TZOFFSETFROM:+0100
TZOFFSETTO:+0200
TZNAME:CEST
DTSTART:20240331T010000
END:DAYLIGHT
BEGIN:STANDARD
TZOFFSETFROM:+0200
TZOFFSETTO:+0100
TZNAME:CET
DTSTART:20241027T010000
END:STANDARD
END:VTIMEZONE
BEGIN:VEVENT
DTSTART;TZID=Europe/Andorra:20240913T190000
DTEND;TZID=Europe/Andorra:20241011T190000
DTSTAMP:20260421T110810
CREATED:20240723T083332Z
LAST-MODIFIED:20250710T104250Z
UID:21570-1726254000-1728673200@octubre.cat
SUMMARY:La recerca d’Ítaca. La poesia de Lluís Alpera
DESCRIPTION:Lluís Alpera va nàixer al Cabanyal l’any 1938 i va morir a Alacant el 2018. Poeta\, professor\, crític\, animador cultural i fundador del Departament de Filologia Catalana de la Universitat d’Alacant. \nÉs autor d’una vintena de poemaris; els primers s’agrupen en el volum Dades de la història civil d’un valencià (1980) i en el darrer Ulisses i la Mar dels Sargassos (2017) es recull la seua obra completa. El conjunt dels seus textos crítics s’agrupen en els volums Sobre poetes valencians i altres escrits (1990-2008). \nAquesta exposició repassa la seua obra poètica\, en segueix l’evolució al llarg de les darreres dècades i en destaca la connexió amb els corrents ideològics i estètics del moment. \n  \n \n  \nOrganitza:\nServei de Llengües\nDepartament de Filologia Catalana\nGrup de Recerca de Literatura Contemporània\nVicerectorat d’Estudis\, Qualitat i Llengües de la Universitat d’Alacant \n \nCol·labora:\nArxiu General Universitat d’Alacant\nBiblioteca de la Universitat d’Alacant\nInstitut Interuniversitari de Filologia Valenciana \nComissaris:\nEnric Balaguer Pascual i Faust Ripoll Domènech \nDisseny:\nStefano Beltrán Bonella \nAgraïments:\nDavid Alpera i Arxiu EL TEMPS
URL:https://octubre.cat/activitat/la-recerca-ditaca-la-poesia-de-lluis-alpera/
LOCATION:Sala d’exposicions
CATEGORIES:Exposicions,Literatura
ATTACH;FMTTYPE=image/jpeg:https://octubre.cat/www/wp-content/uploads/2024/07/alpera_portada.jpg
END:VEVENT
BEGIN:VEVENT
DTSTART;TZID=Europe/Andorra:20241007T190000
DTEND;TZID=Europe/Andorra:20241007T190000
DTSTAMP:20260421T110811
CREATED:20240919T164320Z
LAST-MODIFIED:20240919T164320Z
UID:21705-1728327600-1728327600@octubre.cat
SUMMARY:Presentació del llibre Jaque a la democracia\, de Joaquim Bosch
DESCRIPTION:Amb l’autor acompanyat pels periodistes Francesc Arabí i Laura Ballester. \nUna anàlisi intel·ligent i necessària sobre la situació de la nostra democràcia al món actual. \nDesprés de dècades d’estabilitat democràtica\, s’estan produint senyals d’alarma amb un soroll cada vegada més ensordidor. El descontentament generalitzat provocat per les grans desigualtats socials\, l’encariment de la vida o la crispació política es dirigeixen\, cada vegada més\, cap al qüestionament dels principis democràtics. La presència de grups i partits polítics ultraconservadors\, la finalitat dels quals és sacsejar els fonaments del consens\, és ja una realitat preocupant a qualsevol país occidental. I Espanya no és aliena a aquesta deriva autoritària internacional. \n  \n \n(Ariel)
URL:https://octubre.cat/activitat/presentacio-del-llibre-jaque-a-la-democracia-de-joaquim-bosch/
LOCATION:Hall
CATEGORIES:Conferències i congressos,Literatura
ATTACH;FMTTYPE=image/jpeg:https://octubre.cat/www/wp-content/uploads/2024/09/Joaquim_Bosch_de_Jueces_para_la_Democracia_en_una_imagen_de_archivo.jpg
END:VEVENT
END:VCALENDAR