BEGIN:VCALENDAR
VERSION:2.0
PRODID:-//Octubre Centre de Cultura Contemporània - ECPv5.1.6//NONSGML v1.0//EN
CALSCALE:GREGORIAN
METHOD:PUBLISH
X-WR-CALNAME:Octubre Centre de Cultura Contemporània
X-ORIGINAL-URL:https://octubre.cat
X-WR-CALDESC:Events for Octubre Centre de Cultura Contemporània
BEGIN:VTIMEZONE
TZID:Europe/Andorra
BEGIN:DAYLIGHT
TZOFFSETFROM:+0100
TZOFFSETTO:+0200
TZNAME:CEST
DTSTART:20240331T010000
END:DAYLIGHT
BEGIN:STANDARD
TZOFFSETFROM:+0200
TZOFFSETTO:+0100
TZNAME:CET
DTSTART:20241027T010000
END:STANDARD
END:VTIMEZONE
BEGIN:VEVENT
DTSTART;TZID=Europe/Andorra:20240614T190000
DTEND;TZID=Europe/Andorra:20240725T190000
DTSTAMP:20260421T165145
CREATED:20240605T101026Z
LAST-MODIFIED:20250710T104218Z
UID:21412-1718391600-1721934000@octubre.cat
SUMMARY:Altre(s) Identitat(s)
DESCRIPTION:Exposició del Màster en Fotografia\, Art i Tècnica de la Universitat Politècnica de València \nObres de:\nKarol Hincapié\nMaría Galindo\nIsmael Marco-Carrillo\nJavier Arboledas\nSofía Alemán \nAltre(s) Identitat(s) celebra la frescor\, la diversitat i la pluralitat de cinc artistes emergents que revelen temàtiques al voltant de l’exploració de múltiples identitats\, proposant un diàleg entre la tradició i les problemàtiques contemporànies. \nEls artistes\, en aquesta mostra\, ofereixen una nova manera de mirar el món\, la seua\, des de prismes com l’oblit\, la infància\, l’arxiu\, la modernitat estètica\, la condició documental de la fotografia\, el dol\, la memòria\, la família\, la relació entre l’espai i el temps o l’autobiografia. Aquestes formes de veure ens revelen els interessos i les maneres d’interpretar el món d’aquesta generació de fotògrafs emergents. \nComissari: Pedro Vicente-Mullor \n \n—\nOrganitzat pel Màster en Fotografia amb la col·laboració del Departament de Dibuix i la Facultat de Belles Arts de la Universitat Politècnica de València (UPV) i de l’Octubre CCC.
URL:https://octubre.cat/activitat/altres-identitats/
LOCATION:Sala d’exposicions
CATEGORIES:Exposicions
ATTACH;FMTTYPE=image/jpeg:https://octubre.cat/www/wp-content/uploads/2024/06/logo-master.jpg
END:VEVENT
BEGIN:VEVENT
DTSTART;TZID=Europe/Andorra:20240712T203000
DTEND;TZID=Europe/Andorra:20240712T203000
DTSTAMP:20260421T165145
CREATED:20240703T151848Z
LAST-MODIFIED:20240703T153025Z
UID:21518-1720816200-1720816200@octubre.cat
SUMMARY:Dansa del Ventre Russafa
DESCRIPTION:Un espectacle d’arrels mediterrànies on les músiques remeten a uns paisatges geogràfics\, humans i culturals ben nostres. \nPrograma:\n1. Ana fi Intizarak\, Umm-Kulthum\n2. Ya Bent el Sultan\, Ahmed Adameyah\n3. Neue\, Balkan Paradise\n4. Bus to Balkans\, Beats Antique\n5. Emancipación\, Osvaldo Pugliese (tango)\n6. La Espuela\, Juan D’Arienzo (milonga)\n7. Raqset el Darbouka\, Khader Ahmad\n8. Malaguenya de Barxeta\, Obrint Pas amb Pep el Botifarra\n9. Silver Fountain\, Rim Banna \n \n(imatge: Antoni Moret)
URL:https://octubre.cat/activitat/dansa-del-ventre-russafa/
LOCATION:Hall
CATEGORIES:Música
ATTACH;FMTTYPE=image/jpeg:https://octubre.cat/www/wp-content/uploads/2024/07/dansa-ventre-russafa.jpg
END:VEVENT
END:VCALENDAR