BEGIN:VCALENDAR
VERSION:2.0
PRODID:-//Octubre Centre de Cultura Contemporània - ECPv5.1.6//NONSGML v1.0//EN
CALSCALE:GREGORIAN
METHOD:PUBLISH
X-WR-CALNAME:Octubre Centre de Cultura Contemporània
X-ORIGINAL-URL:https://octubre.cat
X-WR-CALDESC:Events for Octubre Centre de Cultura Contemporània
BEGIN:VTIMEZONE
TZID:Europe/Andorra
BEGIN:DAYLIGHT
TZOFFSETFROM:+0100
TZOFFSETTO:+0200
TZNAME:CEST
DTSTART:20240331T010000
END:DAYLIGHT
BEGIN:STANDARD
TZOFFSETFROM:+0200
TZOFFSETTO:+0100
TZNAME:CET
DTSTART:20241027T010000
END:STANDARD
END:VTIMEZONE
BEGIN:VEVENT
DTSTART;TZID=Europe/Andorra:20240614T190000
DTEND;TZID=Europe/Andorra:20240725T190000
DTSTAMP:20260421T180653
CREATED:20240605T101026Z
LAST-MODIFIED:20250710T104218Z
UID:21412-1718391600-1721934000@octubre.cat
SUMMARY:Altre(s) Identitat(s)
DESCRIPTION:Exposició del Màster en Fotografia\, Art i Tècnica de la Universitat Politècnica de València \nObres de:\nKarol Hincapié\nMaría Galindo\nIsmael Marco-Carrillo\nJavier Arboledas\nSofía Alemán \nAltre(s) Identitat(s) celebra la frescor\, la diversitat i la pluralitat de cinc artistes emergents que revelen temàtiques al voltant de l’exploració de múltiples identitats\, proposant un diàleg entre la tradició i les problemàtiques contemporànies. \nEls artistes\, en aquesta mostra\, ofereixen una nova manera de mirar el món\, la seua\, des de prismes com l’oblit\, la infància\, l’arxiu\, la modernitat estètica\, la condició documental de la fotografia\, el dol\, la memòria\, la família\, la relació entre l’espai i el temps o l’autobiografia. Aquestes formes de veure ens revelen els interessos i les maneres d’interpretar el món d’aquesta generació de fotògrafs emergents. \nComissari: Pedro Vicente-Mullor \n \n—\nOrganitzat pel Màster en Fotografia amb la col·laboració del Departament de Dibuix i la Facultat de Belles Arts de la Universitat Politècnica de València (UPV) i de l’Octubre CCC.
URL:https://octubre.cat/activitat/altres-identitats/
LOCATION:Sala d’exposicions
CATEGORIES:Exposicions
ATTACH;FMTTYPE=image/jpeg:https://octubre.cat/www/wp-content/uploads/2024/06/logo-master.jpg
END:VEVENT
BEGIN:VEVENT
DTSTART;TZID=Europe/Andorra:20240627T183000
DTEND;TZID=Europe/Andorra:20240627T183000
DTSTAMP:20260421T180653
CREATED:20240528T155031Z
LAST-MODIFIED:20240528T160539Z
UID:21354-1719513000-1719513000@octubre.cat
SUMMARY:Cinema Jove 2024: Sleepy Hollow\, de Tim Burton
DESCRIPTION:Amèrica del Nord\, finals del segle XVIII. El conestable Ichabod Crane\, un investigador de Nova York que utilitza  mètodes avançats és enviat al xicotet i remot poble de Sleepy Hollow per a descobrir què hi ha de veritat en la llegenda d’un genet sense cap que terroritza als habitants del lloc.  \nDirecció: Tim Burton\nGuió: Andrew Kevin Walker sobre una novel·la de Washington Irving\nRepartiment: Johnny Depp\, Christina Ricci\, Christopher Walken\, Lisa Marie\, Casper Van Dien\, Marc Pickering\, Jeffrey Jones\nMúsica: Danny Elfman\nFotografia: Emmanuel Lubezki\nProducció: Mandalay Pictures\, Scott Rudin Productions\, American Zoetrope\nEstat Units\, 1999\nDurada: 105’ \n  \n \n—\nOrganitzat pel festival Cinema Jove amb la col·laboració de l’Octubre CCC.\nL’edició número 39 de Cinema Jove\, Festival Internacional de València\, se celebra del 20 al 29 de juny a diversos llocs de la ciutat de València (Rialto\, Teatre Principal\, Fábrica de Hielo\, CM Rector Peset\, Centre del Carme\, Espai Túria) i a l’Octubre CCC presentem la secció «El jove Tim Burton» dedicada a les primeres produccions del cineasta californià Tim Burton.
URL:https://octubre.cat/activitat/cinema-jove-2024-sleepy-hollow-de-tim-burton/
LOCATION:Sala d’actes
CATEGORIES:Cinema Jove 2024
ATTACH;FMTTYPE=image/jpeg:https://octubre.cat/www/wp-content/uploads/2024/05/SLEEPY-PRINCIPAL-1024x576-1.jpg
END:VEVENT
BEGIN:VEVENT
DTSTART;TZID=Europe/Andorra:20240627T190000
DTEND;TZID=Europe/Andorra:20240627T190000
DTSTAMP:20260421T180653
CREATED:20240531T161218Z
LAST-MODIFIED:20250713T073544Z
UID:21399-1719514800-1719514800@octubre.cat
SUMMARY:Darreres publicacions de la Càtedra Joan Fuster
DESCRIPTION:Els llibres que es presenten són:\n—Pensar l’assaig en el segle XXI (volum col·lectiu coordinat per Gonçal López-Pampló)\n—Joan Fuster\, traductor d’Albert Camus\, de Francesca Cerdà. \nConversa entre Francesca Cerdà i els autors de sengles capítols de Pensar l‘assaig en el segle XXI\, Francisco Fuster i Martí Domínguez\, moderada per Gonçal López-Pampló.\nI en acabar\, orxata gentilesa de la Càtedra Fuster. \n(Publicacions de la Universitat de València)
URL:https://octubre.cat/activitat/darreres-publicacions-de-la-catedra-joan-fuster/
LOCATION:Llibreria Fan Set
CATEGORIES:Literatura
ATTACH;FMTTYPE=image/jpeg:https://octubre.cat/www/wp-content/uploads/2022/09/joan-fuster.jpg
END:VEVENT
END:VCALENDAR