BEGIN:VCALENDAR
VERSION:2.0
PRODID:-//Octubre Centre de Cultura Contemporània - ECPv5.1.6//NONSGML v1.0//EN
CALSCALE:GREGORIAN
METHOD:PUBLISH
X-WR-CALNAME:Octubre Centre de Cultura Contemporània
X-ORIGINAL-URL:https://octubre.cat
X-WR-CALDESC:Events for Octubre Centre de Cultura Contemporània
BEGIN:VTIMEZONE
TZID:Europe/Andorra
BEGIN:DAYLIGHT
TZOFFSETFROM:+0100
TZOFFSETTO:+0200
TZNAME:CEST
DTSTART:20240331T010000
END:DAYLIGHT
BEGIN:STANDARD
TZOFFSETFROM:+0200
TZOFFSETTO:+0100
TZNAME:CET
DTSTART:20241027T010000
END:STANDARD
END:VTIMEZONE
BEGIN:VEVENT
DTSTART;TZID=Europe/Andorra:20240614T190000
DTEND;TZID=Europe/Andorra:20240725T190000
DTSTAMP:20260421T180703
CREATED:20240605T101026Z
LAST-MODIFIED:20250710T104218Z
UID:21412-1718391600-1721934000@octubre.cat
SUMMARY:Altre(s) Identitat(s)
DESCRIPTION:Exposició del Màster en Fotografia\, Art i Tècnica de la Universitat Politècnica de València \nObres de:\nKarol Hincapié\nMaría Galindo\nIsmael Marco-Carrillo\nJavier Arboledas\nSofía Alemán \nAltre(s) Identitat(s) celebra la frescor\, la diversitat i la pluralitat de cinc artistes emergents que revelen temàtiques al voltant de l’exploració de múltiples identitats\, proposant un diàleg entre la tradició i les problemàtiques contemporànies. \nEls artistes\, en aquesta mostra\, ofereixen una nova manera de mirar el món\, la seua\, des de prismes com l’oblit\, la infància\, l’arxiu\, la modernitat estètica\, la condició documental de la fotografia\, el dol\, la memòria\, la família\, la relació entre l’espai i el temps o l’autobiografia. Aquestes formes de veure ens revelen els interessos i les maneres d’interpretar el món d’aquesta generació de fotògrafs emergents. \nComissari: Pedro Vicente-Mullor \n \n—\nOrganitzat pel Màster en Fotografia amb la col·laboració del Departament de Dibuix i la Facultat de Belles Arts de la Universitat Politècnica de València (UPV) i de l’Octubre CCC.
URL:https://octubre.cat/activitat/altres-identitats/
LOCATION:Sala d’exposicions
CATEGORIES:Exposicions
ATTACH;FMTTYPE=image/jpeg:https://octubre.cat/www/wp-content/uploads/2024/06/logo-master.jpg
END:VEVENT
BEGIN:VEVENT
DTSTART;TZID=Europe/Andorra:20240621T183000
DTEND;TZID=Europe/Andorra:20240621T183000
DTSTAMP:20260421T180703
CREATED:20240531T160315Z
LAST-MODIFIED:20250713T073503Z
UID:21396-1718994600-1718994600@octubre.cat
SUMMARY:Presentació del llibre Les papallones del kebab\, de Lliris Picó
DESCRIPTION:43 Premi Enric Valor de narrativa juvenil\nAmb l’autora acompanyada per l’escriptor Josep Antoni Fluixà i l’editora Carmen Pardo. \n«El meu nom és Akila. Significa ‘intel·ligent’. Tota la vida que m’ho repeteixen\, això del significat\, com si fora una gran cosa\, però jo no puc deixar de pensar que la meua germana és la ‘guapa’\, la nit estrelada\, i jo… la ‘llesta’» \n  \n \n(Edicions del Bullent)
URL:https://octubre.cat/activitat/presentacio-del-llibre-les-papallones-del-kebab-de-lliris-pico/
LOCATION:Llibreria Fan Set
CATEGORIES:Literatura
ATTACH;FMTTYPE=image/jpeg:https://octubre.cat/www/wp-content/uploads/2024/05/lliris-pico.jpg
END:VEVENT
BEGIN:VEVENT
DTSTART;TZID=Europe/Andorra:20240621T190000
DTEND;TZID=Europe/Andorra:20240621T190000
DTSTAMP:20260421T180704
CREATED:20240615T145154Z
LAST-MODIFIED:20240618T152947Z
UID:21466-1718996400-1718996400@octubre.cat
SUMMARY:Dialektik: «Estrats del temps» amb Nikolaienko + Mecánica Clásica
DESCRIPTION:Nikolaienko: Meta release day\nMecánica Clásica (València): premiere \nDmytro Nikolaienko és un artista sonor ucraïnès que viu actualment a Àmsterdam. Nikolaienko treballa principalment amb material musical obsolet\, que utilitza per a produir cintes i loops de casset com a material base per als seus collages sonors\, com en el seu recent àlbum Rings (2021)\, publicat en el segell Faitiche de Jan Jelinek\, o Nostalgia por Mesozoica (2022)\, un artefacte irònic construït al voltant de l’exòtica i la space-age. Nikolaienko encaixa plenament\, tant pel que fa a qüestions musicals com tecnològiques\, amb l’afirmació que va fer Simon Reynolds sobre que cada país té la seua pròpia ‘hautology. \nAl mateix temps\, Dmytro Nikolaienko també és fundador de Muscut (2012\, Kíev)\, un segell centrat en artistes moderns d’avantguarda d’Europa de l’Est (Chillera\, Pavel Milyakov\, Mlin Patz\, Bryozone\, Indirect\, etc.) i també fundador de Shukai\, un segell d’arxiu centrat a tornar a la vida les cintes perdudes dels artistes infravalorats i perseguits per la censura del període soviètic (Valentina Goncharova\, Volodymyr Bystriakov\, Shapoval Sextet\, etc.). \nNikolaienko presentarà a la sessió Dialektik\, el mateix dia de la seua publicació\, el seu darrer treball Meta: «És un àlbum on m’he limitat a utilitzar només dos instruments: un metal·lòfon i una gravadora de quatre pistes. Les exploracions del metal·lòfon i els sons de les cintes es deconstrueixen i es reintegren en pistes amb bucles de casset. Aquest llançament forma part de la serie d’enguany del segell Muscut\, dedicada no a l’electrònica sinó a la música electroacústica centrada en l’enregistrament i la producció analògics». \n  \n \n  \nLa banda kosmische valenciana Mecánica Clásica estrenarà obres d’un àlbum encara en construcció. La seua música renova les extenses topografies obertes per pioners com ara Craig Leon\, Jon Hassell\, Marc Barreca o Clúster. El projecte s’expandeix sobre aquestes influències\, endinsant-se en un món sonor hipnòtic i lluent que troba punts en comú amb artistes com O Yuki Conjugate\, Bitchin Baixes\, K. Leimer o Kreidler. \n—\nEl cicle “Estrats del temps” està organitzat per Dialektik amb la col·laboració del festival Volumens i de l’Octubre CCC.
URL:https://octubre.cat/activitat/dialektik-estrats-del-temps-amb-nikolaienko-mecanica-clasica/
LOCATION:Sala d’actes
CATEGORIES:Dialektik
ATTACH;FMTTYPE=image/jpeg:https://octubre.cat/www/wp-content/uploads/2024/06/Nikolaienko-photo-by-Dmytro-Prutkin-1.jpg
END:VEVENT
END:VCALENDAR